BEGIN:VCALENDAR
VERSION:2.0
PRODID:-//Oak City Brewing Company - ECPv6.15.20//NONSGML v1.0//EN
CALSCALE:GREGORIAN
METHOD:PUBLISH
X-WR-CALNAME:Oak City Brewing Company
X-ORIGINAL-URL:https://oakcitybrewingcompany.com
X-WR-CALDESC:Events for Oak City Brewing Company
REFRESH-INTERVAL;VALUE=DURATION:PT1H
X-Robots-Tag:noindex
X-PUBLISHED-TTL:PT1H
BEGIN:VTIMEZONE
TZID:America/Halifax
BEGIN:DAYLIGHT
TZOFFSETFROM:-0400
TZOFFSETTO:-0300
TZNAME:ADT
DTSTART:20240310T060000
END:DAYLIGHT
BEGIN:STANDARD
TZOFFSETFROM:-0300
TZOFFSETTO:-0400
TZNAME:AST
DTSTART:20241103T050000
END:STANDARD
BEGIN:DAYLIGHT
TZOFFSETFROM:-0400
TZOFFSETTO:-0300
TZNAME:ADT
DTSTART:20250309T060000
END:DAYLIGHT
BEGIN:STANDARD
TZOFFSETFROM:-0300
TZOFFSETTO:-0400
TZNAME:AST
DTSTART:20251102T050000
END:STANDARD
BEGIN:DAYLIGHT
TZOFFSETFROM:-0400
TZOFFSETTO:-0300
TZNAME:ADT
DTSTART:20260308T060000
END:DAYLIGHT
BEGIN:STANDARD
TZOFFSETFROM:-0300
TZOFFSETTO:-0400
TZNAME:AST
DTSTART:20261101T050000
END:STANDARD
END:VTIMEZONE
BEGIN:VEVENT
DTSTART;TZID=America/Halifax:20250825T180000
DTEND;TZID=America/Halifax:20250825T200000
DTSTAMP:20260421T055345
CREATED:20250819T174233Z
LAST-MODIFIED:20250819T174233Z
UID:21077-1756144800-1756152000@oakcitybrewingcompany.com
SUMMARY:Music Bingo
DESCRIPTION:Join us and test your tune knowledge with a cold beer in hand for a fun night of Music Bingo at Oak City!\n\nBring your friends\, grab a pint\, and get ready for a night full of great music and even better beer.\n\nAugust 25th Music Bingo Themes:Summer Vibes Only & Back to School Bash
URL:https://oakcitybrewingcompany.com/event/music-bingo/
CATEGORIES:Brewery Events,Events,Weekly Events
ATTACH;FMTTYPE=image/png:https://oakcitybrewingcompany.com/wp-content/uploads/2025/08/Music-Bingo-1.png
END:VEVENT
BEGIN:VEVENT
DTSTART;TZID=America/Halifax:20250825T180000
DTEND;TZID=America/Halifax:20250825T200000
DTSTAMP:20260421T055345
CREATED:20250825T101709Z
LAST-MODIFIED:20250825T101709Z
UID:21085-1756144800-1756152000@oakcitybrewingcompany.com
SUMMARY:All On Top Dogz
DESCRIPTION:
URL:https://oakcitybrewingcompany.com/event/all-on-top-dogz-2/
CATEGORIES:Food Trucks
END:VEVENT
END:VCALENDAR