BEGIN:VCALENDAR
VERSION:2.0
PRODID:-//Oak City Brewing Company - ECPv6.15.20//NONSGML v1.0//EN
CALSCALE:GREGORIAN
METHOD:PUBLISH
X-WR-CALNAME:Oak City Brewing Company
X-ORIGINAL-URL:https://oakcitybrewingcompany.com
X-WR-CALDESC:Events for Oak City Brewing Company
REFRESH-INTERVAL;VALUE=DURATION:PT1H
X-Robots-Tag:noindex
X-PUBLISHED-TTL:PT1H
BEGIN:VTIMEZONE
TZID:America/Halifax
BEGIN:DAYLIGHT
TZOFFSETFROM:-0400
TZOFFSETTO:-0300
TZNAME:ADT
DTSTART:20250309T060000
END:DAYLIGHT
BEGIN:STANDARD
TZOFFSETFROM:-0300
TZOFFSETTO:-0400
TZNAME:AST
DTSTART:20251102T050000
END:STANDARD
BEGIN:DAYLIGHT
TZOFFSETFROM:-0400
TZOFFSETTO:-0300
TZNAME:ADT
DTSTART:20260308T060000
END:DAYLIGHT
BEGIN:STANDARD
TZOFFSETFROM:-0300
TZOFFSETTO:-0400
TZNAME:AST
DTSTART:20261101T050000
END:STANDARD
BEGIN:DAYLIGHT
TZOFFSETFROM:-0400
TZOFFSETTO:-0300
TZNAME:ADT
DTSTART:20270314T060000
END:DAYLIGHT
BEGIN:STANDARD
TZOFFSETFROM:-0300
TZOFFSETTO:-0400
TZNAME:AST
DTSTART:20271107T050000
END:STANDARD
END:VTIMEZONE
BEGIN:VEVENT
DTSTART;TZID=America/Halifax:20260412T110000
DTEND;TZID=America/Halifax:20260412T140000
DTSTAMP:20260421T085217
CREATED:20260318T153108Z
LAST-MODIFIED:20260318T153109Z
UID:21835-1775991600-1776002400@oakcitybrewingcompany.com
SUMMARY:Farmers Market
DESCRIPTION:Fresh vibes\, local finds! Join us for our first Farmers Market of the year on Sunday\, April 12th at Oak City Brewing from 11 AM – 2 PM!Sip\, shop\, enjoy live music\, and support local farms and businesses—because fresh produce pairs perfectly with fresh beer. 𝗩𝗲𝗻𝗱𝗼𝗿𝘀:TBA\n\n\nYou can apply to our markets here: https://forms.gle/hYEWheFeBQZj1LMg7These farmer’s markets will be for consumable goods only
URL:https://oakcitybrewingcompany.com/event/farmers-market-6/
CATEGORIES:Brewery Events,Events
ATTACH;FMTTYPE=image/png:https://oakcitybrewingcompany.com/wp-content/uploads/2026/03/April-Farmers-Market.png
END:VEVENT
BEGIN:VEVENT
DTSTART;TZID=America/Halifax:20260412T110000
DTEND;TZID=America/Halifax:20260412T140000
DTSTAMP:20260421T085217
CREATED:20260325T153647Z
LAST-MODIFIED:20260325T153647Z
UID:21903-1775991600-1776002400@oakcitybrewingcompany.com
SUMMARY:Waffee Wagon
DESCRIPTION:
URL:https://oakcitybrewingcompany.com/event/waffee-wagon/
CATEGORIES:Food Trucks
END:VEVENT
BEGIN:VEVENT
DTSTART;TZID=America/Halifax:20260412T110000
DTEND;TZID=America/Halifax:20260412T170000
DTSTAMP:20260421T085217
CREATED:20260318T160731Z
LAST-MODIFIED:20260318T161347Z
UID:21874-1775991600-1776013200@oakcitybrewingcompany.com
SUMMARY:NC Pint Day Glass Release
DESCRIPTION:2026 NC Pint Day Announced!!! \n\nOn Sunday\, April 12\, breweries and retail partners across the state will celebrate North Carolina craft beer with the official NC Pint Day glass. Build your collection with the NC Craft Brewers Guild’s third annual NC Pint Day!\n\n$1 of each pint glass sold will be directly donated to the Guild to support our mission to promote\, prepare\, and protect independent craft breweries in NC.\nAbout the design \nThis year’s NC Pint Day design brings the spirit of North Carolina to life through an illustrated celebration of music\, beer\, agriculture\, and community by Asheville-based artist Sadie Tynch!\n\nWrapped around the glass is native wildlife and botanical elements from across the state–joining hands in a joyful dance and sharing beer. Each character represents a different region of North Carolina\, from the blanket flower of the Outer Banks to the black bear of the Western NC\, with subtle nods to our state’s agriculture and landscapes in the background.\n\nOur 2026 design is a visual toast NC craft beer\, reminding us it isn’t just about what’s in the glass—it’s about where it comes from and who we share it with.\nLearn more  drinkncbeer.org/nc-pint-day 
URL:https://oakcitybrewingcompany.com/event/nc-pint-day/
ATTACH;FMTTYPE=image/png:https://oakcitybrewingcompany.com/wp-content/uploads/2026/03/Screenshot-2026-02-05-at-12.26.57-PM-scaled.png
END:VEVENT
END:VCALENDAR