BEGIN:VCALENDAR
VERSION:2.0
PRODID:-//Oak City Brewing Company - ECPv6.15.20//NONSGML v1.0//EN
CALSCALE:GREGORIAN
METHOD:PUBLISH
X-ORIGINAL-URL:https://oakcitybrewingcompany.com
X-WR-CALDESC:Events for Oak City Brewing Company
REFRESH-INTERVAL;VALUE=DURATION:PT1H
X-Robots-Tag:noindex
X-PUBLISHED-TTL:PT1H
BEGIN:VTIMEZONE
TZID:America/Halifax
BEGIN:DAYLIGHT
TZOFFSETFROM:-0400
TZOFFSETTO:-0300
TZNAME:ADT
DTSTART:20250309T060000
END:DAYLIGHT
BEGIN:STANDARD
TZOFFSETFROM:-0300
TZOFFSETTO:-0400
TZNAME:AST
DTSTART:20251102T050000
END:STANDARD
BEGIN:DAYLIGHT
TZOFFSETFROM:-0400
TZOFFSETTO:-0300
TZNAME:ADT
DTSTART:20260308T060000
END:DAYLIGHT
BEGIN:STANDARD
TZOFFSETFROM:-0300
TZOFFSETTO:-0400
TZNAME:AST
DTSTART:20261101T050000
END:STANDARD
BEGIN:DAYLIGHT
TZOFFSETFROM:-0400
TZOFFSETTO:-0300
TZNAME:ADT
DTSTART:20270314T060000
END:DAYLIGHT
BEGIN:STANDARD
TZOFFSETFROM:-0300
TZOFFSETTO:-0400
TZNAME:AST
DTSTART:20271107T050000
END:STANDARD
END:VTIMEZONE
BEGIN:VEVENT
DTSTART;TZID=America/Halifax:20260503T140000
DTEND;TZID=America/Halifax:20260503T160000
DTSTAMP:20260421T100112
CREATED:20260417T165820Z
LAST-MODIFIED:20260417T165820Z
UID:21928-1777816800-1777824000@oakcitybrewingcompany.com
SUMMARY:Mother’s Day Sip & Pour: A Candle Making Workshop w/ Everglow Candle Co.
DESCRIPTION:Mother’s Day Sip & Pour: A Candle Making Workshop\n\nCelebrate Mother’s Day with a relaxing afternoon filled with creativity\, laughter\, and great drinks at Oak City Brewing on May 3rd from 2 to 4 pm! Join us for a Mother’s Day Sip & Pour Candle Making Workshop\, perfect for moms\, daughters\, friends\, or anyone looking to enjoy a thoughtful and hands-on experience together. Sip your favorite brew\, slow down\, and create a candle that’s as special as the memories you’ll make \n\nMake this Mother’s Day extra special with quality time\, creativity\, and candles \n\n You’ll Learn:\n The Magic of the Flame How to Distinguish Scent Notes Trimming & Finishing Candle Safety & Care\n\n What’s Included:\n• 1 Tumbler Candle with Bamboo Lid• Choose from 3 Curated Scents• Fun\, fun\, fun\n\n Must be 16+ to participate Event is rain or shine All purchases are final\n***Advanced Registration Required***\n\nSign up here: https://www.everglowcandleco.com/product/candle-making-workshop-oak-city-brewery-mothers-day-/HXNYTTMGIDBCZO4H4MAVDOVM?cp=true&sa=true&sbp=false&q=false&fbclid=IwY2xjawRPRbRleHRuA2FlbQIxMABicmlkETEwR1RVcHhDVWNkUUNEbkFWc3J0YwZhcHBfaWQQMjIyMDM5MTc4ODIwMDg5MgABHvKI1Sla1ZZKRcz_MfsIKGwqlsRocQ0CMP_02c0I-Kvf1mMVu7TQDpxpnoE-_aem_fGei57RYmSvyG-uYpXCi7g
URL:https://oakcitybrewingcompany.com/event/mothers-day-sip-pour-a-candle-making-workshop-w-everglow-candle-co/
ATTACH;FMTTYPE=image/jpeg:https://oakcitybrewingcompany.com/wp-content/uploads/2026/04/SipPour-w-Everglow-Candle-Co.jpg
END:VEVENT
BEGIN:VEVENT
DTSTART;TZID=America/Halifax:20260503T140000
DTEND;TZID=America/Halifax:20260503T180000
DTSTAMP:20260421T100112
CREATED:20260417T165528Z
LAST-MODIFIED:20260417T165528Z
UID:21926-1777816800-1777831200@oakcitybrewingcompany.com
SUMMARY:Copperheads Burgers
DESCRIPTION:
URL:https://oakcitybrewingcompany.com/event/copperheads-burgers-6/
END:VEVENT
END:VCALENDAR