BEGIN:VCALENDAR
VERSION:2.0
PRODID:-//Oak City Brewing Company - ECPv6.15.20//NONSGML v1.0//EN
CALSCALE:GREGORIAN
METHOD:PUBLISH
X-ORIGINAL-URL:https://oakcitybrewingcompany.com
X-WR-CALDESC:Events for Oak City Brewing Company
REFRESH-INTERVAL;VALUE=DURATION:PT1H
X-Robots-Tag:noindex
X-PUBLISHED-TTL:PT1H
BEGIN:VTIMEZONE
TZID:America/Halifax
BEGIN:DAYLIGHT
TZOFFSETFROM:-0400
TZOFFSETTO:-0300
TZNAME:ADT
DTSTART:20240310T060000
END:DAYLIGHT
BEGIN:STANDARD
TZOFFSETFROM:-0300
TZOFFSETTO:-0400
TZNAME:AST
DTSTART:20241103T050000
END:STANDARD
BEGIN:DAYLIGHT
TZOFFSETFROM:-0400
TZOFFSETTO:-0300
TZNAME:ADT
DTSTART:20250309T060000
END:DAYLIGHT
BEGIN:STANDARD
TZOFFSETFROM:-0300
TZOFFSETTO:-0400
TZNAME:AST
DTSTART:20251102T050000
END:STANDARD
BEGIN:DAYLIGHT
TZOFFSETFROM:-0400
TZOFFSETTO:-0300
TZNAME:ADT
DTSTART:20260308T060000
END:DAYLIGHT
BEGIN:STANDARD
TZOFFSETFROM:-0300
TZOFFSETTO:-0400
TZNAME:AST
DTSTART:20261101T050000
END:STANDARD
END:VTIMEZONE
BEGIN:VEVENT
DTSTART;TZID=America/Halifax:20251022T170000
DTEND;TZID=America/Halifax:20251022T200000
DTSTAMP:20260419T130055
CREATED:20251015T005449Z
LAST-MODIFIED:20251015T005449Z
UID:21194-1761152400-1761163200@oakcitybrewingcompany.com
SUMMARY:Boobs & Brews - Breast Cancer Awareness Night
DESCRIPTION:Join us on Wednesday\, October 22nd\, from 5-8 PM for our Breast Cancer Awareness Night!.– Cardinal Points Imaging will be set up to give out some swag\, provide information about their services\, and assist with getting scheduled for a mammogram.– Permanent Jewelry w/ bielick designs– Run Club’s Pink Run will take off at 6:30 PM– Pink beer will be on tap while supplies last.Grab your friends\, put on your pink\, and come out to enjoy a pink brew in celebration of National Breast Cancer Awareness Month!
URL:https://oakcitybrewingcompany.com/event/boobs-brews-breast-cancer-awareness-night-2/
CATEGORIES:Events
ATTACH;FMTTYPE=image/png:https://oakcitybrewingcompany.com/wp-content/uploads/2025/10/Boobs-brews-1.png
END:VEVENT
BEGIN:VEVENT
DTSTART;TZID=America/Halifax:20251027T180000
DTEND;TZID=America/Halifax:20251027T200000
DTSTAMP:20260419T130055
CREATED:20250908T135736Z
LAST-MODIFIED:20250908T135736Z
UID:21125-1761588000-1761595200@oakcitybrewingcompany.com
SUMMARY:Music Bingo
DESCRIPTION:Join us and test your tune knowledge with a cold beer in hand for a fun night of Music Bingo at Oak City! \nBring your friends\, grab a pint\, and get ready for a night full of great music and even better beer. \nOctober 27th Music Bingo Themes:\nHalloween Spooktacular & Movie Soundtracks
URL:https://oakcitybrewingcompany.com/event/music-bingo-3/
CATEGORIES:Brewery Events,Events,Weekly Events
ATTACH;FMTTYPE=image/png:https://oakcitybrewingcompany.com/wp-content/uploads/2025/09/3.png
END:VEVENT
BEGIN:VEVENT
DTSTART;TZID=America/Halifax:20251028T150000
DTEND;TZID=America/Halifax:20251028T220000
DTSTAMP:20260419T130055
CREATED:20241227T170528Z
LAST-MODIFIED:20241227T170528Z
UID:20598-1761663600-1761688800@oakcitybrewingcompany.com
SUMMARY:Pint Night
DESCRIPTION:$1 off pints every Tuesday here at Oak City!
URL:https://oakcitybrewingcompany.com/event/pint-night-50-2025-10-28/
CATEGORIES:Brewery Events,Events
END:VEVENT
BEGIN:VEVENT
DTSTART;TZID=America/Halifax:20251031T180000
DTEND;TZID=America/Halifax:20251031T210000
DTSTAMP:20260419T130055
CREATED:20250916T155216Z
LAST-MODIFIED:20250923T185520Z
UID:21143-1761933600-1761944400@oakcitybrewingcompany.com
SUMMARY:Brews & Boos Halloween Event
DESCRIPTION:Brews & Boos: Our First-Ever Halloween Bash on Friday\, October 31 | 6–9 PM \nHalloween night is brewing at Oak City! Join us for a frightfully fun evening of live music on the patio\, killer food trucks\, and our first-ever Costume Contest with prizes to win! \nWhat to expect:\n– Live music on the patio\n– Food trucks all night\n– Costume Contest with 3 categories:\n— Best Beer Costume\n  — Best Duo Costume\n  — Best Overall Costume \nWinners score some OCBC prizes! (Must be 21+ to participate) \nCome dressed to impress (or just come as you are) and let’s make this a Halloween to remember. Ghoul times start here!
URL:https://oakcitybrewingcompany.com/event/brews-boos-halloween-event/
CATEGORIES:Events
ATTACH;FMTTYPE=image/png:https://oakcitybrewingcompany.com/wp-content/uploads/2025/09/Halloween-Event.png
END:VEVENT
BEGIN:VEVENT
DTSTART;TZID=America/Halifax:20251101T120000
DTEND;TZID=America/Halifax:20251101T160000
DTSTAMP:20260419T130055
CREATED:20251022T134601Z
LAST-MODIFIED:20251022T134602Z
UID:21199-1761998400-1762012800@oakcitybrewingcompany.com
SUMMARY:Fall Makers Market
DESCRIPTION:We LOVE supporting small businesses!.Join us on November 1st from 12-4 PM for live music by Sam Trebing\, shopping with over 40+ vendors\, and some great grub with Chick-n-Que\, Bowl of Dough by Not Just Icing & another truck TBA!.We hope to see you there\, cheers!
URL:https://oakcitybrewingcompany.com/event/fall-makers-market-3/
CATEGORIES:Events
ATTACH;FMTTYPE=image/png:https://oakcitybrewingcompany.com/wp-content/uploads/2025/10/Fall-Makers-Market-.png
END:VEVENT
BEGIN:VEVENT
DTSTART;TZID=America/Halifax:20251104T150000
DTEND;TZID=America/Halifax:20251104T220000
DTSTAMP:20260419T130055
CREATED:20241227T170528Z
LAST-MODIFIED:20241227T170528Z
UID:20599-1762268400-1762293600@oakcitybrewingcompany.com
SUMMARY:Pint Night
DESCRIPTION:$1 off pints every Tuesday here at Oak City!
URL:https://oakcitybrewingcompany.com/event/pint-night-50-2025-11-04/
CATEGORIES:Brewery Events,Events
END:VEVENT
BEGIN:VEVENT
DTSTART;TZID=America/Halifax:20251106T150000
DTEND;TZID=America/Halifax:20251123T200000
DTSTAMP:20260419T130055
CREATED:20251106T192907Z
LAST-MODIFIED:20251106T192907Z
UID:21226-1762441200-1763928000@oakcitybrewingcompany.com
SUMMARY:Oak City Holiday Can Drive
DESCRIPTION:Help us spread a little kindness this holiday season 💛 \nWe’re collecting non-perishable food and personal hygiene items to support our community\, now through November 23rd. \n\n\n\nITEMS WE’RE ACCEPTING: \n\n\n— Cereal / Shelf-stable milk \n\n— Canned soups \n— Canned peas \n— Canned carrots \n— Canned potatoes \n— Pasta and pasta sauces \n— Canned meats \n— Canned meals (Chef Boyardee\, Hormel chili\, etc.) \n— Feminine hygiene products (tampons\, pads\, liners) \n— Shampoo and conditioner \n— Bar soap \n— Deodorant \n— Peanut butter and jelly \n— Toilet paper \n— Diapers (all sizes) and wipes \n\n\nDrop off your donations in the taproom during open hours. Every little bit helps! \nAll donations will be donated to the compassion box at Northside Community Church\, across the street from Oak City.
URL:https://oakcitybrewingcompany.com/event/oak-city-holiday-can-drive/
CATEGORIES:Events,Weekly Events
ATTACH;FMTTYPE=image/png:https://oakcitybrewingcompany.com/wp-content/uploads/2025/11/1.png
END:VEVENT
BEGIN:VEVENT
DTSTART;TZID=America/Halifax:20251107T170000
DTEND;TZID=America/Halifax:20251107T200000
DTSTAMP:20260419T130055
CREATED:20251031T153354Z
LAST-MODIFIED:20251031T153355Z
UID:21216-1762534800-1762545600@oakcitybrewingcompany.com
SUMMARY:Live Music On The Patio
DESCRIPTION:Kick back on a cool night under the warm lights and enjoy live music on the patio \n\nNovember 7th Music: Bobby Frith from 5-8 PM\n\nGrab your friends and hang out for an easy evening filled with good tunes and great company.
URL:https://oakcitybrewingcompany.com/event/live-music-on-the-patio-2/
CATEGORIES:Events
ATTACH;FMTTYPE=image/png:https://oakcitybrewingcompany.com/wp-content/uploads/2025/10/Screenshot-2025-10-27-at-1.00.06-PM.png
END:VEVENT
BEGIN:VEVENT
DTSTART;TZID=America/Halifax:20251111T150000
DTEND;TZID=America/Halifax:20251111T220000
DTSTAMP:20260419T130055
CREATED:20241227T170528Z
LAST-MODIFIED:20241227T170528Z
UID:20600-1762873200-1762898400@oakcitybrewingcompany.com
SUMMARY:Pint Night
DESCRIPTION:$1 off pints every Tuesday here at Oak City!
URL:https://oakcitybrewingcompany.com/event/pint-night-50-2025-11-11/
CATEGORIES:Brewery Events,Events
END:VEVENT
BEGIN:VEVENT
DTSTART;TZID=America/Halifax:20251113T180000
DTEND;TZID=America/Halifax:20251113T200000
DTSTAMP:20260419T130055
CREATED:20251008T144856Z
LAST-MODIFIED:20251008T144857Z
UID:21190-1763056800-1763064000@oakcitybrewingcompany.com
SUMMARY:Holiday Sip & Candle-Making Workshop w/ Hand The Light
DESCRIPTION:Thursday\, November 13 | 6:00 PM – 8:00 PM \nIn this holiday-themed workshop\, you’ll hand-pour your own soy wax candles—perfect to gift\, to display\, or to light up your season. \nTicket & Upgrade Options:\n• $44 – Base ticket + Eventbrite fees (includes materials to make two 8oz candles in tins)\n• Optional Upgrade: Swap in a triple-wick wooden candle bowl in lieu of a standard 8-oz candle \nSign up here: https://www.eventbrite.com/e/holiday-sip-candle-making-workshop-at-oak-city-brewing-company-tickets-1739138803979?aff=ebdsoporgprofile \nEvery ticket includes guidance on scent blending\, pouring techniques\, and styling. Jar styles and fragrance options may vary based on availability. \nHosted by Hand.The.Light\nWith years of experience bringing people together through light and artistry\, Hand.The.Light will lead you through every step to create beautifully scented candles full of heart and intention. \nPlease Note:\n• Refunds available up to 7 days prior to the event\n• For safety and logistical reasons\, no entry is allowed more than 20 minutes after the start time \nSeats are limited—reserve your spot and come light\, craft\, and celebrate the season at Oak City Brewing Company!
URL:https://oakcitybrewingcompany.com/event/holiday-sip-candle-making-workshop-w-hand-the-light/
CATEGORIES:Events
ATTACH;FMTTYPE=image/png:https://oakcitybrewingcompany.com/wp-content/uploads/2025/10/Screenshot-2025-10-08-at-10.41.00-AM-scaled.png
END:VEVENT
BEGIN:VEVENT
DTSTART;TZID=America/Halifax:20251116T140000
DTEND;TZID=America/Halifax:20251116T170000
DTSTAMP:20260419T130055
CREATED:20251031T152418Z
LAST-MODIFIED:20251031T152419Z
UID:21208-1763301600-1763312400@oakcitybrewingcompany.com
SUMMARY:Read Between The Pints Book Pop-up
DESCRIPTION:Calling all book lovers\, it’s time to Read Between the Pints! Join us for an afternoon dedicated to good reads and great brews\, featuring a pop-up with Finn and Ollie’s Book Trolley and a lineup of local book-inspired vendors.\n\n\n\nBrowse the mobile book bus\, shop literary-themed goods\, and grab a pint while you flip through your next favorite find. Whether you’re in a book club or just love a cozy story and a cold beer\, this is the perfect Sunday hangout.\n\n\n\nWhat to expect:\n– Mobile book bus by Finn & Ollie’s Book Trolley\n– Local bookish vendors & makers\n– Pints pouring all day in the taproom\n– A perfect outing for book clubs & casual readers alike\n\n\n\nBring your friends\, bring your book club\, and spend the afternoon surrounded by stories and local sips!
URL:https://oakcitybrewingcompany.com/event/read-between-the-pints-book-pop-up/
CATEGORIES:Events
ATTACH;FMTTYPE=image/png:https://oakcitybrewingcompany.com/wp-content/uploads/2025/10/Read-Between-the-Pints.png
END:VEVENT
BEGIN:VEVENT
DTSTART;TZID=America/Halifax:20251118T150000
DTEND;TZID=America/Halifax:20251118T220000
DTSTAMP:20260419T130055
CREATED:20241227T170528Z
LAST-MODIFIED:20241227T170528Z
UID:20601-1763478000-1763503200@oakcitybrewingcompany.com
SUMMARY:Pint Night
DESCRIPTION:$1 off pints every Tuesday here at Oak City!
URL:https://oakcitybrewingcompany.com/event/pint-night-50-2025-11-18/
CATEGORIES:Brewery Events,Events
END:VEVENT
BEGIN:VEVENT
DTSTART;TZID=America/Halifax:20251119T180000
DTEND;TZID=America/Halifax:20251119T200000
DTSTAMP:20260419T130055
CREATED:20250827T155659Z
LAST-MODIFIED:20250827T155659Z
UID:21105-1763575200-1763582400@oakcitybrewingcompany.com
SUMMARY:Trivia Night
DESCRIPTION:Trivia Night at Oak City! Bring your crew\, grab a pint\, and put your knowledge to the test. \nFrom random facts to tricky questions\, it’s all about brains\, beer\, and bragging rights. Free to play with prizes for the winners! \nNovember 19th Trivia Theme: Feast Your Mind \nNext Trivia Date: December 17th @ 6 PM
URL:https://oakcitybrewingcompany.com/event/trivia-night-3/
CATEGORIES:Events,Weekly Events
ATTACH;FMTTYPE=image/png:https://oakcitybrewingcompany.com/wp-content/uploads/2025/08/3.png
END:VEVENT
BEGIN:VEVENT
DTSTART;TZID=America/Halifax:20251120T180000
DTEND;TZID=America/Halifax:20251120T200000
DTSTAMP:20260419T130055
CREATED:20251031T162312Z
LAST-MODIFIED:20251031T162313Z
UID:21218-1763661600-1763668800@oakcitybrewingcompany.com
SUMMARY:Holiday Pottery Painting w/ Cozy Panda Event Co
DESCRIPTION:Join Cozy Panda Event Co. at Oak City Brewing for a fun and creative evening of painting pottery!\n\nUnleash your creativity at our self-guided Painted Pottery Workshop – Perfect for all ages and skill levels! Whether you’re coming solo\, with friends\, or bringing the whole family\, you’re in for a fun and relaxing time.\n\nAt the start of the workshop\, you’ll get to choose from a wide variety of holiday-themed ceramic pieces.\nAll supplies\, including paint and brushes\, will be provided – just bring your imagination!\n\nYour ticket includes:– One ceramic pottery piece– All painting supplies and materials– Endless creativity & fun\n\nGrab yours here: https://www.eventbrite.com/e/holiday-pottery-painting-tickets-1924070519719?utm-campaign=social&utm-content=attendeeshare&utm-medium=discovery&utm-term=listing&utm-source=cp&aff=ebdsshcopyurl\n\nThis 90-minute session is completely self-paced\, but we’ll be on hand to offer guidance\, tips\, and a little artistic inspiration if you need it. It’s a great opportunity to express yourself\, try something new\, and leave with your own hand-painted masterpiece!\n\nWe can’t wait to create with you!\n~The Cozy Panda Team
URL:https://oakcitybrewingcompany.com/event/holiday-pottery-painting-w-cozy-panda-event-co/
CATEGORIES:Events
ATTACH;FMTTYPE=image/jpeg:https://oakcitybrewingcompany.com/wp-content/uploads/2025/10/cozy-panda-event-co.jpg
END:VEVENT
BEGIN:VEVENT
DTSTART;TZID=America/Halifax:20251122T170000
DTEND;TZID=America/Halifax:20251122T200000
DTSTAMP:20260419T130055
CREATED:20251031T153228Z
LAST-MODIFIED:20251031T153433Z
UID:21211-1763830800-1763841600@oakcitybrewingcompany.com
SUMMARY:Live Music On The Patio
DESCRIPTION:Kick back on a cool night under the warm lights and enjoy live music on the patio \n\nNovember 22nd Music: Taylor Sheiss from 5-8 PM\n\nGrab your friends and hang out for an easy evening filled with good tunes and great company.
URL:https://oakcitybrewingcompany.com/event/live-music-on-the-patio/
CATEGORIES:Events
ATTACH;FMTTYPE=image/png:https://oakcitybrewingcompany.com/wp-content/uploads/2025/10/Screenshot-2025-10-31-at-10.37.42-AM.png
END:VEVENT
BEGIN:VEVENT
DTSTART;TZID=America/Halifax:20251124T180000
DTEND;TZID=America/Halifax:20251124T200000
DTSTAMP:20260419T130055
CREATED:20250908T140041Z
LAST-MODIFIED:20250908T140041Z
UID:21127-1764007200-1764014400@oakcitybrewingcompany.com
SUMMARY:Music Bingo
DESCRIPTION:Join us and test your tune knowledge with a cold beer in hand for a fun night of Music Bingo at Oak City! \nBring your friends\, grab a pint\, and get ready for a night full of great music and even better beer. \nNovember 24th Music Bingo Themes:\nTasty Treats & Raise your Glass \nLast Music Bingo Date: December 29th @ 6 PM
URL:https://oakcitybrewingcompany.com/event/music-bingo-4/
CATEGORIES:Brewery Events,Events,Weekly Events
ATTACH;FMTTYPE=image/png:https://oakcitybrewingcompany.com/wp-content/uploads/2025/09/4.png
END:VEVENT
BEGIN:VEVENT
DTSTART;TZID=America/Halifax:20251125T150000
DTEND;TZID=America/Halifax:20251125T220000
DTSTAMP:20260419T130055
CREATED:20241227T170528Z
LAST-MODIFIED:20241227T170528Z
UID:20602-1764082800-1764108000@oakcitybrewingcompany.com
SUMMARY:Pint Night
DESCRIPTION:$1 off pints every Tuesday here at Oak City!
URL:https://oakcitybrewingcompany.com/event/pint-night-50-2025-11-25/
CATEGORIES:Brewery Events,Events
END:VEVENT
BEGIN:VEVENT
DTSTART;TZID=America/Halifax:20251202T150000
DTEND;TZID=America/Halifax:20251202T220000
DTSTAMP:20260419T130055
CREATED:20241227T170528Z
LAST-MODIFIED:20241227T170528Z
UID:20603-1764687600-1764712800@oakcitybrewingcompany.com
SUMMARY:Pint Night
DESCRIPTION:$1 off pints every Tuesday here at Oak City!
URL:https://oakcitybrewingcompany.com/event/pint-night-50-2025-12-02/
CATEGORIES:Brewery Events,Events
END:VEVENT
BEGIN:VEVENT
DTSTART;TZID=America/Halifax:20251205T170000
DTEND;TZID=America/Halifax:20251205T200000
DTSTAMP:20260419T130055
CREATED:20251117T135743Z
LAST-MODIFIED:20251117T135744Z
UID:21296-1764954000-1764964800@oakcitybrewingcompany.com
SUMMARY:Pints in the Pines
DESCRIPTION:Celebrate the season with an evening surrounded by Christmas trees\, string lights\, live music\, and good beer! \n\nPints in the Pines will feature live music on the patio\, cold pours from the taproom\, and plenty of festive vibes on Friday\, December 5th from 5-8 PM.\n\nWhether you’re picking out a tree or just hanging with friends\, it’s the perfect way to ease into December!
URL:https://oakcitybrewingcompany.com/event/pints-in-the-pines/
CATEGORIES:Events
ATTACH;FMTTYPE=image/png:https://oakcitybrewingcompany.com/wp-content/uploads/2025/11/Pint-in-the-Pines.png
END:VEVENT
BEGIN:VEVENT
DTSTART;TZID=America/Halifax:20251209T150000
DTEND;TZID=America/Halifax:20251209T220000
DTSTAMP:20260419T130055
CREATED:20241227T170528Z
LAST-MODIFIED:20241227T170528Z
UID:20604-1765292400-1765317600@oakcitybrewingcompany.com
SUMMARY:Pint Night
DESCRIPTION:$1 off pints every Tuesday here at Oak City!
URL:https://oakcitybrewingcompany.com/event/pint-night-50-2025-12-09/
CATEGORIES:Brewery Events,Events
END:VEVENT
BEGIN:VEVENT
DTSTART;TZID=America/Halifax:20251212T000000
DTEND;TZID=America/Halifax:20251212T000000
DTSTAMP:20260419T130055
CREATED:20251212T183047Z
LAST-MODIFIED:20251212T183103Z
UID:21327-1765497600-1765497600@oakcitybrewingcompany.com
SUMMARY:Anniversary Throwback Thursday
DESCRIPTION:Step back to where it all started for Throwback Thursday on January 8th. The owners are stepping behind the bar for a throwback shift. \nAll flagship brews will be $1 off all night. Whether you’ve been with us since day one or you’re new to the family\, come raise a glass to a decade of Oak City.
URL:https://oakcitybrewingcompany.com/event/anniversary-throwback-thursday/
CATEGORIES:Brewery Events,Events
ATTACH;FMTTYPE=image/png:https://oakcitybrewingcompany.com/wp-content/uploads/2025/12/6-1.png
END:VEVENT
BEGIN:VEVENT
DTSTART;TZID=America/Halifax:20251213T110000
DTEND;TZID=America/Halifax:20251213T150000
DTSTAMP:20260419T130055
CREATED:20251111T193029Z
LAST-MODIFIED:20251111T193030Z
UID:21236-1765623600-1765638000@oakcitybrewingcompany.com
SUMMARY:Knightdale Christmas Parade Holiday Market
DESCRIPTION:Knightdale’s Christmas Parade is back\, and Oak City Brewing is where the holiday magic happens!\n\nKick off your morning with a pint and a front-row seat as the parade rolls right past the brewery at 10 AM!\n\nBut the fun doesn’t stop when Santa waves goodbye\, he’s stopping by Oak City after the parade for photos and holiday cheer!Stick around for our Holiday Market from 11 AM – 3 PM\, featuring local vendors\, live music by Sterling Scott\, and plenty of festive vibes.\n\nFood Trucks: Good Mornings NC\, Donut NV & Poblanos Tacos\nChristmas Tree Lot: Cole’s Farms will be back in the field with beautiful trees — grab yours before the parade and they’ll hold it for you to pick up later!\nPro tip: First Avenue closes at 9 AM\, but you can still access our back lot from Keith Street. Come early\, park easy\, and get cozy for parade day!\n\nGather your crew\, sip something seasonal\, and celebrate K-town Christmas magic at Oak City Brewing.
URL:https://oakcitybrewingcompany.com/event/knightdale-christmas-parade-holiday-market-4/
CATEGORIES:Brewery Events,Events
ATTACH;FMTTYPE=image/png:https://oakcitybrewingcompany.com/wp-content/uploads/2025/11/Christmas-2025.png
END:VEVENT
BEGIN:VEVENT
DTSTART;TZID=America/Halifax:20251213T120000
DTEND;TZID=America/Halifax:20251213T133000
DTSTAMP:20260419T130055
CREATED:20251111T193155Z
LAST-MODIFIED:20251111T193156Z
UID:21240-1765627200-1765632600@oakcitybrewingcompany.com
SUMMARY:Meet & Greet Santa & Mrs. Claus
DESCRIPTION:Santa’s Stopping at Oak City!\n\nThe parade doesn’t end when Santa rolls by\, it ends right here at Oak City Brewing! After the Knightdale Christmas Parade\, Santa will be hanging out at the brewery for photos and holiday cheer from 12-1:30 PM.\n\nBring your own camera or phone. Photos are for personal use only (no professional photographers on site).\n\nEnjoy a beer\, grab some food\, and stick around for our Holiday Market with live music by Sterling Scott from 11 AM – 3 PM!
URL:https://oakcitybrewingcompany.com/event/meet-greet-santa-mrs-claus/
CATEGORIES:Brewery Events,Events
ATTACH;FMTTYPE=image/png:https://oakcitybrewingcompany.com/wp-content/uploads/2025/11/Santa.png
END:VEVENT
BEGIN:VEVENT
DTSTART;TZID=America/Halifax:20251214T140000
DTEND;TZID=America/Halifax:20251214T160000
DTSTAMP:20260419T130055
CREATED:20251119T180952Z
LAST-MODIFIED:20251119T181130Z
UID:21302-1765720800-1765728000@oakcitybrewingcompany.com
SUMMARY:Sip & Pour: Candle Making Workshop
DESCRIPTION:Deck the Halls: Holiday Candle Making at Oak City Brewing\n\n’Tis the season to sip\, savor\, and get creative! Join us at Oak City Brewing on Saturday\, December 14th from 2–4 PM for a festive afternoon of candle making and holiday cheer. Enjoy local craft brews\, soak in the cozy vibes\, and craft your very own Christmas-inspired candle. No experience needed—just bring your holiday spirit!\n\nYou’ll Learn:\n* The Art of the Flame * How to Distinguish Scent Notes * Trimming & Finishing * Candle Safety & Care \n\nWhat’s Included:\n* $1 Off Mimosas & Bellini’s * 1 Amber Frosted Tumbler Candle with Bamboo Lid * Your choice of 3 curated holiday scents\n\nEvent is rain or shine. All purchases final. Must be 16+ to participate.\nSave $$$ with our Date Night Promotion.\nSign up here: https://www.everglowcandleco.com/product/candle-making-workshop-oak-city-brewing-knightdale-nc/E5D7PZ66KOCG2TAISQPZU3WS?cp=true&sa=true&sbp=false&q=false&fbclid=IwY2xjawOK5m1leHRuA2FlbQIxMABicmlkETE4YmZ6ZVUyVFllaHFDUm43c3J0YwZhcHBfaWQQMjIyMDM5MTc4ODIwMDg5MgABHqIa-VcaF90fot64jgT_IkswZdRdMjPHn2i-pdDZTaqBuCJ8wAVYaihPFjWZ_aem_NruBwKI4I-YbGXeZCdvq1A
URL:https://oakcitybrewingcompany.com/event/sip-pour-candle-making-workshop/
CATEGORIES:Events
ATTACH;FMTTYPE=image/png:https://oakcitybrewingcompany.com/wp-content/uploads/2025/11/Candle-Making-Instagram-Post-6.png
END:VEVENT
BEGIN:VEVENT
DTSTART;TZID=America/Halifax:20251216T150000
DTEND;TZID=America/Halifax:20251216T220000
DTSTAMP:20260419T130055
CREATED:20241227T170528Z
LAST-MODIFIED:20241227T170528Z
UID:20605-1765897200-1765922400@oakcitybrewingcompany.com
SUMMARY:Pint Night
DESCRIPTION:$1 off pints every Tuesday here at Oak City!
URL:https://oakcitybrewingcompany.com/event/pint-night-50-2025-12-16/
CATEGORIES:Brewery Events,Events
END:VEVENT
BEGIN:VEVENT
DTSTART;TZID=America/Halifax:20251217T180000
DTEND;TZID=America/Halifax:20251217T200000
DTSTAMP:20260419T130055
CREATED:20250827T160119Z
LAST-MODIFIED:20250827T160159Z
UID:21107-1765994400-1766001600@oakcitybrewingcompany.com
SUMMARY:Trivia Night - Last Trivia of 2025
DESCRIPTION:Trivia Night at Oak City! Bring your crew\, grab a pint\, and put your knowledge to the test. \nFrom random facts to tricky questions\, it’s all about brains\, beer\, and bragging rights. Free to play with prizes for the winners! \nDecember 17th Trivia Theme: Festive Fun
URL:https://oakcitybrewingcompany.com/event/trivia-night-last-trivia-of-2025/
CATEGORIES:Brewery Events,Events,Weekly Events
ATTACH;FMTTYPE=image/png:https://oakcitybrewingcompany.com/wp-content/uploads/2025/08/4.png
END:VEVENT
BEGIN:VEVENT
DTSTART;TZID=America/Halifax:20251223T150000
DTEND;TZID=America/Halifax:20251223T220000
DTSTAMP:20260419T130055
CREATED:20241227T170528Z
LAST-MODIFIED:20241227T170528Z
UID:20606-1766502000-1766527200@oakcitybrewingcompany.com
SUMMARY:Pint Night
DESCRIPTION:$1 off pints every Tuesday here at Oak City!
URL:https://oakcitybrewingcompany.com/event/pint-night-50-2025-12-23/
CATEGORIES:Brewery Events,Events
END:VEVENT
BEGIN:VEVENT
DTSTART;TZID=America/Halifax:20251229T180000
DTEND;TZID=America/Halifax:20251229T200000
DTSTAMP:20260419T130055
CREATED:20250908T140551Z
LAST-MODIFIED:20250929T140734Z
UID:21129-1767031200-1767038400@oakcitybrewingcompany.com
SUMMARY:Music Bingo - Last of 2025
DESCRIPTION:Join us for our last music bingo of the year and test your tune knowledge with a cold beer in hand for a fun night at Oak City! \nBring your friends\, grab a pint\, and get ready for a night full of great music and even better beer. \nDecember 29th Music Bingo Themes:\nHoliday Classics & 2025 Hits
URL:https://oakcitybrewingcompany.com/event/music-bingo-last-of-2025/
CATEGORIES:Brewery Events,Events,Weekly Events
ATTACH;FMTTYPE=image/png:https://oakcitybrewingcompany.com/wp-content/uploads/2025/09/5.png
END:VEVENT
BEGIN:VEVENT
DTSTART;TZID=America/Halifax:20251230T150000
DTEND;TZID=America/Halifax:20251230T220000
DTSTAMP:20260419T130055
CREATED:20241227T170528Z
LAST-MODIFIED:20241227T170528Z
UID:20607-1767106800-1767132000@oakcitybrewingcompany.com
SUMMARY:Pint Night
DESCRIPTION:$1 off pints every Tuesday here at Oak City!
URL:https://oakcitybrewingcompany.com/event/pint-night-50-2025-12-30/
CATEGORIES:Brewery Events,Events
END:VEVENT
BEGIN:VEVENT
DTSTART;TZID=America/Halifax:20251231T173000
DTEND;TZID=America/Halifax:20251231T203000
DTSTAMP:20260419T130055
CREATED:20251208T142528Z
LAST-MODIFIED:20251208T142539Z
UID:21308-1767202200-1767213000@oakcitybrewingcompany.com
SUMMARY:Time Warp NYE Party
DESCRIPTION:Our time warp NYE party is BACK with our annual keg drop and all! .The countdown and keg drop will take place at 8 PM with a FREE champagne toast and sparkling cider for the kids. This is a kid-friendly event!.We’ll have live music\, La Katrinas Tacos & Stavis with tasty food and face painting for the kiddos..The taproom will be open from 2 PM until 10 PM.
URL:https://oakcitybrewingcompany.com/event/time-warp-nye-party-5/
CATEGORIES:Events
ATTACH;FMTTYPE=image/png:https://oakcitybrewingcompany.com/wp-content/uploads/2025/12/New-Years-Eve-.png
END:VEVENT
END:VCALENDAR