BEGIN:VCALENDAR
VERSION:2.0
PRODID:-//Oak City Brewing Company - ECPv6.15.20//NONSGML v1.0//EN
CALSCALE:GREGORIAN
METHOD:PUBLISH
X-ORIGINAL-URL:https://oakcitybrewingcompany.com
X-WR-CALDESC:Events for Oak City Brewing Company
REFRESH-INTERVAL;VALUE=DURATION:PT1H
X-Robots-Tag:noindex
X-PUBLISHED-TTL:PT1H
BEGIN:VTIMEZONE
TZID:America/Halifax
BEGIN:DAYLIGHT
TZOFFSETFROM:-0400
TZOFFSETTO:-0300
TZNAME:ADT
DTSTART:20240310T060000
END:DAYLIGHT
BEGIN:STANDARD
TZOFFSETFROM:-0300
TZOFFSETTO:-0400
TZNAME:AST
DTSTART:20241103T050000
END:STANDARD
BEGIN:DAYLIGHT
TZOFFSETFROM:-0400
TZOFFSETTO:-0300
TZNAME:ADT
DTSTART:20250309T060000
END:DAYLIGHT
BEGIN:STANDARD
TZOFFSETFROM:-0300
TZOFFSETTO:-0400
TZNAME:AST
DTSTART:20251102T050000
END:STANDARD
BEGIN:DAYLIGHT
TZOFFSETFROM:-0400
TZOFFSETTO:-0300
TZNAME:ADT
DTSTART:20260308T060000
END:DAYLIGHT
BEGIN:STANDARD
TZOFFSETFROM:-0300
TZOFFSETTO:-0400
TZNAME:AST
DTSTART:20261101T050000
END:STANDARD
BEGIN:DAYLIGHT
TZOFFSETFROM:-0400
TZOFFSETTO:-0300
TZNAME:ADT
DTSTART:20270314T060000
END:DAYLIGHT
BEGIN:STANDARD
TZOFFSETFROM:-0300
TZOFFSETTO:-0400
TZNAME:AST
DTSTART:20271107T050000
END:STANDARD
END:VTIMEZONE
BEGIN:VEVENT
DTSTART;TZID=America/Halifax:20260105T180000
DTEND;TZID=America/Halifax:20260111T150000
DTSTAMP:20260421T081132
CREATED:20251212T180314Z
LAST-MODIFIED:20251212T182551Z
UID:21313-1767636000-1768143600@oakcitybrewingcompany.com
SUMMARY:10 Years of Oak City: Anniversary Week
DESCRIPTION:Cheers to 10 Years! \nOur anniversary celebration kicks off January 5th with a full week of Oak City good times\, great beer\, and the community that made the last decade possible. 🍻 \nEvery day brings something fun\, and we’d love to see you here for as much of the week as you can. \n𝐌𝐨𝐧𝐝𝐚𝐲 𝟏/𝟓 – Music Bingo: Music Through The Years\n𝐓𝐮𝐞𝐬𝐝𝐚𝐲 𝟏/𝟔 – Mystery Pint Night Pull\n𝐖𝐞𝐝𝐧𝐞𝐬𝐝𝐚𝐲 𝟏/𝟕 – Clew & Brew Scavenger Hunt\n𝐓𝐡𝐮𝐫𝐬𝐝𝐚𝐲 𝟏/𝟖 – Throwback Thursday\n𝐅𝐫𝐢𝐝𝐚𝐲 𝟏/𝟗 – Staff Pick Showdown\n𝐒𝐚𝐭𝐮𝐫𝐝𝐚𝐲 𝟏/𝟏𝟎 – Anniversary Bonfire Party\n𝐒𝐮𝐧𝐝𝐚𝐲 𝟏/𝟏𝟏 – Anniversary Car Show \nCome raise a glass with us\, reconnect with your favorites\, and help us celebrate ten years of good beer and great company. 💛
URL:https://oakcitybrewingcompany.com/event/10-years-of-oak-city-anniversary-week/
CATEGORIES:Brewery Events,Events,Weekly Events
ATTACH;FMTTYPE=image/png:https://oakcitybrewingcompany.com/wp-content/uploads/2025/12/1.png
END:VEVENT
BEGIN:VEVENT
DTSTART;TZID=America/Halifax:20251231T183000
DTEND;TZID=America/Halifax:20251231T193000
DTSTAMP:20260421T081132
CREATED:20230622T143255Z
LAST-MODIFIED:20251208T143003Z
UID:20443-1767205800-1767209400@oakcitybrewingcompany.com
SUMMARY:Beer Run
DESCRIPTION:Join us for a 1.5\, 3\, or 5 mile run or walk through downtown Knightdale\, Knightdale Station Park\, Mingo Creek Trail\, and other areas and landmarks that make our town special with our run club. \nLearn more here: https://oakcitybrewingcompany.com/run-club/ \nRun club meets up at 6:30 pm every Wednesday or 11:30 am every Saturday\, cheers!
URL:https://oakcitybrewingcompany.com/event/beer-run-2024-12-11-2025-12-31/
CATEGORIES:Brewery Events,Weekly Events
ATTACH;FMTTYPE=image/png:https://oakcitybrewingcompany.com/wp-content/uploads/2023/06/Screen-Shot-2023-06-22-at-10.25.57-AM.png
END:VEVENT
BEGIN:VEVENT
DTSTART;TZID=America/Halifax:20251229T180000
DTEND;TZID=America/Halifax:20251229T200000
DTSTAMP:20260421T081132
CREATED:20250908T140551Z
LAST-MODIFIED:20250929T140734Z
UID:21129-1767031200-1767038400@oakcitybrewingcompany.com
SUMMARY:Music Bingo - Last of 2025
DESCRIPTION:Join us for our last music bingo of the year and test your tune knowledge with a cold beer in hand for a fun night at Oak City! \nBring your friends\, grab a pint\, and get ready for a night full of great music and even better beer. \nDecember 29th Music Bingo Themes:\nHoliday Classics & 2025 Hits
URL:https://oakcitybrewingcompany.com/event/music-bingo-last-of-2025/
CATEGORIES:Brewery Events,Events,Weekly Events
ATTACH;FMTTYPE=image/png:https://oakcitybrewingcompany.com/wp-content/uploads/2025/09/5.png
END:VEVENT
BEGIN:VEVENT
DTSTART;TZID=America/Halifax:20251227T113000
DTEND;TZID=America/Halifax:20251227T123000
DTSTAMP:20260421T081132
CREATED:20230622T143640Z
LAST-MODIFIED:20241227T170600Z
UID:20495-1766835000-1766838600@oakcitybrewingcompany.com
SUMMARY:Beer Run
DESCRIPTION:Join us for a 1.5\, 3\, or 5 mile run or walk through downtown Knightdale\, Knightdale Station Park\, Mingo Creek Trail\, and other areas and landmarks that make our town special with our run club. \nLearn more here: https://oakcitybrewingcompany.com/run-club/ \nRun club meets up at 6:30 pm every Wednesday or 11:30 am every Saturday\, cheers! \n 
URL:https://oakcitybrewingcompany.com/event/beer-run-2-2024-12-21-2025-12-27/
CATEGORIES:Brewery Events,Weekly Events
ATTACH;FMTTYPE=image/png:https://oakcitybrewingcompany.com/wp-content/uploads/2023/06/Screen-Shot-2023-06-22-at-10.25.57-AM.png
END:VEVENT
BEGIN:VEVENT
DTSTART;TZID=America/Halifax:20251220T113000
DTEND;TZID=America/Halifax:20251220T123000
DTSTAMP:20260421T081132
CREATED:20230622T143640Z
LAST-MODIFIED:20241227T170600Z
UID:20494-1766230200-1766233800@oakcitybrewingcompany.com
SUMMARY:Beer Run
DESCRIPTION:Join us for a 1.5\, 3\, or 5 mile run or walk through downtown Knightdale\, Knightdale Station Park\, Mingo Creek Trail\, and other areas and landmarks that make our town special with our run club. \nLearn more here: https://oakcitybrewingcompany.com/run-club/ \nRun club meets up at 6:30 pm every Wednesday or 11:30 am every Saturday\, cheers! \n 
URL:https://oakcitybrewingcompany.com/event/beer-run-2-2024-12-21-2025-12-20/
CATEGORIES:Brewery Events,Weekly Events
ATTACH;FMTTYPE=image/png:https://oakcitybrewingcompany.com/wp-content/uploads/2023/06/Screen-Shot-2023-06-22-at-10.25.57-AM.png
END:VEVENT
BEGIN:VEVENT
DTSTART;TZID=America/Halifax:20251217T183000
DTEND;TZID=America/Halifax:20251217T193000
DTSTAMP:20260421T081132
CREATED:20230622T143255Z
LAST-MODIFIED:20251215T140252Z
UID:20441-1765996200-1765999800@oakcitybrewingcompany.com
SUMMARY:Christmas Light Beer Run
DESCRIPTION:Join us for a 1.5\, 3\, or 5 mile run or walk through downtown Knightdale\, Knightdale Station Park\, Mingo Creek Trail\, and other areas and landmarks that make our town special with our run club. \nLearn more here: https://oakcitybrewingcompany.com/run-club/ \nRun club meets up at 6:30 pm every Wednesday or 11:30 am every Saturday\, cheers!
URL:https://oakcitybrewingcompany.com/event/beer-run-2024-12-11-2025-12-17/
CATEGORIES:Brewery Events,Weekly Events
ATTACH;FMTTYPE=image/png:https://oakcitybrewingcompany.com/wp-content/uploads/2023/06/Run-Club-Event-Covers-4.png
END:VEVENT
BEGIN:VEVENT
DTSTART;TZID=America/Halifax:20251217T180000
DTEND;TZID=America/Halifax:20251217T200000
DTSTAMP:20260421T081132
CREATED:20250827T160119Z
LAST-MODIFIED:20250827T160159Z
UID:21107-1765994400-1766001600@oakcitybrewingcompany.com
SUMMARY:Trivia Night - Last Trivia of 2025
DESCRIPTION:Trivia Night at Oak City! Bring your crew\, grab a pint\, and put your knowledge to the test. \nFrom random facts to tricky questions\, it’s all about brains\, beer\, and bragging rights. Free to play with prizes for the winners! \nDecember 17th Trivia Theme: Festive Fun
URL:https://oakcitybrewingcompany.com/event/trivia-night-last-trivia-of-2025/
CATEGORIES:Brewery Events,Events,Weekly Events
ATTACH;FMTTYPE=image/png:https://oakcitybrewingcompany.com/wp-content/uploads/2025/08/4.png
END:VEVENT
BEGIN:VEVENT
DTSTART;TZID=America/Halifax:20251210T183000
DTEND;TZID=America/Halifax:20251210T193000
DTSTAMP:20260421T081132
CREATED:20230622T143255Z
LAST-MODIFIED:20230622T143255Z
UID:20440-1765391400-1765395000@oakcitybrewingcompany.com
SUMMARY:Beer Run
DESCRIPTION:Join us for a 1.5\, 3\, or 5 mile run or walk through downtown Knightdale\, Knightdale Station Park\, Mingo Creek Trail\, and other areas and landmarks that make our town special with our run club. \nLearn more here: https://oakcitybrewingcompany.com/run-club/ \nRun club meets up at 6:30 pm every Wednesday or 11:30 am every Saturday\, cheers!
URL:https://oakcitybrewingcompany.com/event/beer-run-2024-12-11-2025-12-10/
CATEGORIES:Brewery Events,Weekly Events
ATTACH;FMTTYPE=image/png:https://oakcitybrewingcompany.com/wp-content/uploads/2023/06/Screen-Shot-2023-06-22-at-10.25.57-AM.png
END:VEVENT
BEGIN:VEVENT
DTSTART;TZID=America/Halifax:20251206T113000
DTEND;TZID=America/Halifax:20251206T123000
DTSTAMP:20260421T081132
CREATED:20230622T143640Z
LAST-MODIFIED:20241227T170600Z
UID:20492-1765020600-1765024200@oakcitybrewingcompany.com
SUMMARY:Beer Run
DESCRIPTION:Join us for a 1.5\, 3\, or 5 mile run or walk through downtown Knightdale\, Knightdale Station Park\, Mingo Creek Trail\, and other areas and landmarks that make our town special with our run club. \nLearn more here: https://oakcitybrewingcompany.com/run-club/ \nRun club meets up at 6:30 pm every Wednesday or 11:30 am every Saturday\, cheers! \n 
URL:https://oakcitybrewingcompany.com/event/beer-run-2-2024-12-21-2025-12-06/
CATEGORIES:Brewery Events,Weekly Events
ATTACH;FMTTYPE=image/png:https://oakcitybrewingcompany.com/wp-content/uploads/2023/06/Screen-Shot-2023-06-22-at-10.25.57-AM.png
END:VEVENT
BEGIN:VEVENT
DTSTART;TZID=America/Halifax:20251203T183000
DTEND;TZID=America/Halifax:20251203T193000
DTSTAMP:20260421T081132
CREATED:20230622T143255Z
LAST-MODIFIED:20230622T143255Z
UID:20439-1764786600-1764790200@oakcitybrewingcompany.com
SUMMARY:Beer Run
DESCRIPTION:Join us for a 1.5\, 3\, or 5 mile run or walk through downtown Knightdale\, Knightdale Station Park\, Mingo Creek Trail\, and other areas and landmarks that make our town special with our run club. \nLearn more here: https://oakcitybrewingcompany.com/run-club/ \nRun club meets up at 6:30 pm every Wednesday or 11:30 am every Saturday\, cheers!
URL:https://oakcitybrewingcompany.com/event/beer-run-2024-12-11-2025-12-03/
CATEGORIES:Brewery Events,Weekly Events
ATTACH;FMTTYPE=image/png:https://oakcitybrewingcompany.com/wp-content/uploads/2023/06/Screen-Shot-2023-06-22-at-10.25.57-AM.png
END:VEVENT
BEGIN:VEVENT
DTSTART;TZID=America/Halifax:20251129T113000
DTEND;TZID=America/Halifax:20251129T123000
DTSTAMP:20260421T081132
CREATED:20230622T143640Z
LAST-MODIFIED:20241227T170600Z
UID:20491-1764415800-1764419400@oakcitybrewingcompany.com
SUMMARY:Beer Run
DESCRIPTION:Join us for a 1.5\, 3\, or 5 mile run or walk through downtown Knightdale\, Knightdale Station Park\, Mingo Creek Trail\, and other areas and landmarks that make our town special with our run club. \nLearn more here: https://oakcitybrewingcompany.com/run-club/ \nRun club meets up at 6:30 pm every Wednesday or 11:30 am every Saturday\, cheers! \n 
URL:https://oakcitybrewingcompany.com/event/beer-run-2-2024-12-21-2025-11-29/
CATEGORIES:Brewery Events,Weekly Events
ATTACH;FMTTYPE=image/png:https://oakcitybrewingcompany.com/wp-content/uploads/2023/06/Screen-Shot-2023-06-22-at-10.25.57-AM.png
END:VEVENT
BEGIN:VEVENT
DTSTART;TZID=America/Halifax:20251127T000000
DTEND;TZID=America/Halifax:20251127T235900
DTSTAMP:20260421T081132
CREATED:20241227T163957Z
LAST-MODIFIED:20250923T185114Z
UID:20293-1764201600-1764287940@oakcitybrewingcompany.com
SUMMARY:Closed for Thanksgiving
DESCRIPTION:
URL:https://oakcitybrewingcompany.com/event/mike-nice-empanadas-2025-11-27/
CATEGORIES:Weekly Events
ATTACH;FMTTYPE=image/png:https://oakcitybrewingcompany.com/wp-content/uploads/2024/11/Screenshot-2024-11-01-at-12.51.23-PM.png
END:VEVENT
BEGIN:VEVENT
DTSTART;TZID=America/Halifax:20251126T183000
DTEND;TZID=America/Halifax:20251126T193000
DTSTAMP:20260421T081132
CREATED:20230622T143255Z
LAST-MODIFIED:20230622T143255Z
UID:20438-1764181800-1764185400@oakcitybrewingcompany.com
SUMMARY:Beer Run
DESCRIPTION:Join us for a 1.5\, 3\, or 5 mile run or walk through downtown Knightdale\, Knightdale Station Park\, Mingo Creek Trail\, and other areas and landmarks that make our town special with our run club. \nLearn more here: https://oakcitybrewingcompany.com/run-club/ \nRun club meets up at 6:30 pm every Wednesday or 11:30 am every Saturday\, cheers!
URL:https://oakcitybrewingcompany.com/event/beer-run-2024-12-11-2025-11-26/
CATEGORIES:Brewery Events,Weekly Events
ATTACH;FMTTYPE=image/png:https://oakcitybrewingcompany.com/wp-content/uploads/2023/06/Screen-Shot-2023-06-22-at-10.25.57-AM.png
END:VEVENT
BEGIN:VEVENT
DTSTART;TZID=America/Halifax:20251124T180000
DTEND;TZID=America/Halifax:20251124T200000
DTSTAMP:20260421T081132
CREATED:20250908T140041Z
LAST-MODIFIED:20250908T140041Z
UID:21127-1764007200-1764014400@oakcitybrewingcompany.com
SUMMARY:Music Bingo
DESCRIPTION:Join us and test your tune knowledge with a cold beer in hand for a fun night of Music Bingo at Oak City! \nBring your friends\, grab a pint\, and get ready for a night full of great music and even better beer. \nNovember 24th Music Bingo Themes:\nTasty Treats & Raise your Glass \nLast Music Bingo Date: December 29th @ 6 PM
URL:https://oakcitybrewingcompany.com/event/music-bingo-4/
CATEGORIES:Brewery Events,Events,Weekly Events
ATTACH;FMTTYPE=image/png:https://oakcitybrewingcompany.com/wp-content/uploads/2025/09/4.png
END:VEVENT
BEGIN:VEVENT
DTSTART;TZID=America/Halifax:20251122T113000
DTEND;TZID=America/Halifax:20251122T123000
DTSTAMP:20260421T081132
CREATED:20230622T143640Z
LAST-MODIFIED:20241227T170600Z
UID:20490-1763811000-1763814600@oakcitybrewingcompany.com
SUMMARY:Beer Run
DESCRIPTION:Join us for a 1.5\, 3\, or 5 mile run or walk through downtown Knightdale\, Knightdale Station Park\, Mingo Creek Trail\, and other areas and landmarks that make our town special with our run club. \nLearn more here: https://oakcitybrewingcompany.com/run-club/ \nRun club meets up at 6:30 pm every Wednesday or 11:30 am every Saturday\, cheers! \n 
URL:https://oakcitybrewingcompany.com/event/beer-run-2-2024-12-21-2025-11-22/
CATEGORIES:Brewery Events,Weekly Events
ATTACH;FMTTYPE=image/png:https://oakcitybrewingcompany.com/wp-content/uploads/2023/06/Screen-Shot-2023-06-22-at-10.25.57-AM.png
END:VEVENT
BEGIN:VEVENT
DTSTART;TZID=America/Halifax:20251119T183000
DTEND;TZID=America/Halifax:20251119T193000
DTSTAMP:20260421T081132
CREATED:20230622T143255Z
LAST-MODIFIED:20230622T143255Z
UID:20437-1763577000-1763580600@oakcitybrewingcompany.com
SUMMARY:Beer Run
DESCRIPTION:Join us for a 1.5\, 3\, or 5 mile run or walk through downtown Knightdale\, Knightdale Station Park\, Mingo Creek Trail\, and other areas and landmarks that make our town special with our run club. \nLearn more here: https://oakcitybrewingcompany.com/run-club/ \nRun club meets up at 6:30 pm every Wednesday or 11:30 am every Saturday\, cheers!
URL:https://oakcitybrewingcompany.com/event/beer-run-2024-12-11-2025-11-19/
CATEGORIES:Brewery Events,Weekly Events
ATTACH;FMTTYPE=image/png:https://oakcitybrewingcompany.com/wp-content/uploads/2023/06/Screen-Shot-2023-06-22-at-10.25.57-AM.png
END:VEVENT
BEGIN:VEVENT
DTSTART;TZID=America/Halifax:20251119T180000
DTEND;TZID=America/Halifax:20251119T200000
DTSTAMP:20260421T081132
CREATED:20250827T155659Z
LAST-MODIFIED:20250827T155659Z
UID:21105-1763575200-1763582400@oakcitybrewingcompany.com
SUMMARY:Trivia Night
DESCRIPTION:Trivia Night at Oak City! Bring your crew\, grab a pint\, and put your knowledge to the test. \nFrom random facts to tricky questions\, it’s all about brains\, beer\, and bragging rights. Free to play with prizes for the winners! \nNovember 19th Trivia Theme: Feast Your Mind \nNext Trivia Date: December 17th @ 6 PM
URL:https://oakcitybrewingcompany.com/event/trivia-night-3/
CATEGORIES:Events,Weekly Events
ATTACH;FMTTYPE=image/png:https://oakcitybrewingcompany.com/wp-content/uploads/2025/08/3.png
END:VEVENT
BEGIN:VEVENT
DTSTART;TZID=America/Halifax:20251115T113000
DTEND;TZID=America/Halifax:20251115T123000
DTSTAMP:20260421T081132
CREATED:20230622T143640Z
LAST-MODIFIED:20241227T170600Z
UID:20489-1763206200-1763209800@oakcitybrewingcompany.com
SUMMARY:Beer Run
DESCRIPTION:Join us for a 1.5\, 3\, or 5 mile run or walk through downtown Knightdale\, Knightdale Station Park\, Mingo Creek Trail\, and other areas and landmarks that make our town special with our run club. \nLearn more here: https://oakcitybrewingcompany.com/run-club/ \nRun club meets up at 6:30 pm every Wednesday or 11:30 am every Saturday\, cheers! \n 
URL:https://oakcitybrewingcompany.com/event/beer-run-2-2024-12-21-2025-11-15/
CATEGORIES:Brewery Events,Weekly Events
ATTACH;FMTTYPE=image/png:https://oakcitybrewingcompany.com/wp-content/uploads/2023/06/Screen-Shot-2023-06-22-at-10.25.57-AM.png
END:VEVENT
BEGIN:VEVENT
DTSTART;TZID=America/Halifax:20251112T183000
DTEND;TZID=America/Halifax:20251112T193000
DTSTAMP:20260421T081132
CREATED:20230622T143255Z
LAST-MODIFIED:20230622T143255Z
UID:20436-1762972200-1762975800@oakcitybrewingcompany.com
SUMMARY:Beer Run
DESCRIPTION:Join us for a 1.5\, 3\, or 5 mile run or walk through downtown Knightdale\, Knightdale Station Park\, Mingo Creek Trail\, and other areas and landmarks that make our town special with our run club. \nLearn more here: https://oakcitybrewingcompany.com/run-club/ \nRun club meets up at 6:30 pm every Wednesday or 11:30 am every Saturday\, cheers!
URL:https://oakcitybrewingcompany.com/event/beer-run-2024-12-11-2025-11-12/
CATEGORIES:Brewery Events,Weekly Events
ATTACH;FMTTYPE=image/png:https://oakcitybrewingcompany.com/wp-content/uploads/2023/06/Screen-Shot-2023-06-22-at-10.25.57-AM.png
END:VEVENT
BEGIN:VEVENT
DTSTART;TZID=America/Halifax:20251108T113000
DTEND;TZID=America/Halifax:20251108T123000
DTSTAMP:20260421T081132
CREATED:20230622T143640Z
LAST-MODIFIED:20241227T170600Z
UID:20488-1762601400-1762605000@oakcitybrewingcompany.com
SUMMARY:Beer Run
DESCRIPTION:Join us for a 1.5\, 3\, or 5 mile run or walk through downtown Knightdale\, Knightdale Station Park\, Mingo Creek Trail\, and other areas and landmarks that make our town special with our run club. \nLearn more here: https://oakcitybrewingcompany.com/run-club/ \nRun club meets up at 6:30 pm every Wednesday or 11:30 am every Saturday\, cheers! \n 
URL:https://oakcitybrewingcompany.com/event/beer-run-2-2024-12-21-2025-11-08/
CATEGORIES:Brewery Events,Weekly Events
ATTACH;FMTTYPE=image/png:https://oakcitybrewingcompany.com/wp-content/uploads/2023/06/Screen-Shot-2023-06-22-at-10.25.57-AM.png
END:VEVENT
BEGIN:VEVENT
DTSTART;TZID=America/Halifax:20251106T150000
DTEND;TZID=America/Halifax:20251123T200000
DTSTAMP:20260421T081132
CREATED:20251106T192907Z
LAST-MODIFIED:20251106T192907Z
UID:21226-1762441200-1763928000@oakcitybrewingcompany.com
SUMMARY:Oak City Holiday Can Drive
DESCRIPTION:Help us spread a little kindness this holiday season 💛 \nWe’re collecting non-perishable food and personal hygiene items to support our community\, now through November 23rd. \n\n\n\nITEMS WE’RE ACCEPTING: \n\n\n— Cereal / Shelf-stable milk \n\n— Canned soups \n— Canned peas \n— Canned carrots \n— Canned potatoes \n— Pasta and pasta sauces \n— Canned meats \n— Canned meals (Chef Boyardee\, Hormel chili\, etc.) \n— Feminine hygiene products (tampons\, pads\, liners) \n— Shampoo and conditioner \n— Bar soap \n— Deodorant \n— Peanut butter and jelly \n— Toilet paper \n— Diapers (all sizes) and wipes \n\n\nDrop off your donations in the taproom during open hours. Every little bit helps! \nAll donations will be donated to the compassion box at Northside Community Church\, across the street from Oak City.
URL:https://oakcitybrewingcompany.com/event/oak-city-holiday-can-drive/
CATEGORIES:Events,Weekly Events
ATTACH;FMTTYPE=image/png:https://oakcitybrewingcompany.com/wp-content/uploads/2025/11/1.png
END:VEVENT
BEGIN:VEVENT
DTSTART;TZID=America/Halifax:20251105T183000
DTEND;TZID=America/Halifax:20251105T193000
DTSTAMP:20260421T081132
CREATED:20230622T143255Z
LAST-MODIFIED:20230622T143255Z
UID:20435-1762367400-1762371000@oakcitybrewingcompany.com
SUMMARY:Beer Run
DESCRIPTION:Join us for a 1.5\, 3\, or 5 mile run or walk through downtown Knightdale\, Knightdale Station Park\, Mingo Creek Trail\, and other areas and landmarks that make our town special with our run club. \nLearn more here: https://oakcitybrewingcompany.com/run-club/ \nRun club meets up at 6:30 pm every Wednesday or 11:30 am every Saturday\, cheers!
URL:https://oakcitybrewingcompany.com/event/beer-run-2024-12-11-2025-11-05/
CATEGORIES:Brewery Events,Weekly Events
ATTACH;FMTTYPE=image/png:https://oakcitybrewingcompany.com/wp-content/uploads/2023/06/Screen-Shot-2023-06-22-at-10.25.57-AM.png
END:VEVENT
BEGIN:VEVENT
DTSTART;TZID=America/Halifax:20251101T113000
DTEND;TZID=America/Halifax:20251101T123000
DTSTAMP:20260421T081132
CREATED:20230622T143640Z
LAST-MODIFIED:20251022T134905Z
UID:20487-1761996600-1762000200@oakcitybrewingcompany.com
SUMMARY:Beer Run
DESCRIPTION:Join us for a 1.5\, 3\, or 5 mile run or walk through downtown Knightdale\, Knightdale Station Park\, Mingo Creek Trail\, and other areas and landmarks that make our town special with our run club. \nLearn more here: https://oakcitybrewingcompany.com/run-club/ \nRun club meets up at 6:30 pm every Wednesday or 11:30 am every Saturday\, cheers! \n 
URL:https://oakcitybrewingcompany.com/event/beer-run-2-2024-12-21-2025-11-01/
CATEGORIES:Brewery Events,Weekly Events
ATTACH;FMTTYPE=image/png:https://oakcitybrewingcompany.com/wp-content/uploads/2023/06/Screen-Shot-2023-06-22-at-10.25.57-AM.png
END:VEVENT
BEGIN:VEVENT
DTSTART;TZID=America/Halifax:20251029T183000
DTEND;TZID=America/Halifax:20251029T193000
DTSTAMP:20260421T081132
CREATED:20230622T143255Z
LAST-MODIFIED:20230622T143255Z
UID:20434-1761762600-1761766200@oakcitybrewingcompany.com
SUMMARY:Beer Run
DESCRIPTION:Join us for a 1.5\, 3\, or 5 mile run or walk through downtown Knightdale\, Knightdale Station Park\, Mingo Creek Trail\, and other areas and landmarks that make our town special with our run club. \nLearn more here: https://oakcitybrewingcompany.com/run-club/ \nRun club meets up at 6:30 pm every Wednesday or 11:30 am every Saturday\, cheers!
URL:https://oakcitybrewingcompany.com/event/beer-run-2024-12-11-2025-10-29/
CATEGORIES:Brewery Events,Weekly Events
ATTACH;FMTTYPE=image/png:https://oakcitybrewingcompany.com/wp-content/uploads/2023/06/Screen-Shot-2023-06-22-at-10.25.57-AM.png
END:VEVENT
BEGIN:VEVENT
DTSTART;TZID=America/Halifax:20251027T180000
DTEND;TZID=America/Halifax:20251027T200000
DTSTAMP:20260421T081132
CREATED:20250908T135736Z
LAST-MODIFIED:20250908T135736Z
UID:21125-1761588000-1761595200@oakcitybrewingcompany.com
SUMMARY:Music Bingo
DESCRIPTION:Join us and test your tune knowledge with a cold beer in hand for a fun night of Music Bingo at Oak City! \nBring your friends\, grab a pint\, and get ready for a night full of great music and even better beer. \nOctober 27th Music Bingo Themes:\nHalloween Spooktacular & Movie Soundtracks
URL:https://oakcitybrewingcompany.com/event/music-bingo-3/
CATEGORIES:Brewery Events,Events,Weekly Events
ATTACH;FMTTYPE=image/png:https://oakcitybrewingcompany.com/wp-content/uploads/2025/09/3.png
END:VEVENT
BEGIN:VEVENT
DTSTART;TZID=America/Halifax:20251025T113000
DTEND;TZID=America/Halifax:20251025T123000
DTSTAMP:20260421T081132
CREATED:20230622T143640Z
LAST-MODIFIED:20241227T170600Z
UID:20486-1761391800-1761395400@oakcitybrewingcompany.com
SUMMARY:Beer Run
DESCRIPTION:Join us for a 1.5\, 3\, or 5 mile run or walk through downtown Knightdale\, Knightdale Station Park\, Mingo Creek Trail\, and other areas and landmarks that make our town special with our run club. \nLearn more here: https://oakcitybrewingcompany.com/run-club/ \nRun club meets up at 6:30 pm every Wednesday or 11:30 am every Saturday\, cheers! \n 
URL:https://oakcitybrewingcompany.com/event/beer-run-2-2024-12-21-2025-10-25/
CATEGORIES:Brewery Events,Weekly Events
ATTACH;FMTTYPE=image/png:https://oakcitybrewingcompany.com/wp-content/uploads/2023/06/Screen-Shot-2023-06-22-at-10.25.57-AM.png
END:VEVENT
BEGIN:VEVENT
DTSTART;TZID=America/Halifax:20251022T183000
DTEND;TZID=America/Halifax:20251022T193000
DTSTAMP:20260421T081132
CREATED:20230622T143255Z
LAST-MODIFIED:20251015T005615Z
UID:20433-1761157800-1761161400@oakcitybrewingcompany.com
SUMMARY:Beer Run
DESCRIPTION:Join us for a 1.5\, 3\, or 5 mile run or walk through downtown Knightdale\, Knightdale Station Park\, Mingo Creek Trail\, and other areas and landmarks that make our town special with our run club. \nLearn more here: https://oakcitybrewingcompany.com/run-club/ \nRun club meets up at 6:30 pm every Wednesday or 11:30 am every Saturday\, cheers!
URL:https://oakcitybrewingcompany.com/event/beer-run-2024-12-11-2025-10-22/
CATEGORIES:Brewery Events,Weekly Events
ATTACH;FMTTYPE=image/png:https://oakcitybrewingcompany.com/wp-content/uploads/2023/06/Screen-Shot-2023-06-22-at-10.25.57-AM.png
END:VEVENT
BEGIN:VEVENT
DTSTART;TZID=America/Halifax:20251019T140000
DTEND;TZID=America/Halifax:20251019T170000
DTSTAMP:20260421T081132
CREATED:20250929T140324Z
LAST-MODIFIED:20250929T140325Z
UID:21181-1760882400-1760893200@oakcitybrewingcompany.com
SUMMARY:Beers & Books Pop-up w/ Finn & Ollies Book Trolley
DESCRIPTION:Beers & Books at Oak City Brewing 📚🍻🍂 \nJoin us for a mobile bookshop pop-up with Finn & Ollies Book Trolley on Sunday\, October 19th\, from 2-5 PM! ✨ \nBrowse\, shop\, and find your next great read while you enjoy a pint (because every draft pairs best with a good draft). 😉🍻 \nGood beer\, good books\, and a chapter you won’t want to end!
URL:https://oakcitybrewingcompany.com/event/beers-books-pop-up-w-finn-ollies-book-trolley/
CATEGORIES:Brewery Events,Events,Weekly Events
ATTACH;FMTTYPE=image/png:https://oakcitybrewingcompany.com/wp-content/uploads/2025/09/Pop-up-Events.png
END:VEVENT
BEGIN:VEVENT
DTSTART;TZID=America/Halifax:20251018T113000
DTEND;TZID=America/Halifax:20251018T123000
DTSTAMP:20260421T081132
CREATED:20230622T143640Z
LAST-MODIFIED:20241227T170600Z
UID:20485-1760787000-1760790600@oakcitybrewingcompany.com
SUMMARY:Beer Run
DESCRIPTION:Join us for a 1.5\, 3\, or 5 mile run or walk through downtown Knightdale\, Knightdale Station Park\, Mingo Creek Trail\, and other areas and landmarks that make our town special with our run club. \nLearn more here: https://oakcitybrewingcompany.com/run-club/ \nRun club meets up at 6:30 pm every Wednesday or 11:30 am every Saturday\, cheers! \n 
URL:https://oakcitybrewingcompany.com/event/beer-run-2-2024-12-21-2025-10-18/
CATEGORIES:Brewery Events,Weekly Events
ATTACH;FMTTYPE=image/png:https://oakcitybrewingcompany.com/wp-content/uploads/2023/06/Screen-Shot-2023-06-22-at-10.25.57-AM.png
END:VEVENT
BEGIN:VEVENT
DTSTART;TZID=America/Halifax:20251015T183000
DTEND;TZID=America/Halifax:20251015T193000
DTSTAMP:20260421T081132
CREATED:20230622T143255Z
LAST-MODIFIED:20230622T143255Z
UID:20432-1760553000-1760556600@oakcitybrewingcompany.com
SUMMARY:Beer Run
DESCRIPTION:Join us for a 1.5\, 3\, or 5 mile run or walk through downtown Knightdale\, Knightdale Station Park\, Mingo Creek Trail\, and other areas and landmarks that make our town special with our run club. \nLearn more here: https://oakcitybrewingcompany.com/run-club/ \nRun club meets up at 6:30 pm every Wednesday or 11:30 am every Saturday\, cheers!
URL:https://oakcitybrewingcompany.com/event/beer-run-2024-12-11-2025-10-15/
CATEGORIES:Brewery Events,Weekly Events
ATTACH;FMTTYPE=image/png:https://oakcitybrewingcompany.com/wp-content/uploads/2023/06/Screen-Shot-2023-06-22-at-10.25.57-AM.png
END:VEVENT
END:VCALENDAR