BEGIN:VCALENDAR
VERSION:2.0
PRODID:-//Oak City Brewing Company - ECPv6.15.20//NONSGML v1.0//EN
CALSCALE:GREGORIAN
METHOD:PUBLISH
X-ORIGINAL-URL:https://oakcitybrewingcompany.com
X-WR-CALDESC:Events for Oak City Brewing Company
REFRESH-INTERVAL;VALUE=DURATION:PT1H
X-Robots-Tag:noindex
X-PUBLISHED-TTL:PT1H
BEGIN:VTIMEZONE
TZID:America/Halifax
BEGIN:DAYLIGHT
TZOFFSETFROM:-0400
TZOFFSETTO:-0300
TZNAME:ADT
DTSTART:20240310T060000
END:DAYLIGHT
BEGIN:STANDARD
TZOFFSETFROM:-0300
TZOFFSETTO:-0400
TZNAME:AST
DTSTART:20241103T050000
END:STANDARD
BEGIN:DAYLIGHT
TZOFFSETFROM:-0400
TZOFFSETTO:-0300
TZNAME:ADT
DTSTART:20250309T060000
END:DAYLIGHT
BEGIN:STANDARD
TZOFFSETFROM:-0300
TZOFFSETTO:-0400
TZNAME:AST
DTSTART:20251102T050000
END:STANDARD
BEGIN:DAYLIGHT
TZOFFSETFROM:-0400
TZOFFSETTO:-0300
TZNAME:ADT
DTSTART:20260308T060000
END:DAYLIGHT
BEGIN:STANDARD
TZOFFSETFROM:-0300
TZOFFSETTO:-0400
TZNAME:AST
DTSTART:20261101T050000
END:STANDARD
END:VTIMEZONE
BEGIN:VEVENT
DTSTART;TZID=America/Halifax:20250806T183000
DTEND;TZID=America/Halifax:20250806T193000
DTSTAMP:20260423T121339
CREATED:20230622T143255Z
LAST-MODIFIED:20230622T143255Z
UID:20422-1754505000-1754508600@oakcitybrewingcompany.com
SUMMARY:Beer Run
DESCRIPTION:Join us for a 1.5\, 3\, or 5 mile run or walk through downtown Knightdale\, Knightdale Station Park\, Mingo Creek Trail\, and other areas and landmarks that make our town special with our run club. \nLearn more here: https://oakcitybrewingcompany.com/run-club/ \nRun club meets up at 6:30 pm every Wednesday or 11:30 am every Saturday\, cheers!
URL:https://oakcitybrewingcompany.com/event/beer-run-2024-12-11-2025-08-06/
CATEGORIES:Brewery Events,Weekly Events
ATTACH;FMTTYPE=image/png:https://oakcitybrewingcompany.com/wp-content/uploads/2023/06/Screen-Shot-2023-06-22-at-10.25.57-AM.png
END:VEVENT
BEGIN:VEVENT
DTSTART;TZID=America/Halifax:20250806T180000
DTEND;TZID=America/Halifax:20250806T200000
DTSTAMP:20260423T121339
CREATED:20250731T125235Z
LAST-MODIFIED:20250731T125236Z
UID:20975-1754503200-1754510400@oakcitybrewingcompany.com
SUMMARY:North Carolina Museum of History Trivia Night @ Oak City
DESCRIPTION:The North Carolina Museum of History is coming to Oak City Brewing! \nSwing by to test your knowledge with a round of NC trivia (yes\, there are prizes!) and learn more about the exciting renovation plans happening at the museum. \nWhether you’re a history buff or just in it for the cold beer and fun facts\, you’re guaranteed to leave knowing something new about our state’s fascinating past. Come grab a pint and get curious! \nMore info here: https://www.ncmuseumofhistory.org/news/events/north-carolina-museum-history-pop-oak-city-brewing-company
URL:https://oakcitybrewingcompany.com/event/north-carolina-museum-of-history-trivia-night-oak-city/
CATEGORIES:Brewery Events,Events,Weekly Events
ATTACH;FMTTYPE=image/png:https://oakcitybrewingcompany.com/wp-content/uploads/2025/07/Pop-up-Events.png
END:VEVENT
BEGIN:VEVENT
DTSTART;TZID=America/Halifax:20250802T150000
DTEND;TZID=America/Halifax:20250802T200000
DTSTAMP:20260423T121339
CREATED:20250731T130526Z
LAST-MODIFIED:20250731T130526Z
UID:20991-1754146800-1754164800@oakcitybrewingcompany.com
SUMMARY:Brews & Books Pop-Up
DESCRIPTION:Books & Brews Pop-Up with Spicy Pages Bookshop\n\nCome celebrate a spicy blend of books\, brews\, and community vibes!– Shop all types of romance titles– Sip local craft beers– Snap some bookish pics– Special editions\, exclusive merch\, and spicy surprises await!\n\nWhether you’re a fantasy fanatic\, romance reader\, or just love the smell of new books\, this is THE literary event of the summer!
URL:https://oakcitybrewingcompany.com/event/brews-books-pop-up/
CATEGORIES:Brewery Events,Events,Weekly Events
ATTACH;FMTTYPE=image/png:https://oakcitybrewingcompany.com/wp-content/uploads/2025/07/Brews-Books-Pop-up-event.png
END:VEVENT
BEGIN:VEVENT
DTSTART;TZID=America/Halifax:20250802T113000
DTEND;TZID=America/Halifax:20250802T123000
DTSTAMP:20260423T121339
CREATED:20230622T143640Z
LAST-MODIFIED:20241227T170600Z
UID:20474-1754134200-1754137800@oakcitybrewingcompany.com
SUMMARY:Beer Run
DESCRIPTION:Join us for a 1.5\, 3\, or 5 mile run or walk through downtown Knightdale\, Knightdale Station Park\, Mingo Creek Trail\, and other areas and landmarks that make our town special with our run club. \nLearn more here: https://oakcitybrewingcompany.com/run-club/ \nRun club meets up at 6:30 pm every Wednesday or 11:30 am every Saturday\, cheers! \n 
URL:https://oakcitybrewingcompany.com/event/beer-run-2-2024-12-21-2025-08-02/
CATEGORIES:Brewery Events,Weekly Events
ATTACH;FMTTYPE=image/png:https://oakcitybrewingcompany.com/wp-content/uploads/2023/06/Screen-Shot-2023-06-22-at-10.25.57-AM.png
END:VEVENT
BEGIN:VEVENT
DTSTART;TZID=America/Halifax:20250730T183000
DTEND;TZID=America/Halifax:20250730T193000
DTSTAMP:20260423T121339
CREATED:20230622T143255Z
LAST-MODIFIED:20230622T143255Z
UID:20421-1753900200-1753903800@oakcitybrewingcompany.com
SUMMARY:Beer Run
DESCRIPTION:Join us for a 1.5\, 3\, or 5 mile run or walk through downtown Knightdale\, Knightdale Station Park\, Mingo Creek Trail\, and other areas and landmarks that make our town special with our run club. \nLearn more here: https://oakcitybrewingcompany.com/run-club/ \nRun club meets up at 6:30 pm every Wednesday or 11:30 am every Saturday\, cheers!
URL:https://oakcitybrewingcompany.com/event/beer-run-2024-12-11-2025-07-30/
CATEGORIES:Brewery Events,Weekly Events
ATTACH;FMTTYPE=image/png:https://oakcitybrewingcompany.com/wp-content/uploads/2023/06/Screen-Shot-2023-06-22-at-10.25.57-AM.png
END:VEVENT
BEGIN:VEVENT
DTSTART;TZID=America/Halifax:20250726T170000
DTEND;TZID=America/Halifax:20250726T200000
DTSTAMP:20260423T121339
CREATED:20250613T190910Z
LAST-MODIFIED:20250613T190911Z
UID:20942-1753549200-1753560000@oakcitybrewingcompany.com
SUMMARY:Live & Local July Patio Series
DESCRIPTION:Come hang out with us every Saturday night in July for our July Patio Series! \nWe’ll have live music on the patio\, tasty bites from a sweet and savory food truck\, and all the chill summer vibes you need. \nGrab your friends\, grab a drink\, and enjoy perfect summer nights with us. See you there! \n— \nJuly 5th – J.A.K (Jeffrey Kriz) 5-8 PM \nJuly 12th – Sam Trebing 5-8 PM \nJuly 19th – Drew Holgate 5-8 PM \nJuly 26th – Bobby Frith 5-8 PM
URL:https://oakcitybrewingcompany.com/event/live-local-july-patio-series-5/
CATEGORIES:Brewery Events,Events,Weekly Events
ATTACH;FMTTYPE=image/png:https://oakcitybrewingcompany.com/wp-content/uploads/2025/06/live-local.png
END:VEVENT
BEGIN:VEVENT
DTSTART;TZID=America/Halifax:20250726T113000
DTEND;TZID=America/Halifax:20250726T123000
DTSTAMP:20260423T121339
CREATED:20230622T143640Z
LAST-MODIFIED:20241227T170600Z
UID:20473-1753529400-1753533000@oakcitybrewingcompany.com
SUMMARY:Beer Run
DESCRIPTION:Join us for a 1.5\, 3\, or 5 mile run or walk through downtown Knightdale\, Knightdale Station Park\, Mingo Creek Trail\, and other areas and landmarks that make our town special with our run club. \nLearn more here: https://oakcitybrewingcompany.com/run-club/ \nRun club meets up at 6:30 pm every Wednesday or 11:30 am every Saturday\, cheers! \n 
URL:https://oakcitybrewingcompany.com/event/beer-run-2-2024-12-21-2025-07-26/
CATEGORIES:Brewery Events,Weekly Events
ATTACH;FMTTYPE=image/png:https://oakcitybrewingcompany.com/wp-content/uploads/2023/06/Screen-Shot-2023-06-22-at-10.25.57-AM.png
END:VEVENT
BEGIN:VEVENT
DTSTART;TZID=America/Halifax:20250723T183000
DTEND;TZID=America/Halifax:20250723T193000
DTSTAMP:20260423T121339
CREATED:20230622T143255Z
LAST-MODIFIED:20230622T143255Z
UID:20420-1753295400-1753299000@oakcitybrewingcompany.com
SUMMARY:Beer Run
DESCRIPTION:Join us for a 1.5\, 3\, or 5 mile run or walk through downtown Knightdale\, Knightdale Station Park\, Mingo Creek Trail\, and other areas and landmarks that make our town special with our run club. \nLearn more here: https://oakcitybrewingcompany.com/run-club/ \nRun club meets up at 6:30 pm every Wednesday or 11:30 am every Saturday\, cheers!
URL:https://oakcitybrewingcompany.com/event/beer-run-2024-12-11-2025-07-23/
CATEGORIES:Brewery Events,Weekly Events
ATTACH;FMTTYPE=image/png:https://oakcitybrewingcompany.com/wp-content/uploads/2023/06/Screen-Shot-2023-06-22-at-10.25.57-AM.png
END:VEVENT
BEGIN:VEVENT
DTSTART;TZID=America/Halifax:20250721T173000
DTEND;TZID=America/Halifax:20250721T183000
DTSTAMP:20260423T121339
CREATED:20250714T163226Z
LAST-MODIFIED:20250714T163226Z
UID:20965-1753119000-1753122600@oakcitybrewingcompany.com
SUMMARY:Bootcamp Workout
DESCRIPTION:Come workout with Outside The Box Fitness at Oak City Brewing Company! This is a 60 minute\, bootcamp style workout\, for all fitness levels.\nRegistration Required Here: https://otbfitness.pushpress.com/landing/events/cal-ef075a2e-686c-4896-93b3-9444/login \nClick “See More Details” after registering and submit your current fitness level information so I can partner you with the right group if we have partner work for this workout.\nWhen: Monday July 21st\, 2025\nShow Up Time: 5:30-5:40 PM\nWorkout Stats: 5:45 PM\nWorkout Ends: 6:45 PM\nSocial After: 6:45 PM \n*By participating in any of the activities Outside The Box Fitness offers and by submitting this form you recognize the inherit risk with them and release all affiliates\, trainers\, coaches\, participants\, partners and facilities from all liability. You accept ALL liability while participating in any exercises or activities. By registering you also accept the Terms and Conditions\, the Privacy Policy\, and the Photo Release.
URL:https://oakcitybrewingcompany.com/event/bootcamp-workout-2/
CATEGORIES:Brewery Events,Events,Weekly Events
ATTACH;FMTTYPE=image/png:https://oakcitybrewingcompany.com/wp-content/uploads/2025/07/Screenshot-2025-07-14-at-12.27.20-PM-scaled.png
END:VEVENT
BEGIN:VEVENT
DTSTART;TZID=America/Halifax:20250719T170000
DTEND;TZID=America/Halifax:20250719T200000
DTSTAMP:20260423T121339
CREATED:20250613T190831Z
LAST-MODIFIED:20250613T190831Z
UID:20940-1752944400-1752955200@oakcitybrewingcompany.com
SUMMARY:Live & Local July Patio Series
DESCRIPTION:Come hang out with us every Saturday night in July for our July Patio Series! \nWe’ll have live music on the patio\, tasty bites from a sweet and savory food truck\, and all the chill summer vibes you need. \nGrab your friends\, grab a drink\, and enjoy perfect summer nights with us. See you there! \n— \nJuly 5th – J.A.K (Jeffrey Kriz) 5-8 PM \nJuly 12th – Sam Trebing 5-8 PM \nJuly 19th – Drew Holgate 5-8 PM \nJuly 26th – Bobby Frith 5-8 PM
URL:https://oakcitybrewingcompany.com/event/live-local-july-patio-series-4/
CATEGORIES:Brewery Events,Events,Weekly Events
ATTACH;FMTTYPE=image/png:https://oakcitybrewingcompany.com/wp-content/uploads/2025/06/live-local.png
END:VEVENT
BEGIN:VEVENT
DTSTART;TZID=America/Halifax:20250719T113000
DTEND;TZID=America/Halifax:20250719T123000
DTSTAMP:20260423T121339
CREATED:20230622T143640Z
LAST-MODIFIED:20241227T170600Z
UID:20472-1752924600-1752928200@oakcitybrewingcompany.com
SUMMARY:Beer Run
DESCRIPTION:Join us for a 1.5\, 3\, or 5 mile run or walk through downtown Knightdale\, Knightdale Station Park\, Mingo Creek Trail\, and other areas and landmarks that make our town special with our run club. \nLearn more here: https://oakcitybrewingcompany.com/run-club/ \nRun club meets up at 6:30 pm every Wednesday or 11:30 am every Saturday\, cheers! \n 
URL:https://oakcitybrewingcompany.com/event/beer-run-2-2024-12-21-2025-07-19/
CATEGORIES:Brewery Events,Weekly Events
ATTACH;FMTTYPE=image/png:https://oakcitybrewingcompany.com/wp-content/uploads/2023/06/Screen-Shot-2023-06-22-at-10.25.57-AM.png
END:VEVENT
BEGIN:VEVENT
DTSTART;TZID=America/Halifax:20250716T183000
DTEND;TZID=America/Halifax:20250716T193000
DTSTAMP:20260423T121339
CREATED:20230622T143255Z
LAST-MODIFIED:20230622T143255Z
UID:20419-1752690600-1752694200@oakcitybrewingcompany.com
SUMMARY:Beer Run
DESCRIPTION:Join us for a 1.5\, 3\, or 5 mile run or walk through downtown Knightdale\, Knightdale Station Park\, Mingo Creek Trail\, and other areas and landmarks that make our town special with our run club. \nLearn more here: https://oakcitybrewingcompany.com/run-club/ \nRun club meets up at 6:30 pm every Wednesday or 11:30 am every Saturday\, cheers!
URL:https://oakcitybrewingcompany.com/event/beer-run-2024-12-11-2025-07-16/
CATEGORIES:Brewery Events,Weekly Events
ATTACH;FMTTYPE=image/png:https://oakcitybrewingcompany.com/wp-content/uploads/2023/06/Screen-Shot-2023-06-22-at-10.25.57-AM.png
END:VEVENT
BEGIN:VEVENT
DTSTART;TZID=America/Halifax:20250712T170000
DTEND;TZID=America/Halifax:20250712T200000
DTSTAMP:20260423T121339
CREATED:20250613T190732Z
LAST-MODIFIED:20250613T190733Z
UID:20937-1752339600-1752350400@oakcitybrewingcompany.com
SUMMARY:Live & Local July Patio Series
DESCRIPTION:Come hang out with us every Saturday night in July for our July Patio Series! \nWe’ll have live music on the patio\, tasty bites from a sweet and savory food truck\, and all the chill summer vibes you need. \nGrab your friends\, grab a drink\, and enjoy perfect summer nights with us. See you there! \n— \nJuly 5th – J.A.K (Jeffrey Kriz) 5-8 PM \nJuly 12th – Sam Trebing 5-8 PM \nJuly 19th – Drew Holgate 5-8 PM \nJuly 26th – Bobby Frith 5-8 PM
URL:https://oakcitybrewingcompany.com/event/live-local-july-patio-series-3/
CATEGORIES:Brewery Events,Events,Weekly Events
ATTACH;FMTTYPE=image/png:https://oakcitybrewingcompany.com/wp-content/uploads/2025/06/live-local.png
END:VEVENT
BEGIN:VEVENT
DTSTART;TZID=America/Halifax:20250712T113000
DTEND;TZID=America/Halifax:20250712T123000
DTSTAMP:20260423T121339
CREATED:20230622T143640Z
LAST-MODIFIED:20241227T170600Z
UID:20471-1752319800-1752323400@oakcitybrewingcompany.com
SUMMARY:Beer Run
DESCRIPTION:Join us for a 1.5\, 3\, or 5 mile run or walk through downtown Knightdale\, Knightdale Station Park\, Mingo Creek Trail\, and other areas and landmarks that make our town special with our run club. \nLearn more here: https://oakcitybrewingcompany.com/run-club/ \nRun club meets up at 6:30 pm every Wednesday or 11:30 am every Saturday\, cheers! \n 
URL:https://oakcitybrewingcompany.com/event/beer-run-2-2024-12-21-2025-07-12/
CATEGORIES:Brewery Events,Weekly Events
ATTACH;FMTTYPE=image/png:https://oakcitybrewingcompany.com/wp-content/uploads/2023/06/Screen-Shot-2023-06-22-at-10.25.57-AM.png
END:VEVENT
BEGIN:VEVENT
DTSTART;TZID=America/Halifax:20250709T183000
DTEND;TZID=America/Halifax:20250709T193000
DTSTAMP:20260423T121339
CREATED:20230622T143255Z
LAST-MODIFIED:20230622T143255Z
UID:20418-1752085800-1752089400@oakcitybrewingcompany.com
SUMMARY:Beer Run
DESCRIPTION:Join us for a 1.5\, 3\, or 5 mile run or walk through downtown Knightdale\, Knightdale Station Park\, Mingo Creek Trail\, and other areas and landmarks that make our town special with our run club. \nLearn more here: https://oakcitybrewingcompany.com/run-club/ \nRun club meets up at 6:30 pm every Wednesday or 11:30 am every Saturday\, cheers!
URL:https://oakcitybrewingcompany.com/event/beer-run-2024-12-11-2025-07-09/
CATEGORIES:Brewery Events,Weekly Events
ATTACH;FMTTYPE=image/png:https://oakcitybrewingcompany.com/wp-content/uploads/2023/06/Screen-Shot-2023-06-22-at-10.25.57-AM.png
END:VEVENT
BEGIN:VEVENT
DTSTART;TZID=America/Halifax:20250705T170000
DTEND;TZID=America/Halifax:20250705T200000
DTSTAMP:20260423T121339
CREATED:20250613T190518Z
LAST-MODIFIED:20250613T190519Z
UID:20933-1751734800-1751745600@oakcitybrewingcompany.com
SUMMARY:Live & Local July Patio Series
DESCRIPTION:Come hang out with us every Saturday night in July for our July Patio Series!\n.\nWe’ll have live music on the patio\, tasty bites from a sweet and savory food truck\, and all the chill summer vibes you need.\n.\nGrab your friends\, grab a drink\, and enjoy perfect summer nights with us. See you there! \n— \n\nJuly 5th – J.A.K (Jeffrey Kriz) 5-8 PM \nJuly 12th – Sam Trebing 5-8 PM \nJuly 19th – Drew Holgate 5-8 PM \nJuly 26th – Bobby Frith 5-8 PM
URL:https://oakcitybrewingcompany.com/event/live-local-july-patio-series-2/
CATEGORIES:Brewery Events,Events,Weekly Events
ATTACH;FMTTYPE=image/png:https://oakcitybrewingcompany.com/wp-content/uploads/2025/06/live-local.png
END:VEVENT
BEGIN:VEVENT
DTSTART;TZID=America/Halifax:20250705T113000
DTEND;TZID=America/Halifax:20250705T123000
DTSTAMP:20260423T121339
CREATED:20230622T143640Z
LAST-MODIFIED:20241227T170600Z
UID:20470-1751715000-1751718600@oakcitybrewingcompany.com
SUMMARY:Beer Run
DESCRIPTION:Join us for a 1.5\, 3\, or 5 mile run or walk through downtown Knightdale\, Knightdale Station Park\, Mingo Creek Trail\, and other areas and landmarks that make our town special with our run club. \nLearn more here: https://oakcitybrewingcompany.com/run-club/ \nRun club meets up at 6:30 pm every Wednesday or 11:30 am every Saturday\, cheers! \n 
URL:https://oakcitybrewingcompany.com/event/beer-run-2-2024-12-21-2025-07-05/
CATEGORIES:Brewery Events,Weekly Events
ATTACH;FMTTYPE=image/png:https://oakcitybrewingcompany.com/wp-content/uploads/2023/06/Screen-Shot-2023-06-22-at-10.25.57-AM.png
END:VEVENT
BEGIN:VEVENT
DTSTART;TZID=America/Halifax:20250702T183000
DTEND;TZID=America/Halifax:20250702T193000
DTSTAMP:20260423T121339
CREATED:20230622T143255Z
LAST-MODIFIED:20230622T143255Z
UID:20417-1751481000-1751484600@oakcitybrewingcompany.com
SUMMARY:Beer Run
DESCRIPTION:Join us for a 1.5\, 3\, or 5 mile run or walk through downtown Knightdale\, Knightdale Station Park\, Mingo Creek Trail\, and other areas and landmarks that make our town special with our run club. \nLearn more here: https://oakcitybrewingcompany.com/run-club/ \nRun club meets up at 6:30 pm every Wednesday or 11:30 am every Saturday\, cheers!
URL:https://oakcitybrewingcompany.com/event/beer-run-2024-12-11-2025-07-02/
CATEGORIES:Brewery Events,Weekly Events
ATTACH;FMTTYPE=image/png:https://oakcitybrewingcompany.com/wp-content/uploads/2023/06/Screen-Shot-2023-06-22-at-10.25.57-AM.png
END:VEVENT
BEGIN:VEVENT
DTSTART;TZID=America/Halifax:20250628T113000
DTEND;TZID=America/Halifax:20250628T123000
DTSTAMP:20260423T121339
CREATED:20230622T143640Z
LAST-MODIFIED:20241227T170600Z
UID:20469-1751110200-1751113800@oakcitybrewingcompany.com
SUMMARY:Beer Run
DESCRIPTION:Join us for a 1.5\, 3\, or 5 mile run or walk through downtown Knightdale\, Knightdale Station Park\, Mingo Creek Trail\, and other areas and landmarks that make our town special with our run club. \nLearn more here: https://oakcitybrewingcompany.com/run-club/ \nRun club meets up at 6:30 pm every Wednesday or 11:30 am every Saturday\, cheers! \n 
URL:https://oakcitybrewingcompany.com/event/beer-run-2-2024-12-21-2025-06-28/
CATEGORIES:Brewery Events,Weekly Events
ATTACH;FMTTYPE=image/png:https://oakcitybrewingcompany.com/wp-content/uploads/2023/06/Screen-Shot-2023-06-22-at-10.25.57-AM.png
END:VEVENT
BEGIN:VEVENT
DTSTART;TZID=America/Halifax:20250625T183000
DTEND;TZID=America/Halifax:20250625T193000
DTSTAMP:20260423T121339
CREATED:20230622T143255Z
LAST-MODIFIED:20230622T143255Z
UID:20416-1750876200-1750879800@oakcitybrewingcompany.com
SUMMARY:Beer Run
DESCRIPTION:Join us for a 1.5\, 3\, or 5 mile run or walk through downtown Knightdale\, Knightdale Station Park\, Mingo Creek Trail\, and other areas and landmarks that make our town special with our run club. \nLearn more here: https://oakcitybrewingcompany.com/run-club/ \nRun club meets up at 6:30 pm every Wednesday or 11:30 am every Saturday\, cheers!
URL:https://oakcitybrewingcompany.com/event/beer-run-2024-12-11-2025-06-25/
CATEGORIES:Brewery Events,Weekly Events
ATTACH;FMTTYPE=image/png:https://oakcitybrewingcompany.com/wp-content/uploads/2023/06/Screen-Shot-2023-06-22-at-10.25.57-AM.png
END:VEVENT
BEGIN:VEVENT
DTSTART;TZID=America/Halifax:20250621T113000
DTEND;TZID=America/Halifax:20250621T123000
DTSTAMP:20260423T121339
CREATED:20230622T143640Z
LAST-MODIFIED:20241227T170600Z
UID:20468-1750505400-1750509000@oakcitybrewingcompany.com
SUMMARY:Beer Run
DESCRIPTION:Join us for a 1.5\, 3\, or 5 mile run or walk through downtown Knightdale\, Knightdale Station Park\, Mingo Creek Trail\, and other areas and landmarks that make our town special with our run club. \nLearn more here: https://oakcitybrewingcompany.com/run-club/ \nRun club meets up at 6:30 pm every Wednesday or 11:30 am every Saturday\, cheers! \n 
URL:https://oakcitybrewingcompany.com/event/beer-run-2-2024-12-21-2025-06-21/
CATEGORIES:Brewery Events,Weekly Events
ATTACH;FMTTYPE=image/png:https://oakcitybrewingcompany.com/wp-content/uploads/2023/06/Screen-Shot-2023-06-22-at-10.25.57-AM.png
END:VEVENT
BEGIN:VEVENT
DTSTART;TZID=America/Halifax:20250618T183000
DTEND;TZID=America/Halifax:20250618T193000
DTSTAMP:20260423T121339
CREATED:20230622T143255Z
LAST-MODIFIED:20230622T143255Z
UID:20415-1750271400-1750275000@oakcitybrewingcompany.com
SUMMARY:Beer Run
DESCRIPTION:Join us for a 1.5\, 3\, or 5 mile run or walk through downtown Knightdale\, Knightdale Station Park\, Mingo Creek Trail\, and other areas and landmarks that make our town special with our run club. \nLearn more here: https://oakcitybrewingcompany.com/run-club/ \nRun club meets up at 6:30 pm every Wednesday or 11:30 am every Saturday\, cheers!
URL:https://oakcitybrewingcompany.com/event/beer-run-2024-12-11-2025-06-18/
CATEGORIES:Brewery Events,Weekly Events
ATTACH;FMTTYPE=image/png:https://oakcitybrewingcompany.com/wp-content/uploads/2023/06/Screen-Shot-2023-06-22-at-10.25.57-AM.png
END:VEVENT
BEGIN:VEVENT
DTSTART;TZID=America/Halifax:20250614T113000
DTEND;TZID=America/Halifax:20250614T123000
DTSTAMP:20260423T121339
CREATED:20230622T143640Z
LAST-MODIFIED:20250602T194833Z
UID:20467-1749900600-1749904200@oakcitybrewingcompany.com
SUMMARY:Beer Run
DESCRIPTION:Join us for a 1.5\, 3\, or 5 mile run or walk through downtown Knightdale\, Knightdale Station Park\, Mingo Creek Trail\, and other areas and landmarks that make our town special with our run club. \nLearn more here: https://oakcitybrewingcompany.com/run-club/ \nRun club meets up at 6:30 pm every Wednesday or 11:30 am every Saturday\, cheers! \n 
URL:https://oakcitybrewingcompany.com/event/beer-run-2-2024-12-21-2025-06-14/
CATEGORIES:Brewery Events,Weekly Events
ATTACH;FMTTYPE=image/png:https://oakcitybrewingcompany.com/wp-content/uploads/2023/06/Screen-Shot-2023-06-22-at-10.25.57-AM.png
END:VEVENT
BEGIN:VEVENT
DTSTART;TZID=America/Halifax:20250611T183000
DTEND;TZID=America/Halifax:20250611T193000
DTSTAMP:20260423T121339
CREATED:20230622T143255Z
LAST-MODIFIED:20230622T143255Z
UID:20414-1749666600-1749670200@oakcitybrewingcompany.com
SUMMARY:Beer Run
DESCRIPTION:Join us for a 1.5\, 3\, or 5 mile run or walk through downtown Knightdale\, Knightdale Station Park\, Mingo Creek Trail\, and other areas and landmarks that make our town special with our run club. \nLearn more here: https://oakcitybrewingcompany.com/run-club/ \nRun club meets up at 6:30 pm every Wednesday or 11:30 am every Saturday\, cheers!
URL:https://oakcitybrewingcompany.com/event/beer-run-2024-12-11-2025-06-11/
CATEGORIES:Brewery Events,Weekly Events
ATTACH;FMTTYPE=image/png:https://oakcitybrewingcompany.com/wp-content/uploads/2023/06/Screen-Shot-2023-06-22-at-10.25.57-AM.png
END:VEVENT
BEGIN:VEVENT
DTSTART;TZID=America/Halifax:20250607T113000
DTEND;TZID=America/Halifax:20250607T123000
DTSTAMP:20260423T121339
CREATED:20230622T143640Z
LAST-MODIFIED:20241227T170600Z
UID:20466-1749295800-1749299400@oakcitybrewingcompany.com
SUMMARY:Beer Run
DESCRIPTION:Join us for a 1.5\, 3\, or 5 mile run or walk through downtown Knightdale\, Knightdale Station Park\, Mingo Creek Trail\, and other areas and landmarks that make our town special with our run club. \nLearn more here: https://oakcitybrewingcompany.com/run-club/ \nRun club meets up at 6:30 pm every Wednesday or 11:30 am every Saturday\, cheers! \n 
URL:https://oakcitybrewingcompany.com/event/beer-run-2-2024-12-21-2025-06-07/
CATEGORIES:Brewery Events,Weekly Events
ATTACH;FMTTYPE=image/png:https://oakcitybrewingcompany.com/wp-content/uploads/2023/06/Screen-Shot-2023-06-22-at-10.25.57-AM.png
END:VEVENT
BEGIN:VEVENT
DTSTART;TZID=America/Halifax:20250606T173000
DTEND;TZID=America/Halifax:20250606T203000
DTSTAMP:20260423T121339
CREATED:20250501T195521Z
LAST-MODIFIED:20250501T195949Z
UID:20821-1749231000-1749241800@oakcitybrewingcompany.com
SUMMARY:June First Friday
DESCRIPTION:Join us on Friday\, June 6th\, from 5:30-8:30 PM to shop with local vendors\, vibe to live music\, and enjoy tasty eats from your favorite food trucks! \nWhether you’re here for the brews\, the beats\, or the shopping\, First Friday is the place to be! Grab your crew\, sip something delicious! \nMusic: Proton Jones \nFood Trucks: The Flat Drum\, Jones Lemonade & The Tasty Turkey Que \nMay First Friday Vendors: \nFriday Flowers Farm\nFinn and Ollies Book Trolley\nFormosity\nWyman’s Chocolate Creations+ LLC\nEgg Pug Studio\nAwaken NC LLC\nITS ALL GOOD SEASONING\nHill Hippie Goods&Farm\nCarnelian Owl\nButter & Sugar NC\nMary Jordan Ceramics\nDesigns by Donna\nRemedy Cocktail Company\nBrewscents Candles
URL:https://oakcitybrewingcompany.com/event/20821/
CATEGORIES:Brewery Events,Events,Weekly Events
ATTACH;FMTTYPE=image/png:https://oakcitybrewingcompany.com/wp-content/uploads/2025/05/June-First-Friday-Market.png
END:VEVENT
BEGIN:VEVENT
DTSTART;TZID=America/Halifax:20250604T183000
DTEND;TZID=America/Halifax:20250604T193000
DTSTAMP:20260423T121339
CREATED:20230622T143255Z
LAST-MODIFIED:20230622T143255Z
UID:20413-1749061800-1749065400@oakcitybrewingcompany.com
SUMMARY:Beer Run
DESCRIPTION:Join us for a 1.5\, 3\, or 5 mile run or walk through downtown Knightdale\, Knightdale Station Park\, Mingo Creek Trail\, and other areas and landmarks that make our town special with our run club. \nLearn more here: https://oakcitybrewingcompany.com/run-club/ \nRun club meets up at 6:30 pm every Wednesday or 11:30 am every Saturday\, cheers!
URL:https://oakcitybrewingcompany.com/event/beer-run-2024-12-11-2025-06-04/
CATEGORIES:Brewery Events,Weekly Events
ATTACH;FMTTYPE=image/png:https://oakcitybrewingcompany.com/wp-content/uploads/2023/06/Screen-Shot-2023-06-22-at-10.25.57-AM.png
END:VEVENT
BEGIN:VEVENT
DTSTART;TZID=America/Halifax:20250531T113000
DTEND;TZID=America/Halifax:20250531T123000
DTSTAMP:20260423T121339
CREATED:20230622T143640Z
LAST-MODIFIED:20241227T170600Z
UID:20465-1748691000-1748694600@oakcitybrewingcompany.com
SUMMARY:Beer Run
DESCRIPTION:Join us for a 1.5\, 3\, or 5 mile run or walk through downtown Knightdale\, Knightdale Station Park\, Mingo Creek Trail\, and other areas and landmarks that make our town special with our run club. \nLearn more here: https://oakcitybrewingcompany.com/run-club/ \nRun club meets up at 6:30 pm every Wednesday or 11:30 am every Saturday\, cheers! \n 
URL:https://oakcitybrewingcompany.com/event/beer-run-2-2024-12-21-2025-05-31/
CATEGORIES:Brewery Events,Weekly Events
ATTACH;FMTTYPE=image/png:https://oakcitybrewingcompany.com/wp-content/uploads/2023/06/Screen-Shot-2023-06-22-at-10.25.57-AM.png
END:VEVENT
BEGIN:VEVENT
DTSTART;TZID=America/Halifax:20250528T183000
DTEND;TZID=America/Halifax:20250528T193000
DTSTAMP:20260423T121339
CREATED:20230622T143255Z
LAST-MODIFIED:20230622T143255Z
UID:20412-1748457000-1748460600@oakcitybrewingcompany.com
SUMMARY:Beer Run
DESCRIPTION:Join us for a 1.5\, 3\, or 5 mile run or walk through downtown Knightdale\, Knightdale Station Park\, Mingo Creek Trail\, and other areas and landmarks that make our town special with our run club. \nLearn more here: https://oakcitybrewingcompany.com/run-club/ \nRun club meets up at 6:30 pm every Wednesday or 11:30 am every Saturday\, cheers!
URL:https://oakcitybrewingcompany.com/event/beer-run-2024-12-11-2025-05-28/
CATEGORIES:Brewery Events,Weekly Events
ATTACH;FMTTYPE=image/png:https://oakcitybrewingcompany.com/wp-content/uploads/2023/06/Screen-Shot-2023-06-22-at-10.25.57-AM.png
END:VEVENT
BEGIN:VEVENT
DTSTART;TZID=America/Halifax:20250524T113000
DTEND;TZID=America/Halifax:20250524T123000
DTSTAMP:20260423T121339
CREATED:20230622T143640Z
LAST-MODIFIED:20241227T170600Z
UID:20464-1748086200-1748089800@oakcitybrewingcompany.com
SUMMARY:Beer Run
DESCRIPTION:Join us for a 1.5\, 3\, or 5 mile run or walk through downtown Knightdale\, Knightdale Station Park\, Mingo Creek Trail\, and other areas and landmarks that make our town special with our run club. \nLearn more here: https://oakcitybrewingcompany.com/run-club/ \nRun club meets up at 6:30 pm every Wednesday or 11:30 am every Saturday\, cheers! \n 
URL:https://oakcitybrewingcompany.com/event/beer-run-2-2024-12-21-2025-05-24/
CATEGORIES:Brewery Events,Weekly Events
ATTACH;FMTTYPE=image/png:https://oakcitybrewingcompany.com/wp-content/uploads/2023/06/Screen-Shot-2023-06-22-at-10.25.57-AM.png
END:VEVENT
END:VCALENDAR