BEGIN:VCALENDAR
VERSION:2.0
PRODID:-//Oak City Brewing Company - ECPv6.15.20//NONSGML v1.0//EN
CALSCALE:GREGORIAN
METHOD:PUBLISH
X-WR-CALNAME:Oak City Brewing Company
X-ORIGINAL-URL:https://oakcitybrewingcompany.com
X-WR-CALDESC:Events for Oak City Brewing Company
REFRESH-INTERVAL;VALUE=DURATION:PT1H
X-Robots-Tag:noindex
X-PUBLISHED-TTL:PT1H
BEGIN:VTIMEZONE
TZID:America/Halifax
BEGIN:DAYLIGHT
TZOFFSETFROM:-0400
TZOFFSETTO:-0300
TZNAME:ADT
DTSTART:20240310T060000
END:DAYLIGHT
BEGIN:STANDARD
TZOFFSETFROM:-0300
TZOFFSETTO:-0400
TZNAME:AST
DTSTART:20241103T050000
END:STANDARD
BEGIN:DAYLIGHT
TZOFFSETFROM:-0400
TZOFFSETTO:-0300
TZNAME:ADT
DTSTART:20250309T060000
END:DAYLIGHT
BEGIN:STANDARD
TZOFFSETFROM:-0300
TZOFFSETTO:-0400
TZNAME:AST
DTSTART:20251102T050000
END:STANDARD
BEGIN:DAYLIGHT
TZOFFSETFROM:-0400
TZOFFSETTO:-0300
TZNAME:ADT
DTSTART:20260308T060000
END:DAYLIGHT
BEGIN:STANDARD
TZOFFSETFROM:-0300
TZOFFSETTO:-0400
TZNAME:AST
DTSTART:20261101T050000
END:STANDARD
END:VTIMEZONE
BEGIN:VEVENT
DTSTART;TZID=America/Halifax:20250314T173000
DTEND;TZID=America/Halifax:20250314T203000
DTSTAMP:20260419T120451
CREATED:20241227T161911Z
LAST-MODIFIED:20241227T161911Z
UID:20196-1741973400-1741984200@oakcitybrewingcompany.com
SUMMARY:Caribbean Kicker
DESCRIPTION:Bold flavors meet soulful cooking\, bringing the vibrant taste of the Caribbean to every plate.
URL:https://oakcitybrewingcompany.com/event/caribbean-kicker-4-2025-03-14/
CATEGORIES:Food Trucks
ATTACH;FMTTYPE=image/jpeg:https://oakcitybrewingcompany.com/wp-content/uploads/2022/08/279096638_2125417890949808_6612292007969708448_n.jpg
END:VEVENT
BEGIN:VEVENT
DTSTART;TZID=America/Halifax:20250313T173000
DTEND;TZID=America/Halifax:20250313T203000
DTSTAMP:20260419T120451
CREATED:20241227T161236Z
LAST-MODIFIED:20241227T161236Z
UID:20184-1741887000-1741897800@oakcitybrewingcompany.com
SUMMARY:Not Just A Fry Guy
DESCRIPTION:Gourmet\, Loaded\, Fresh Cut Fries. Homemade sauces made w/ fresh ingredients! The whole truck is Gluten Free!
URL:https://oakcitybrewingcompany.com/event/not-just-a-fry-guy-2-2025-03-13/
CATEGORIES:Food Trucks
ATTACH;FMTTYPE=image/png:https://oakcitybrewingcompany.com/wp-content/uploads/2024/12/Screenshot-2024-12-27-at-11.14.31-AM.png
END:VEVENT
BEGIN:VEVENT
DTSTART;TZID=America/Halifax:20250312T183000
DTEND;TZID=America/Halifax:20250312T193000
DTSTAMP:20260419T120451
CREATED:20230622T143255Z
LAST-MODIFIED:20230622T143255Z
UID:20401-1741804200-1741807800@oakcitybrewingcompany.com
SUMMARY:Beer Run
DESCRIPTION:Join us for a 1.5\, 3\, or 5 mile run or walk through downtown Knightdale\, Knightdale Station Park\, Mingo Creek Trail\, and other areas and landmarks that make our town special with our run club. \nLearn more here: https://oakcitybrewingcompany.com/run-club/ \nRun club meets up at 6:30 pm every Wednesday or 11:30 am every Saturday\, cheers!
URL:https://oakcitybrewingcompany.com/event/beer-run-2024-12-11-2025-03-12/
CATEGORIES:Brewery Events,Weekly Events
ATTACH;FMTTYPE=image/png:https://oakcitybrewingcompany.com/wp-content/uploads/2023/06/Screen-Shot-2023-06-22-at-10.25.57-AM.png
END:VEVENT
BEGIN:VEVENT
DTSTART;TZID=America/Halifax:20250312T173000
DTEND;TZID=America/Halifax:20250312T203000
DTSTAMP:20260419T120451
CREATED:20241227T160638Z
LAST-MODIFIED:20241227T160638Z
UID:20221-1741800600-1741811400@oakcitybrewingcompany.com
SUMMARY:The Tasty Turkey Que
DESCRIPTION:The Tasty Turkey-Que is famous for its chopped and seasoned turkey barbecue.
URL:https://oakcitybrewingcompany.com/event/the-tasty-turkey-que-2-2025-03-12/
CATEGORIES:Food Trucks
ATTACH;FMTTYPE=image/jpeg:https://oakcitybrewingcompany.com/wp-content/uploads/2022/09/216927439_236514948306576_2229485138571803795_n.jpg
END:VEVENT
BEGIN:VEVENT
DTSTART;TZID=America/Halifax:20250311T173000
DTEND;TZID=America/Halifax:20250311T203000
DTSTAMP:20260419T120451
CREATED:20250107T183820Z
LAST-MODIFIED:20250107T183820Z
UID:20669-1741714200-1741725000@oakcitybrewingcompany.com
SUMMARY:Pizza Marchese
DESCRIPTION:A mobile pizzeria!
URL:https://oakcitybrewingcompany.com/event/pizza-marchese-2025-03-11/
CATEGORIES:Food Trucks
ATTACH;FMTTYPE=image/png:https://oakcitybrewingcompany.com/wp-content/uploads/2025/01/Screenshot-2025-01-07-at-1.37.41-PM.png
END:VEVENT
BEGIN:VEVENT
DTSTART;TZID=America/Halifax:20250311T150000
DTEND;TZID=America/Halifax:20250311T220000
DTSTAMP:20260419T120451
CREATED:20241227T170528Z
LAST-MODIFIED:20241227T170528Z
UID:20514-1741705200-1741730400@oakcitybrewingcompany.com
SUMMARY:Pint Night
DESCRIPTION:$1 off pints every Tuesday here at Oak City!
URL:https://oakcitybrewingcompany.com/event/pint-night-50-2025-03-11/
CATEGORIES:Brewery Events,Events
END:VEVENT
BEGIN:VEVENT
DTSTART;VALUE=DATE:20250310
DTEND;VALUE=DATE:20250311
DTSTAMP:20260419T120451
CREATED:20250313T155018Z
LAST-MODIFIED:20250313T155018Z
UID:20726-1741564800-1741651199@oakcitybrewingcompany.com
SUMMARY:No Food Truck – BYOF
DESCRIPTION:
URL:https://oakcitybrewingcompany.com/event/no-food-truck-byof-31/
CATEGORIES:Food Trucks
END:VEVENT
BEGIN:VEVENT
DTSTART;TZID=America/Halifax:20250309T120000
DTEND;TZID=America/Halifax:20250309T180000
DTSTAMP:20260419T120451
CREATED:20250107T182459Z
LAST-MODIFIED:20250107T182459Z
UID:20656-1741521600-1741543200@oakcitybrewingcompany.com
SUMMARY:St. Vicent Spanish Cuisine
DESCRIPTION:Spanish food with traditional dishes like croquetas and seafood paella.
URL:https://oakcitybrewingcompany.com/event/st-vicent-spanish-cuisine-2-2025-03-09/
CATEGORIES:Food Trucks
ATTACH;FMTTYPE=image/png:https://oakcitybrewingcompany.com/wp-content/uploads/2025/01/Screenshot-2025-01-07-at-1.23.47-PM.png
END:VEVENT
BEGIN:VEVENT
DTSTART;TZID=America/Halifax:20250308T160000
DTEND;TZID=America/Halifax:20250308T210000
DTSTAMP:20260419T120451
CREATED:20241227T164931Z
LAST-MODIFIED:20241227T164931Z
UID:20344-1741449600-1741467600@oakcitybrewingcompany.com
SUMMARY:Fired Up Pizza & BBQ
DESCRIPTION:Serving wood fired pizza and bbq.
URL:https://oakcitybrewingcompany.com/event/fired-up-pizza-bbq-3-2025-03-08/
CATEGORIES:Food Trucks
END:VEVENT
BEGIN:VEVENT
DTSTART;TZID=America/Halifax:20250308T113000
DTEND;TZID=America/Halifax:20250308T123000
DTSTAMP:20260419T120451
CREATED:20230622T143640Z
LAST-MODIFIED:20241227T170559Z
UID:20453-1741433400-1741437000@oakcitybrewingcompany.com
SUMMARY:Beer Run
DESCRIPTION:Join us for a 1.5\, 3\, or 5 mile run or walk through downtown Knightdale\, Knightdale Station Park\, Mingo Creek Trail\, and other areas and landmarks that make our town special with our run club. \nLearn more here: https://oakcitybrewingcompany.com/run-club/ \nRun club meets up at 6:30 pm every Wednesday or 11:30 am every Saturday\, cheers! \n 
URL:https://oakcitybrewingcompany.com/event/beer-run-2-2024-12-21-2025-03-08/
CATEGORIES:Brewery Events,Weekly Events
ATTACH;FMTTYPE=image/png:https://oakcitybrewingcompany.com/wp-content/uploads/2023/06/Screen-Shot-2023-06-22-at-10.25.57-AM.png
END:VEVENT
BEGIN:VEVENT
DTSTART;TZID=America/Halifax:20250307T173000
DTEND;TZID=America/Halifax:20250307T203000
DTSTAMP:20260419T120451
CREATED:20241227T155550Z
LAST-MODIFIED:20241227T155550Z
UID:20115-1741368600-1741379400@oakcitybrewingcompany.com
SUMMARY:The Flat Drum
DESCRIPTION:Unique wings and chicken sandwiches. ALL sauces are made from scratch.
URL:https://oakcitybrewingcompany.com/event/the-flat-drum-4-2025-03-07/
CATEGORIES:Food Trucks
ATTACH;FMTTYPE=image/png:https://oakcitybrewingcompany.com/wp-content/uploads/2024/12/Screenshot-2024-12-27-at-10.53.03-AM.png
END:VEVENT
BEGIN:VEVENT
DTSTART;TZID=America/Halifax:20250306T173000
DTEND;TZID=America/Halifax:20250306T203000
DTSTAMP:20260419T120451
CREATED:20241227T155130Z
LAST-MODIFIED:20241227T155130Z
UID:20096-1741282200-1741293000@oakcitybrewingcompany.com
SUMMARY:La Katrina Tacos
DESCRIPTION:Mexican street food.
URL:https://oakcitybrewingcompany.com/event/la-katrina-tacos-2025-03-06/
CATEGORIES:Food Trucks
ATTACH;FMTTYPE=image/png:https://oakcitybrewingcompany.com/wp-content/uploads/2024/12/Screenshot-2024-12-27-at-10.50.09-AM.png
END:VEVENT
BEGIN:VEVENT
DTSTART;TZID=America/Halifax:20250305T183000
DTEND;TZID=America/Halifax:20250305T193000
DTSTAMP:20260419T120451
CREATED:20230622T143255Z
LAST-MODIFIED:20230622T143255Z
UID:20400-1741199400-1741203000@oakcitybrewingcompany.com
SUMMARY:Beer Run
DESCRIPTION:Join us for a 1.5\, 3\, or 5 mile run or walk through downtown Knightdale\, Knightdale Station Park\, Mingo Creek Trail\, and other areas and landmarks that make our town special with our run club. \nLearn more here: https://oakcitybrewingcompany.com/run-club/ \nRun club meets up at 6:30 pm every Wednesday or 11:30 am every Saturday\, cheers!
URL:https://oakcitybrewingcompany.com/event/beer-run-2024-12-11-2025-03-05/
CATEGORIES:Brewery Events,Weekly Events
ATTACH;FMTTYPE=image/png:https://oakcitybrewingcompany.com/wp-content/uploads/2023/06/Screen-Shot-2023-06-22-at-10.25.57-AM.png
END:VEVENT
BEGIN:VEVENT
DTSTART;TZID=America/Halifax:20250305T173000
DTEND;TZID=America/Halifax:20250305T203000
DTSTAMP:20260419T120451
CREATED:20241227T163523Z
LAST-MODIFIED:20241227T163523Z
UID:20259-1741195800-1741206600@oakcitybrewingcompany.com
SUMMARY:Chirba Chirba Dumpling
DESCRIPTION:Serving mouth-watering\, Chinese style dumplings & pan Asian fare
URL:https://oakcitybrewingcompany.com/event/chirba-chirba-dumpling-49-2025-03-05/
CATEGORIES:Food Trucks
END:VEVENT
BEGIN:VEVENT
DTSTART;TZID=America/Halifax:20250304T170000
DTEND;TZID=America/Halifax:20250304T200000
DTSTAMP:20260419T120451
CREATED:20241227T155905Z
LAST-MODIFIED:20241227T155905Z
UID:20149-1741107600-1741118400@oakcitybrewingcompany.com
SUMMARY:Copperhead's Craft Burgers
DESCRIPTION:Serving up uniquely crafted burgers!
URL:https://oakcitybrewingcompany.com/event/copperheads-craft-burgers-2-2025-03-04/
CATEGORIES:Food Trucks
ATTACH;FMTTYPE=image/png:https://oakcitybrewingcompany.com/wp-content/uploads/2024/12/Screenshot-2024-12-27-at-10.57.34-AM.png
END:VEVENT
BEGIN:VEVENT
DTSTART;TZID=America/Halifax:20250304T150000
DTEND;TZID=America/Halifax:20250304T220000
DTSTAMP:20260419T120451
CREATED:20241227T170528Z
LAST-MODIFIED:20241227T170528Z
UID:20513-1741100400-1741125600@oakcitybrewingcompany.com
SUMMARY:Pint Night
DESCRIPTION:$1 off pints every Tuesday here at Oak City!
URL:https://oakcitybrewingcompany.com/event/pint-night-50-2025-03-04/
CATEGORIES:Brewery Events,Events
END:VEVENT
BEGIN:VEVENT
DTSTART;VALUE=DATE:20250303
DTEND;VALUE=DATE:20250304
DTSTAMP:20260419T120451
CREATED:20250313T155212Z
LAST-MODIFIED:20250313T155212Z
UID:20734-1740960000-1741046399@oakcitybrewingcompany.com
SUMMARY:No Food Truck – BYOF
DESCRIPTION:
URL:https://oakcitybrewingcompany.com/event/no-food-truck-byof-35/
CATEGORIES:Food Trucks
END:VEVENT
BEGIN:VEVENT
DTSTART;TZID=America/Halifax:20250302T130000
DTEND;TZID=America/Halifax:20250302T180000
DTSTAMP:20260419T120451
CREATED:20250313T160024Z
LAST-MODIFIED:20250313T160024Z
UID:20750-1740920400-1740938400@oakcitybrewingcompany.com
SUMMARY:Oink and Moo by Two Brothers
DESCRIPTION:
URL:https://oakcitybrewingcompany.com/event/oink-and-moo-by-two-brothers/
CATEGORIES:Food Trucks
END:VEVENT
BEGIN:VEVENT
DTSTART;TZID=America/Halifax:20250301T113000
DTEND;TZID=America/Halifax:20250301T123000
DTSTAMP:20260419T120451
CREATED:20230622T143640Z
LAST-MODIFIED:20241227T170559Z
UID:20452-1740828600-1740832200@oakcitybrewingcompany.com
SUMMARY:Beer Run
DESCRIPTION:Join us for a 1.5\, 3\, or 5 mile run or walk through downtown Knightdale\, Knightdale Station Park\, Mingo Creek Trail\, and other areas and landmarks that make our town special with our run club. \nLearn more here: https://oakcitybrewingcompany.com/run-club/ \nRun club meets up at 6:30 pm every Wednesday or 11:30 am every Saturday\, cheers! \n 
URL:https://oakcitybrewingcompany.com/event/beer-run-2-2024-12-21-2025-03-01/
CATEGORIES:Brewery Events,Weekly Events
ATTACH;FMTTYPE=image/png:https://oakcitybrewingcompany.com/wp-content/uploads/2023/06/Screen-Shot-2023-06-22-at-10.25.57-AM.png
END:VEVENT
BEGIN:VEVENT
DTSTART;TZID=America/Halifax:20250228T173000
DTEND;TZID=America/Halifax:20250228T203000
DTSTAMP:20260419T120451
CREATED:20241227T164348Z
LAST-MODIFIED:20241227T164348Z
UID:20296-1740763800-1740774600@oakcitybrewingcompany.com
SUMMARY:Chick-N-Que
DESCRIPTION:The best chopped chicken bbq around!
URL:https://oakcitybrewingcompany.com/event/chick-n-que-52-2025-02-28/
CATEGORIES:Food Trucks
END:VEVENT
BEGIN:VEVENT
DTSTART;TZID=America/Halifax:20250227T173000
DTEND;TZID=America/Halifax:20250227T203000
DTSTAMP:20260419T120451
CREATED:20241227T163957Z
LAST-MODIFIED:20241227T163957Z
UID:20284-1740677400-1740688200@oakcitybrewingcompany.com
SUMMARY:Mike Nice Empanadas
DESCRIPTION:A family-owned food truck passionate about sharing their love for delicious\, homemade empanadas with our community.
URL:https://oakcitybrewingcompany.com/event/mike-nice-empanadas-2025-02-27/
CATEGORIES:Food Trucks
END:VEVENT
BEGIN:VEVENT
DTSTART;TZID=America/Halifax:20250226T183000
DTEND;TZID=America/Halifax:20250226T193000
DTSTAMP:20260419T120451
CREATED:20230622T143255Z
LAST-MODIFIED:20230622T143255Z
UID:20399-1740594600-1740598200@oakcitybrewingcompany.com
SUMMARY:Beer Run
DESCRIPTION:Join us for a 1.5\, 3\, or 5 mile run or walk through downtown Knightdale\, Knightdale Station Park\, Mingo Creek Trail\, and other areas and landmarks that make our town special with our run club. \nLearn more here: https://oakcitybrewingcompany.com/run-club/ \nRun club meets up at 6:30 pm every Wednesday or 11:30 am every Saturday\, cheers!
URL:https://oakcitybrewingcompany.com/event/beer-run-2024-12-11-2025-02-26/
CATEGORIES:Brewery Events,Weekly Events
ATTACH;FMTTYPE=image/png:https://oakcitybrewingcompany.com/wp-content/uploads/2023/06/Screen-Shot-2023-06-22-at-10.25.57-AM.png
END:VEVENT
BEGIN:VEVENT
DTSTART;TZID=America/Halifax:20250226T173000
DTEND;TZID=America/Halifax:20250226T203000
DTSTAMP:20260419T120451
CREATED:20241227T163127Z
LAST-MODIFIED:20241227T163127Z
UID:20640-1740591000-1740601800@oakcitybrewingcompany.com
SUMMARY:Bulkogi
DESCRIPTION:Authentic Korean BBQ with a yummy twist.
URL:https://oakcitybrewingcompany.com/event/bulkogi-13-2025-02-26/
CATEGORIES:Food Trucks
ATTACH;FMTTYPE=image/png:https://oakcitybrewingcompany.com/wp-content/uploads/2024/12/Screenshot-2024-12-27-at-11.30.44-AM.png
END:VEVENT
BEGIN:VEVENT
DTSTART;TZID=America/Halifax:20250225T170000
DTEND;TZID=America/Halifax:20250225T200000
DTSTAMP:20260419T120451
CREATED:20241227T164805Z
LAST-MODIFIED:20241227T164805Z
UID:20331-1740502800-1740513600@oakcitybrewingcompany.com
SUMMARY:Beef Street & Pig
DESCRIPTION:Delicious loaded nachos\, fries and comfort food.
URL:https://oakcitybrewingcompany.com/event/beef-street-pig-2025-02-25/
CATEGORIES:Food Trucks
END:VEVENT
BEGIN:VEVENT
DTSTART;TZID=America/Halifax:20250225T150000
DTEND;TZID=America/Halifax:20250225T220000
DTSTAMP:20260419T120451
CREATED:20241227T170528Z
LAST-MODIFIED:20241227T170528Z
UID:20512-1740495600-1740520800@oakcitybrewingcompany.com
SUMMARY:Pint Night
DESCRIPTION:$1 off pints every Tuesday here at Oak City!
URL:https://oakcitybrewingcompany.com/event/pint-night-50-2025-02-25/
CATEGORIES:Brewery Events,Events
END:VEVENT
BEGIN:VEVENT
DTSTART;VALUE=DATE:20250224
DTEND;VALUE=DATE:20250225
DTSTAMP:20260419T120451
CREATED:20241227T170652Z
LAST-MODIFIED:20241227T170652Z
UID:20614-1740355200-1740441599@oakcitybrewingcompany.com
SUMMARY:No Food Truck - BYOF
DESCRIPTION:
URL:https://oakcitybrewingcompany.com/event/no-food-truck-byof-30-2025-02-24/
CATEGORIES:Food Trucks
END:VEVENT
BEGIN:VEVENT
DTSTART;TZID=America/Halifax:20250222T160000
DTEND;TZID=America/Halifax:20250222T210000
DTSTAMP:20260419T120451
CREATED:20241227T165213Z
LAST-MODIFIED:20241227T165213Z
UID:20367-1740240000-1740258000@oakcitybrewingcompany.com
SUMMARY:Bertos Chimis
DESCRIPTION:
URL:https://oakcitybrewingcompany.com/event/bertos-chimis-3-2025-02-22/
CATEGORIES:Food Trucks
END:VEVENT
BEGIN:VEVENT
DTSTART;TZID=America/Halifax:20250222T150000
DTEND;TZID=America/Halifax:20250222T230000
DTSTAMP:20260419T120451
CREATED:20250122T154343Z
LAST-MODIFIED:20250211T151415Z
UID:20691-1740236400-1740265200@oakcitybrewingcompany.com
SUMMARY:Girl Scout Cookie Pairing
DESCRIPTION:It’s that time of year again\, beer & Girl Scout Cookies! \nMark your calendars for Saturday\, February 22nd because the sweetest pairing of the year is back! Indulge in Oak City beers perfectly paired with some iconic Girl Scout Cookies for a flavor experience you don’t want to miss. *While supplies last*\n.\nDon’t miss out on this fan-favorite event. Grab your friends\, a pint\, and a box (or three) of cookies with Girl Scout Troop 14281. Cheers to beer\, cookies\, and good times!
URL:https://oakcitybrewingcompany.com/event/girl-scout-cookie-pairing-4/
CATEGORIES:Brewery Events,Events,Weekly Events
ATTACH;FMTTYPE=image/png:https://oakcitybrewingcompany.com/wp-content/uploads/2025/01/Girl-Scout-Cookie-Pairing-Facebook-Event-Cover.png
END:VEVENT
BEGIN:VEVENT
DTSTART;TZID=America/Halifax:20250222T113000
DTEND;TZID=America/Halifax:20250222T123000
DTSTAMP:20260419T120451
CREATED:20230622T143640Z
LAST-MODIFIED:20250122T154438Z
UID:20451-1740223800-1740227400@oakcitybrewingcompany.com
SUMMARY:Beer Run
DESCRIPTION:Join us for a 1.5\, 3\, or 5 mile run or walk through downtown Knightdale\, Knightdale Station Park\, Mingo Creek Trail\, and other areas and landmarks that make our town special with our run club. \nLearn more here: https://oakcitybrewingcompany.com/run-club/ \nRun club meets up at 6:30 pm every Wednesday or 11:30 am every Saturday\, cheers! \n 
URL:https://oakcitybrewingcompany.com/event/beer-run-2-2024-12-21-2025-02-22/
CATEGORIES:Brewery Events,Weekly Events
ATTACH;FMTTYPE=image/png:https://oakcitybrewingcompany.com/wp-content/uploads/2023/06/Screen-Shot-2023-06-22-at-10.25.57-AM.png
END:VEVENT
BEGIN:VEVENT
DTSTART;TZID=America/Halifax:20250221T173000
DTEND;TZID=America/Halifax:20250221T203000
DTSTAMP:20260419T120451
CREATED:20241227T164520Z
LAST-MODIFIED:20241227T164620Z
UID:20308-1740159000-1740169800@oakcitybrewingcompany.com
SUMMARY:The Naked Empanada
DESCRIPTION:Savory and sweet empanadas since 2015!
URL:https://oakcitybrewingcompany.com/event/the-naked-empanada-2-2025-02-21/
CATEGORIES:Food Trucks
END:VEVENT
END:VCALENDAR