BEGIN:VCALENDAR
VERSION:2.0
PRODID:-//Oak City Brewing Company - ECPv6.15.20//NONSGML v1.0//EN
CALSCALE:GREGORIAN
METHOD:PUBLISH
X-WR-CALNAME:Oak City Brewing Company
X-ORIGINAL-URL:https://oakcitybrewingcompany.com
X-WR-CALDESC:Events for Oak City Brewing Company
REFRESH-INTERVAL;VALUE=DURATION:PT1H
X-Robots-Tag:noindex
X-PUBLISHED-TTL:PT1H
BEGIN:VTIMEZONE
TZID:America/Halifax
BEGIN:DAYLIGHT
TZOFFSETFROM:-0400
TZOFFSETTO:-0300
TZNAME:ADT
DTSTART:20240310T060000
END:DAYLIGHT
BEGIN:STANDARD
TZOFFSETFROM:-0300
TZOFFSETTO:-0400
TZNAME:AST
DTSTART:20241103T050000
END:STANDARD
BEGIN:DAYLIGHT
TZOFFSETFROM:-0400
TZOFFSETTO:-0300
TZNAME:ADT
DTSTART:20250309T060000
END:DAYLIGHT
BEGIN:STANDARD
TZOFFSETFROM:-0300
TZOFFSETTO:-0400
TZNAME:AST
DTSTART:20251102T050000
END:STANDARD
BEGIN:DAYLIGHT
TZOFFSETFROM:-0400
TZOFFSETTO:-0300
TZNAME:ADT
DTSTART:20260308T060000
END:DAYLIGHT
BEGIN:STANDARD
TZOFFSETFROM:-0300
TZOFFSETTO:-0400
TZNAME:AST
DTSTART:20261101T050000
END:STANDARD
END:VTIMEZONE
BEGIN:VEVENT
DTSTART;TZID=America/Halifax:20250316T140000
DTEND;TZID=America/Halifax:20250316T180000
DTSTAMP:20260419T120239
CREATED:20241227T165502Z
LAST-MODIFIED:20241227T165502Z
UID:20380-1742133600-1742148000@oakcitybrewingcompany.com
SUMMARY:Captains Gastro
DESCRIPTION:
URL:https://oakcitybrewingcompany.com/event/captains-gastro-2025-03-16/
CATEGORIES:Food Trucks
END:VEVENT
BEGIN:VEVENT
DTSTART;VALUE=DATE:20250317
DTEND;VALUE=DATE:20250318
DTSTAMP:20260419T120239
CREATED:20250313T155040Z
LAST-MODIFIED:20250313T155040Z
UID:20728-1742169600-1742255999@oakcitybrewingcompany.com
SUMMARY:No Food Truck – BYOF
DESCRIPTION:
URL:https://oakcitybrewingcompany.com/event/no-food-truck-byof-32/
CATEGORIES:Food Trucks
END:VEVENT
BEGIN:VEVENT
DTSTART;TZID=America/Halifax:20250318T150000
DTEND;TZID=America/Halifax:20250318T220000
DTSTAMP:20260419T120239
CREATED:20241227T170528Z
LAST-MODIFIED:20241227T170528Z
UID:20515-1742310000-1742335200@oakcitybrewingcompany.com
SUMMARY:Pint Night
DESCRIPTION:$1 off pints every Tuesday here at Oak City!
URL:https://oakcitybrewingcompany.com/event/pint-night-50-2025-03-18/
CATEGORIES:Brewery Events,Events
END:VEVENT
BEGIN:VEVENT
DTSTART;TZID=America/Halifax:20250318T173000
DTEND;TZID=America/Halifax:20250318T203000
DTSTAMP:20260419T120239
CREATED:20241227T163354Z
LAST-MODIFIED:20241227T163354Z
UID:20248-1742319000-1742329800@oakcitybrewingcompany.com
SUMMARY:The Greek Goat
DESCRIPTION:Authentic Greek Street Food experience with all your favorites.
URL:https://oakcitybrewingcompany.com/event/the-greek-goat-2-2025-03-18/
CATEGORIES:Food Trucks
END:VEVENT
BEGIN:VEVENT
DTSTART;TZID=America/Halifax:20250319T173000
DTEND;TZID=America/Halifax:20250319T203000
DTSTAMP:20260419T120239
CREATED:20250313T154634Z
LAST-MODIFIED:20250313T154634Z
UID:20720-1742405400-1742416200@oakcitybrewingcompany.com
SUMMARY:Beef Street & Pig
DESCRIPTION:Delicious loaded nachos\, fries and comfort food.
URL:https://oakcitybrewingcompany.com/event/beef-street-pig-2/
CATEGORIES:Food Trucks
END:VEVENT
BEGIN:VEVENT
DTSTART;TZID=America/Halifax:20250319T183000
DTEND;TZID=America/Halifax:20250319T193000
DTSTAMP:20260419T120239
CREATED:20230622T143255Z
LAST-MODIFIED:20230622T143255Z
UID:20402-1742409000-1742412600@oakcitybrewingcompany.com
SUMMARY:Beer Run
DESCRIPTION:Join us for a 1.5\, 3\, or 5 mile run or walk through downtown Knightdale\, Knightdale Station Park\, Mingo Creek Trail\, and other areas and landmarks that make our town special with our run club. \nLearn more here: https://oakcitybrewingcompany.com/run-club/ \nRun club meets up at 6:30 pm every Wednesday or 11:30 am every Saturday\, cheers!
URL:https://oakcitybrewingcompany.com/event/beer-run-2024-12-11-2025-03-19/
CATEGORIES:Brewery Events,Weekly Events
ATTACH;FMTTYPE=image/png:https://oakcitybrewingcompany.com/wp-content/uploads/2023/06/Screen-Shot-2023-06-22-at-10.25.57-AM.png
END:VEVENT
BEGIN:VEVENT
DTSTART;TZID=America/Halifax:20250320T173000
DTEND;TZID=America/Halifax:20250320T203000
DTSTAMP:20260419T120239
CREATED:20241227T163759Z
LAST-MODIFIED:20241227T163759Z
UID:20273-1742491800-1742502600@oakcitybrewingcompany.com
SUMMARY:Carolina's Catch
DESCRIPTION:Premier seafood food truck of the Triangle.
URL:https://oakcitybrewingcompany.com/event/carolinas-catch-3-2025-03-20/
CATEGORIES:Food Trucks
END:VEVENT
BEGIN:VEVENT
DTSTART;TZID=America/Halifax:20250321T173000
DTEND;TZID=America/Halifax:20250321T203000
DTSTAMP:20260419T120239
CREATED:20241227T164520Z
LAST-MODIFIED:20241227T164620Z
UID:20309-1742578200-1742589000@oakcitybrewingcompany.com
SUMMARY:The Naked Empanada
DESCRIPTION:Savory and sweet empanadas since 2015!
URL:https://oakcitybrewingcompany.com/event/the-naked-empanada-2-2025-03-21/
CATEGORIES:Food Trucks
END:VEVENT
BEGIN:VEVENT
DTSTART;TZID=America/Halifax:20250322T113000
DTEND;TZID=America/Halifax:20250322T123000
DTSTAMP:20260419T120239
CREATED:20230622T143640Z
LAST-MODIFIED:20241227T170559Z
UID:20455-1742643000-1742646600@oakcitybrewingcompany.com
SUMMARY:Beer Run
DESCRIPTION:Join us for a 1.5\, 3\, or 5 mile run or walk through downtown Knightdale\, Knightdale Station Park\, Mingo Creek Trail\, and other areas and landmarks that make our town special with our run club. \nLearn more here: https://oakcitybrewingcompany.com/run-club/ \nRun club meets up at 6:30 pm every Wednesday or 11:30 am every Saturday\, cheers! \n 
URL:https://oakcitybrewingcompany.com/event/beer-run-2-2024-12-21-2025-03-22/
CATEGORIES:Brewery Events,Weekly Events
ATTACH;FMTTYPE=image/png:https://oakcitybrewingcompany.com/wp-content/uploads/2023/06/Screen-Shot-2023-06-22-at-10.25.57-AM.png
END:VEVENT
BEGIN:VEVENT
DTSTART;TZID=America/Halifax:20250322T120000
DTEND;TZID=America/Halifax:20250322T150000
DTSTAMP:20260419T120239
CREATED:20250313T155638Z
LAST-MODIFIED:20250313T155638Z
UID:20740-1742644800-1742655600@oakcitybrewingcompany.com
SUMMARY:Blu Lotus
DESCRIPTION:
URL:https://oakcitybrewingcompany.com/event/blu-lotus/
CATEGORIES:Food Trucks
END:VEVENT
BEGIN:VEVENT
DTSTART;TZID=America/Halifax:20250322T160000
DTEND;TZID=America/Halifax:20250322T210000
DTSTAMP:20260419T120239
CREATED:20241227T165213Z
LAST-MODIFIED:20250313T155608Z
UID:20368-1742659200-1742677200@oakcitybrewingcompany.com
SUMMARY:Panas Flavor
DESCRIPTION:
URL:https://oakcitybrewingcompany.com/event/bertos-chimis-3-2025-03-22/
CATEGORIES:Food Trucks
END:VEVENT
BEGIN:VEVENT
DTSTART;TZID=America/Halifax:20250323T130000
DTEND;TZID=America/Halifax:20250323T180000
DTSTAMP:20260419T120239
CREATED:20250313T154815Z
LAST-MODIFIED:20250313T154815Z
UID:20722-1742734800-1742752800@oakcitybrewingcompany.com
SUMMARY:Tombachi
DESCRIPTION:Raleighs first & only Hibachi Food Truck! Serving The Triangle with Fresh\, Fast & Quality Entrees.
URL:https://oakcitybrewingcompany.com/event/tombachi-2/
CATEGORIES:Food Trucks
END:VEVENT
BEGIN:VEVENT
DTSTART;VALUE=DATE:20250324
DTEND;VALUE=DATE:20250325
DTSTAMP:20260419T120239
CREATED:20250313T155109Z
LAST-MODIFIED:20250313T155109Z
UID:20730-1742774400-1742860799@oakcitybrewingcompany.com
SUMMARY:No Food Truck – BYOF
DESCRIPTION:
URL:https://oakcitybrewingcompany.com/event/no-food-truck-byof-33/
CATEGORIES:Food Trucks
END:VEVENT
BEGIN:VEVENT
DTSTART;TZID=America/Halifax:20250325T150000
DTEND;TZID=America/Halifax:20250325T220000
DTSTAMP:20260419T120239
CREATED:20241227T170528Z
LAST-MODIFIED:20241227T170528Z
UID:20516-1742914800-1742940000@oakcitybrewingcompany.com
SUMMARY:Pint Night
DESCRIPTION:$1 off pints every Tuesday here at Oak City!
URL:https://oakcitybrewingcompany.com/event/pint-night-50-2025-03-25/
CATEGORIES:Brewery Events,Events
END:VEVENT
BEGIN:VEVENT
DTSTART;TZID=America/Halifax:20250325T170000
DTEND;TZID=America/Halifax:20250325T200000
DTSTAMP:20260419T120239
CREATED:20241227T164805Z
LAST-MODIFIED:20241227T164805Z
UID:20332-1742922000-1742932800@oakcitybrewingcompany.com
SUMMARY:Beef Street & Pig
DESCRIPTION:Delicious loaded nachos\, fries and comfort food.
URL:https://oakcitybrewingcompany.com/event/beef-street-pig-2025-03-25/
CATEGORIES:Food Trucks
END:VEVENT
BEGIN:VEVENT
DTSTART;TZID=America/Halifax:20250326T173000
DTEND;TZID=America/Halifax:20250326T203000
DTSTAMP:20260419T120239
CREATED:20241227T163127Z
LAST-MODIFIED:20241227T163127Z
UID:20641-1743010200-1743021000@oakcitybrewingcompany.com
SUMMARY:Bulkogi
DESCRIPTION:Authentic Korean BBQ with a yummy twist.
URL:https://oakcitybrewingcompany.com/event/bulkogi-13-2025-03-26/
CATEGORIES:Food Trucks
ATTACH;FMTTYPE=image/png:https://oakcitybrewingcompany.com/wp-content/uploads/2024/12/Screenshot-2024-12-27-at-11.30.44-AM.png
END:VEVENT
BEGIN:VEVENT
DTSTART;TZID=America/Halifax:20250326T183000
DTEND;TZID=America/Halifax:20250326T193000
DTSTAMP:20260419T120239
CREATED:20230622T143255Z
LAST-MODIFIED:20230622T143255Z
UID:20403-1743013800-1743017400@oakcitybrewingcompany.com
SUMMARY:Beer Run
DESCRIPTION:Join us for a 1.5\, 3\, or 5 mile run or walk through downtown Knightdale\, Knightdale Station Park\, Mingo Creek Trail\, and other areas and landmarks that make our town special with our run club. \nLearn more here: https://oakcitybrewingcompany.com/run-club/ \nRun club meets up at 6:30 pm every Wednesday or 11:30 am every Saturday\, cheers!
URL:https://oakcitybrewingcompany.com/event/beer-run-2024-12-11-2025-03-26/
CATEGORIES:Brewery Events,Weekly Events
ATTACH;FMTTYPE=image/png:https://oakcitybrewingcompany.com/wp-content/uploads/2023/06/Screen-Shot-2023-06-22-at-10.25.57-AM.png
END:VEVENT
BEGIN:VEVENT
DTSTART;TZID=America/Halifax:20250327T173000
DTEND;TZID=America/Halifax:20250327T203000
DTSTAMP:20260419T120239
CREATED:20241227T163957Z
LAST-MODIFIED:20241227T163957Z
UID:20285-1743096600-1743107400@oakcitybrewingcompany.com
SUMMARY:Mike Nice Empanadas
DESCRIPTION:A family-owned food truck passionate about sharing their love for delicious\, homemade empanadas with our community.
URL:https://oakcitybrewingcompany.com/event/mike-nice-empanadas-2025-03-27/
CATEGORIES:Food Trucks
END:VEVENT
BEGIN:VEVENT
DTSTART;TZID=America/Halifax:20250328T173000
DTEND;TZID=America/Halifax:20250328T203000
DTSTAMP:20260419T120239
CREATED:20241227T164348Z
LAST-MODIFIED:20241227T164348Z
UID:20297-1743183000-1743193800@oakcitybrewingcompany.com
SUMMARY:Chick-N-Que
DESCRIPTION:The best chopped chicken bbq around!
URL:https://oakcitybrewingcompany.com/event/chick-n-que-52-2025-03-28/
CATEGORIES:Food Trucks
END:VEVENT
BEGIN:VEVENT
DTSTART;TZID=America/Halifax:20250329T113000
DTEND;TZID=America/Halifax:20250329T123000
DTSTAMP:20260419T120239
CREATED:20230622T143640Z
LAST-MODIFIED:20241227T170559Z
UID:20456-1743247800-1743251400@oakcitybrewingcompany.com
SUMMARY:Beer Run
DESCRIPTION:Join us for a 1.5\, 3\, or 5 mile run or walk through downtown Knightdale\, Knightdale Station Park\, Mingo Creek Trail\, and other areas and landmarks that make our town special with our run club. \nLearn more here: https://oakcitybrewingcompany.com/run-club/ \nRun club meets up at 6:30 pm every Wednesday or 11:30 am every Saturday\, cheers! \n 
URL:https://oakcitybrewingcompany.com/event/beer-run-2-2024-12-21-2025-03-29/
CATEGORIES:Brewery Events,Weekly Events
ATTACH;FMTTYPE=image/png:https://oakcitybrewingcompany.com/wp-content/uploads/2023/06/Screen-Shot-2023-06-22-at-10.25.57-AM.png
END:VEVENT
BEGIN:VEVENT
DTSTART;TZID=America/Halifax:20250329T120000
DTEND;TZID=America/Halifax:20250329T150000
DTSTAMP:20260419T120239
CREATED:20250313T155728Z
LAST-MODIFIED:20250313T155728Z
UID:20742-1743249600-1743260400@oakcitybrewingcompany.com
SUMMARY:JW’s Smoke Shack
DESCRIPTION:
URL:https://oakcitybrewingcompany.com/event/jws-smoke-shack/
CATEGORIES:Food Trucks
END:VEVENT
BEGIN:VEVENT
DTSTART;TZID=America/Halifax:20250329T160000
DTEND;TZID=America/Halifax:20250329T210000
DTSTAMP:20260419T120239
CREATED:20250313T155759Z
LAST-MODIFIED:20250313T155759Z
UID:20744-1743264000-1743282000@oakcitybrewingcompany.com
SUMMARY:Mac House
DESCRIPTION:
URL:https://oakcitybrewingcompany.com/event/mac-house/
CATEGORIES:Food Trucks
END:VEVENT
BEGIN:VEVENT
DTSTART;TZID=America/Halifax:20250330T130000
DTEND;TZID=America/Halifax:20250330T180000
DTSTAMP:20260419T120239
CREATED:20250313T154943Z
LAST-MODIFIED:20250313T154943Z
UID:20724-1743339600-1743357600@oakcitybrewingcompany.com
SUMMARY:The Subs Factory
DESCRIPTION:Serving American Phyllis\, Tacos\, Nachos\, Quesadillas\, Street Pepitos\, Tortas\, Cheeseburgers\, Grilled Cheese\, Tenders\, Nachos\, Wings\, Fries.
URL:https://oakcitybrewingcompany.com/event/the-subs-factory/
END:VEVENT
BEGIN:VEVENT
DTSTART;VALUE=DATE:20250331
DTEND;VALUE=DATE:20250401
DTSTAMP:20260419T120239
CREATED:20250313T155129Z
LAST-MODIFIED:20250313T155129Z
UID:20732-1743379200-1743465599@oakcitybrewingcompany.com
SUMMARY:No Food Truck – BYOF
DESCRIPTION:
URL:https://oakcitybrewingcompany.com/event/no-food-truck-byof-34/
CATEGORIES:Food Trucks
END:VEVENT
BEGIN:VEVENT
DTSTART;TZID=America/Halifax:20250401T150000
DTEND;TZID=America/Halifax:20250401T220000
DTSTAMP:20260419T120239
CREATED:20241227T170528Z
LAST-MODIFIED:20241227T170528Z
UID:20517-1743519600-1743544800@oakcitybrewingcompany.com
SUMMARY:Pint Night
DESCRIPTION:$1 off pints every Tuesday here at Oak City!
URL:https://oakcitybrewingcompany.com/event/pint-night-50-2025-04-01/
CATEGORIES:Brewery Events,Events
END:VEVENT
BEGIN:VEVENT
DTSTART;TZID=America/Halifax:20250401T170000
DTEND;TZID=America/Halifax:20250401T200000
DTSTAMP:20260419T120239
CREATED:20241227T155905Z
LAST-MODIFIED:20241227T155905Z
UID:20150-1743526800-1743537600@oakcitybrewingcompany.com
SUMMARY:Copperhead's Craft Burgers
DESCRIPTION:Serving up uniquely crafted burgers!
URL:https://oakcitybrewingcompany.com/event/copperheads-craft-burgers-2-2025-04-01/
CATEGORIES:Food Trucks
ATTACH;FMTTYPE=image/png:https://oakcitybrewingcompany.com/wp-content/uploads/2024/12/Screenshot-2024-12-27-at-10.57.34-AM.png
END:VEVENT
BEGIN:VEVENT
DTSTART;TZID=America/Halifax:20250402T173000
DTEND;TZID=America/Halifax:20250402T203000
DTSTAMP:20260419T120239
CREATED:20241227T163523Z
LAST-MODIFIED:20241227T163523Z
UID:20260-1743615000-1743625800@oakcitybrewingcompany.com
SUMMARY:Chirba Chirba Dumpling
DESCRIPTION:Serving mouth-watering\, Chinese style dumplings & pan Asian fare
URL:https://oakcitybrewingcompany.com/event/chirba-chirba-dumpling-49-2025-04-02/
CATEGORIES:Food Trucks
END:VEVENT
BEGIN:VEVENT
DTSTART;TZID=America/Halifax:20250402T183000
DTEND;TZID=America/Halifax:20250402T193000
DTSTAMP:20260419T120239
CREATED:20230622T143255Z
LAST-MODIFIED:20230622T143255Z
UID:20404-1743618600-1743622200@oakcitybrewingcompany.com
SUMMARY:Beer Run
DESCRIPTION:Join us for a 1.5\, 3\, or 5 mile run or walk through downtown Knightdale\, Knightdale Station Park\, Mingo Creek Trail\, and other areas and landmarks that make our town special with our run club. \nLearn more here: https://oakcitybrewingcompany.com/run-club/ \nRun club meets up at 6:30 pm every Wednesday or 11:30 am every Saturday\, cheers!
URL:https://oakcitybrewingcompany.com/event/beer-run-2024-12-11-2025-04-02/
CATEGORIES:Brewery Events,Weekly Events
ATTACH;FMTTYPE=image/png:https://oakcitybrewingcompany.com/wp-content/uploads/2023/06/Screen-Shot-2023-06-22-at-10.25.57-AM.png
END:VEVENT
BEGIN:VEVENT
DTSTART;TZID=America/Halifax:20250403T173000
DTEND;TZID=America/Halifax:20250403T203000
DTSTAMP:20260419T120239
CREATED:20241227T155130Z
LAST-MODIFIED:20241227T155130Z
UID:20097-1743701400-1743712200@oakcitybrewingcompany.com
SUMMARY:La Katrina Tacos
DESCRIPTION:Mexican street food.
URL:https://oakcitybrewingcompany.com/event/la-katrina-tacos-2025-04-03/
CATEGORIES:Food Trucks
ATTACH;FMTTYPE=image/png:https://oakcitybrewingcompany.com/wp-content/uploads/2024/12/Screenshot-2024-12-27-at-10.50.09-AM.png
END:VEVENT
BEGIN:VEVENT
DTSTART;TZID=America/Halifax:20250404T173000
DTEND;TZID=America/Halifax:20250404T203000
DTSTAMP:20260419T120239
CREATED:20241227T155550Z
LAST-MODIFIED:20250402T175821Z
UID:20116-1743787800-1743798600@oakcitybrewingcompany.com
SUMMARY:The Flat Drum\, GoldenKdog & Louie & Co Ice Cream
DESCRIPTION:Food trucks for our April First Friday event.
URL:https://oakcitybrewingcompany.com/event/the-flat-drum-4-2025-04-04/
CATEGORIES:Food Trucks
END:VEVENT
END:VCALENDAR