BEGIN:VCALENDAR
VERSION:2.0
PRODID:-//Oak City Brewing Company - ECPv6.15.20//NONSGML v1.0//EN
CALSCALE:GREGORIAN
METHOD:PUBLISH
X-ORIGINAL-URL:https://oakcitybrewingcompany.com
X-WR-CALDESC:Events for Oak City Brewing Company
REFRESH-INTERVAL;VALUE=DURATION:PT1H
X-Robots-Tag:noindex
X-PUBLISHED-TTL:PT1H
BEGIN:VTIMEZONE
TZID:America/Halifax
BEGIN:DAYLIGHT
TZOFFSETFROM:-0400
TZOFFSETTO:-0300
TZNAME:ADT
DTSTART:20240310T060000
END:DAYLIGHT
BEGIN:STANDARD
TZOFFSETFROM:-0300
TZOFFSETTO:-0400
TZNAME:AST
DTSTART:20241103T050000
END:STANDARD
BEGIN:DAYLIGHT
TZOFFSETFROM:-0400
TZOFFSETTO:-0300
TZNAME:ADT
DTSTART:20250309T060000
END:DAYLIGHT
BEGIN:STANDARD
TZOFFSETFROM:-0300
TZOFFSETTO:-0400
TZNAME:AST
DTSTART:20251102T050000
END:STANDARD
BEGIN:DAYLIGHT
TZOFFSETFROM:-0400
TZOFFSETTO:-0300
TZNAME:ADT
DTSTART:20260308T060000
END:DAYLIGHT
BEGIN:STANDARD
TZOFFSETFROM:-0300
TZOFFSETTO:-0400
TZNAME:AST
DTSTART:20261101T050000
END:STANDARD
END:VTIMEZONE
BEGIN:VEVENT
DTSTART;TZID=America/Halifax:20250607T113000
DTEND;TZID=America/Halifax:20250607T123000
DTSTAMP:20260423T080452
CREATED:20230622T143640Z
LAST-MODIFIED:20241227T170600Z
UID:20466-1749295800-1749299400@oakcitybrewingcompany.com
SUMMARY:Beer Run
DESCRIPTION:Join us for a 1.5\, 3\, or 5 mile run or walk through downtown Knightdale\, Knightdale Station Park\, Mingo Creek Trail\, and other areas and landmarks that make our town special with our run club. \nLearn more here: https://oakcitybrewingcompany.com/run-club/ \nRun club meets up at 6:30 pm every Wednesday or 11:30 am every Saturday\, cheers! \n 
URL:https://oakcitybrewingcompany.com/event/beer-run-2-2024-12-21-2025-06-07/
CATEGORIES:Brewery Events,Weekly Events
ATTACH;FMTTYPE=image/png:https://oakcitybrewingcompany.com/wp-content/uploads/2023/06/Screen-Shot-2023-06-22-at-10.25.57-AM.png
END:VEVENT
BEGIN:VEVENT
DTSTART;TZID=America/Halifax:20250607T120000
DTEND;TZID=America/Halifax:20250607T150000
DTSTAMP:20260423T080452
CREATED:20250602T172340Z
LAST-MODIFIED:20250604T162033Z
UID:20858-1749297600-1749308400@oakcitybrewingcompany.com
SUMMARY:Lornett's Southern Kitchen
DESCRIPTION:
URL:https://oakcitybrewingcompany.com/event/big-bs-southern-kitchen-4/
CATEGORIES:Food Trucks
END:VEVENT
BEGIN:VEVENT
DTSTART;TZID=America/Halifax:20250607T160000
DTEND;TZID=America/Halifax:20250607T210000
DTSTAMP:20260423T080452
CREATED:20250602T172312Z
LAST-MODIFIED:20250602T172312Z
UID:20856-1749312000-1749330000@oakcitybrewingcompany.com
SUMMARY:Barone Italian Grille
DESCRIPTION:
URL:https://oakcitybrewingcompany.com/event/barone-italian-grille-2/
CATEGORIES:Food Trucks
ATTACH;FMTTYPE=image/jpeg:https://oakcitybrewingcompany.com/wp-content/uploads/2018/08/download-5.jpeg
END:VEVENT
BEGIN:VEVENT
DTSTART;TZID=America/Halifax:20250608T110000
DTEND;TZID=America/Halifax:20250608T140000
DTSTAMP:20260423T080452
CREATED:20250522T144209Z
LAST-MODIFIED:20250522T144210Z
UID:20843-1749380400-1749391200@oakcitybrewingcompany.com
SUMMARY:Farmers Market
DESCRIPTION:Fresh vibes\, local finds! .Join us for our next Farmers Market on Sunday\, June 8th at Oak City Brewing from 11 AM – 2 PM!.Sip\, shop\, and support local farms and businesses—because fresh produce pairs perfectly with fresh beer. 
URL:https://oakcitybrewingcompany.com/event/farmers-market-2/
CATEGORIES:Brewery Events,Events
ATTACH;FMTTYPE=image/png:https://oakcitybrewingcompany.com/wp-content/uploads/2025/05/June-Farmers-Market.png
END:VEVENT
BEGIN:VEVENT
DTSTART;TZID=America/Halifax:20250608T110000
DTEND;TZID=America/Halifax:20250608T140000
DTSTAMP:20260423T080452
CREATED:20250602T171540Z
LAST-MODIFIED:20250602T171540Z
UID:20848-1749380400-1749391200@oakcitybrewingcompany.com
SUMMARY:Not Just Icing & Chick-n-Que
DESCRIPTION:Additional food trucks for the farmers market.
URL:https://oakcitybrewingcompany.com/event/not-just-icing-chick-n-que/
CATEGORIES:Food Trucks
END:VEVENT
BEGIN:VEVENT
DTSTART;TZID=America/Halifax:20250608T110000
DTEND;TZID=America/Halifax:20250608T180000
DTSTAMP:20260423T080452
CREATED:20250107T182459Z
LAST-MODIFIED:20250602T171444Z
UID:20659-1749380400-1749405600@oakcitybrewingcompany.com
SUMMARY:St. Vicent Spanish Cuisine
DESCRIPTION:Spanish food with traditional dishes like croquetas and seafood paella.
URL:https://oakcitybrewingcompany.com/event/st-vicent-spanish-cuisine-2-2025-06-08/
CATEGORIES:Food Trucks
ATTACH;FMTTYPE=image/png:https://oakcitybrewingcompany.com/wp-content/uploads/2025/01/Screenshot-2025-01-07-at-1.23.47-PM.png
END:VEVENT
BEGIN:VEVENT
DTSTART;VALUE=DATE:20250609
DTEND;VALUE=DATE:20250610
DTSTAMP:20260423T080452
CREATED:20250602T172549Z
LAST-MODIFIED:20250602T172549Z
UID:20864-1749427200-1749513599@oakcitybrewingcompany.com
SUMMARY:No food truck - BYOF
DESCRIPTION:
URL:https://oakcitybrewingcompany.com/event/no-food-truck-byof-40/
CATEGORIES:Food Trucks
END:VEVENT
BEGIN:VEVENT
DTSTART;TZID=America/Halifax:20250610T150000
DTEND;TZID=America/Halifax:20250610T220000
DTSTAMP:20260423T080452
CREATED:20241227T170528Z
LAST-MODIFIED:20241227T170528Z
UID:20527-1749567600-1749592800@oakcitybrewingcompany.com
SUMMARY:Pint Night
DESCRIPTION:$1 off pints every Tuesday here at Oak City!
URL:https://oakcitybrewingcompany.com/event/pint-night-50-2025-06-10/
CATEGORIES:Brewery Events,Events
END:VEVENT
BEGIN:VEVENT
DTSTART;TZID=America/Halifax:20250610T173000
DTEND;TZID=America/Halifax:20250610T203000
DTSTAMP:20260423T080452
CREATED:20250107T183820Z
LAST-MODIFIED:20250107T183820Z
UID:20672-1749576600-1749587400@oakcitybrewingcompany.com
SUMMARY:Pizza Marchese
DESCRIPTION:A mobile pizzeria!
URL:https://oakcitybrewingcompany.com/event/pizza-marchese-2025-06-10/
CATEGORIES:Food Trucks
ATTACH;FMTTYPE=image/png:https://oakcitybrewingcompany.com/wp-content/uploads/2025/01/Screenshot-2025-01-07-at-1.37.41-PM.png
END:VEVENT
BEGIN:VEVENT
DTSTART;TZID=America/Halifax:20250611T173000
DTEND;TZID=America/Halifax:20250611T203000
DTSTAMP:20260423T080452
CREATED:20241227T160638Z
LAST-MODIFIED:20241227T160638Z
UID:20224-1749663000-1749673800@oakcitybrewingcompany.com
SUMMARY:The Tasty Turkey Que
DESCRIPTION:The Tasty Turkey-Que is famous for its chopped and seasoned turkey barbecue.
URL:https://oakcitybrewingcompany.com/event/the-tasty-turkey-que-2-2025-06-11/
CATEGORIES:Food Trucks
ATTACH;FMTTYPE=image/jpeg:https://oakcitybrewingcompany.com/wp-content/uploads/2022/09/216927439_236514948306576_2229485138571803795_n.jpg
END:VEVENT
BEGIN:VEVENT
DTSTART;TZID=America/Halifax:20250611T183000
DTEND;TZID=America/Halifax:20250611T193000
DTSTAMP:20260423T080452
CREATED:20230622T143255Z
LAST-MODIFIED:20230622T143255Z
UID:20414-1749666600-1749670200@oakcitybrewingcompany.com
SUMMARY:Beer Run
DESCRIPTION:Join us for a 1.5\, 3\, or 5 mile run or walk through downtown Knightdale\, Knightdale Station Park\, Mingo Creek Trail\, and other areas and landmarks that make our town special with our run club. \nLearn more here: https://oakcitybrewingcompany.com/run-club/ \nRun club meets up at 6:30 pm every Wednesday or 11:30 am every Saturday\, cheers!
URL:https://oakcitybrewingcompany.com/event/beer-run-2024-12-11-2025-06-11/
CATEGORIES:Brewery Events,Weekly Events
ATTACH;FMTTYPE=image/png:https://oakcitybrewingcompany.com/wp-content/uploads/2023/06/Screen-Shot-2023-06-22-at-10.25.57-AM.png
END:VEVENT
BEGIN:VEVENT
DTSTART;TZID=America/Halifax:20250612T173000
DTEND;TZID=America/Halifax:20250612T203000
DTSTAMP:20260423T080452
CREATED:20241227T161236Z
LAST-MODIFIED:20241227T161236Z
UID:20187-1749749400-1749760200@oakcitybrewingcompany.com
SUMMARY:Not Just A Fry Guy
DESCRIPTION:Gourmet\, Loaded\, Fresh Cut Fries. Homemade sauces made w/ fresh ingredients! The whole truck is Gluten Free!
URL:https://oakcitybrewingcompany.com/event/not-just-a-fry-guy-2-2025-06-12/
CATEGORIES:Food Trucks
ATTACH;FMTTYPE=image/png:https://oakcitybrewingcompany.com/wp-content/uploads/2024/12/Screenshot-2024-12-27-at-11.14.31-AM.png
END:VEVENT
BEGIN:VEVENT
DTSTART;TZID=America/Halifax:20250613T173000
DTEND;TZID=America/Halifax:20250613T203000
DTSTAMP:20260423T080452
CREATED:20241227T161911Z
LAST-MODIFIED:20241227T161911Z
UID:20199-1749835800-1749846600@oakcitybrewingcompany.com
SUMMARY:Caribbean Kicker
DESCRIPTION:Bold flavors meet soulful cooking\, bringing the vibrant taste of the Caribbean to every plate.
URL:https://oakcitybrewingcompany.com/event/caribbean-kicker-4-2025-06-13/
CATEGORIES:Food Trucks
ATTACH;FMTTYPE=image/jpeg:https://oakcitybrewingcompany.com/wp-content/uploads/2022/08/279096638_2125417890949808_6612292007969708448_n.jpg
END:VEVENT
BEGIN:VEVENT
DTSTART;TZID=America/Halifax:20250614T110000
DTEND;TZID=America/Halifax:20250614T120000
DTSTAMP:20260423T080452
CREATED:20250602T194948Z
LAST-MODIFIED:20250604T225253Z
UID:20918-1749898800-1749902400@oakcitybrewingcompany.com
SUMMARY:Yoga on the Lawn w/ Arise Athletics
DESCRIPTION:Calling all Oak City yogis! \nJoin us for an all-levels Vinyasa Flow sequence on Saturday\, June 14th\, from 11 AM to 12 PM. Breathe\, stretch\, and reenergize\, and then stay for some social time. \n$10/class. All skill levels are welcome!\nSign up here: https://bit.ly/3FoFLdj \nEmail info@ariseathleticsnc.com with any further questions.
URL:https://oakcitybrewingcompany.com/event/yoga-on-the-lawn-w-arise-athletics/
CATEGORIES:Brewery Events,Events
ATTACH;FMTTYPE=image/png:https://oakcitybrewingcompany.com/wp-content/uploads/2025/06/Yoga-614.png
END:VEVENT
BEGIN:VEVENT
DTSTART;TZID=America/Halifax:20250614T113000
DTEND;TZID=America/Halifax:20250614T123000
DTSTAMP:20260423T080452
CREATED:20230622T143640Z
LAST-MODIFIED:20250602T194833Z
UID:20467-1749900600-1749904200@oakcitybrewingcompany.com
SUMMARY:Beer Run
DESCRIPTION:Join us for a 1.5\, 3\, or 5 mile run or walk through downtown Knightdale\, Knightdale Station Park\, Mingo Creek Trail\, and other areas and landmarks that make our town special with our run club. \nLearn more here: https://oakcitybrewingcompany.com/run-club/ \nRun club meets up at 6:30 pm every Wednesday or 11:30 am every Saturday\, cheers! \n 
URL:https://oakcitybrewingcompany.com/event/beer-run-2-2024-12-21-2025-06-14/
CATEGORIES:Brewery Events,Weekly Events
ATTACH;FMTTYPE=image/png:https://oakcitybrewingcompany.com/wp-content/uploads/2023/06/Screen-Shot-2023-06-22-at-10.25.57-AM.png
END:VEVENT
BEGIN:VEVENT
DTSTART;TZID=America/Halifax:20250614T120000
DTEND;TZID=America/Halifax:20250614T150000
DTSTAMP:20260423T080452
CREATED:20250602T172435Z
LAST-MODIFIED:20250602T172435Z
UID:20860-1749902400-1749913200@oakcitybrewingcompany.com
SUMMARY:Roma Rican
DESCRIPTION:
URL:https://oakcitybrewingcompany.com/event/roma-rican/
CATEGORIES:Food Trucks
END:VEVENT
BEGIN:VEVENT
DTSTART;TZID=America/Halifax:20250614T160000
DTEND;TZID=America/Halifax:20250614T210000
DTSTAMP:20260423T080452
CREATED:20241227T164931Z
LAST-MODIFIED:20241227T164931Z
UID:20347-1749916800-1749934800@oakcitybrewingcompany.com
SUMMARY:Fired Up Pizza & BBQ
DESCRIPTION:Serving wood fired pizza and bbq.
URL:https://oakcitybrewingcompany.com/event/fired-up-pizza-bbq-3-2025-06-14/
CATEGORIES:Food Trucks
END:VEVENT
BEGIN:VEVENT
DTSTART;TZID=America/Halifax:20250614T170000
DTEND;TZID=America/Halifax:20250614T200000
DTSTAMP:20260423T080452
CREATED:20250519T133507Z
LAST-MODIFIED:20250613T185840Z
UID:20839-1749920400-1749931200@oakcitybrewingcompany.com
SUMMARY:Pints & Putts Father's Day Celebration
DESCRIPTION:Join us at Oak City Brewing Company for a Father’s Day celebration like no other on June 14th from 5-8 PM.\nGet ready for an evening filled with fun\, laughter\, and plenty of brews as we honor all the incredible dads out there.\n\nWhen Dad grabs a pint\, he gets a ticket to play the golf simulator for free!\n\nMusic by: Sam Trebing𝐅𝐨𝐨𝐝 𝐓𝐫𝐮𝐜𝐤𝐬: Fired Up Pizza & BBQ\, Sprinkled With Love Cakery & Finca Burger𝐀𝐝𝐝𝐞𝐝 𝐅𝐮𝐧: Free Golf Simulator Time with the purchase of a beer. Must be 21+ for a turn.\n𝐒𝐦𝐚𝐥𝐥 𝐁𝐮𝐬𝐢𝐧𝐞𝐬𝐬 𝐕𝐞𝐧𝐝𝐨𝐫𝐬:The Marley MarketAwaken NC LLCLSV Mobile Cigar
URL:https://oakcitybrewingcompany.com/event/pints-putts-fathers-day-celebration/
CATEGORIES:Brewery Events,Events
ATTACH;FMTTYPE=image/png:https://oakcitybrewingcompany.com/wp-content/uploads/2025/05/Fathers-Day-Event-1.png
END:VEVENT
BEGIN:VEVENT
DTSTART;TZID=America/Halifax:20250614T170000
DTEND;TZID=America/Halifax:20250614T200000
DTSTAMP:20260423T080452
CREATED:20250602T172100Z
LAST-MODIFIED:20250613T173955Z
UID:20853-1749920400-1749931200@oakcitybrewingcompany.com
SUMMARY:Sprinkled With Love Cakery & Finca Burger
DESCRIPTION:Additional trucks for our Putts & Pints event
URL:https://oakcitybrewingcompany.com/event/donut-nv-raleigh-poblanos-tacos/
CATEGORIES:Food Trucks
END:VEVENT
BEGIN:VEVENT
DTSTART;TZID=America/Halifax:20250615T140000
DTEND;TZID=America/Halifax:20250615T180000
DTSTAMP:20260423T080452
CREATED:20241227T165502Z
LAST-MODIFIED:20250602T172136Z
UID:20383-1749996000-1750010400@oakcitybrewingcompany.com
SUMMARY:Blu Lotus
DESCRIPTION:
URL:https://oakcitybrewingcompany.com/event/captains-gastro-2025-06-15/
CATEGORIES:Food Trucks
END:VEVENT
BEGIN:VEVENT
DTSTART;VALUE=DATE:20250616
DTEND;VALUE=DATE:20250617
DTSTAMP:20260423T080452
CREATED:20250602T172609Z
LAST-MODIFIED:20250602T172609Z
UID:20866-1750032000-1750118399@oakcitybrewingcompany.com
SUMMARY:No food truck - BYOF
DESCRIPTION:
URL:https://oakcitybrewingcompany.com/event/no-food-truck-byof-41/
CATEGORIES:Food Trucks
END:VEVENT
BEGIN:VEVENT
DTSTART;TZID=America/Halifax:20250617T150000
DTEND;TZID=America/Halifax:20250617T220000
DTSTAMP:20260423T080452
CREATED:20241227T170528Z
LAST-MODIFIED:20241227T170528Z
UID:20528-1750172400-1750197600@oakcitybrewingcompany.com
SUMMARY:Pint Night
DESCRIPTION:$1 off pints every Tuesday here at Oak City!
URL:https://oakcitybrewingcompany.com/event/pint-night-50-2025-06-17/
CATEGORIES:Brewery Events,Events
END:VEVENT
BEGIN:VEVENT
DTSTART;TZID=America/Halifax:20250617T173000
DTEND;TZID=America/Halifax:20250617T203000
DTSTAMP:20260423T080452
CREATED:20250602T171637Z
LAST-MODIFIED:20250602T171637Z
UID:20850-1750181400-1750192200@oakcitybrewingcompany.com
SUMMARY:JW’s Smoke Shack
DESCRIPTION:
URL:https://oakcitybrewingcompany.com/event/jws-smoke-shack-2/
CATEGORIES:Food Trucks
END:VEVENT
BEGIN:VEVENT
DTSTART;TZID=America/Halifax:20250618T173000
DTEND;TZID=America/Halifax:20250618T203000
DTSTAMP:20260423T080452
CREATED:20241227T162236Z
LAST-MODIFIED:20250519T132319Z
UID:20213-1750267800-1750278600@oakcitybrewingcompany.com
SUMMARY:Mama Voula's
DESCRIPTION:
URL:https://oakcitybrewingcompany.com/event/off-the-hog-2-2025-06-18/
CATEGORIES:Food Trucks
END:VEVENT
BEGIN:VEVENT
DTSTART;TZID=America/Halifax:20250618T183000
DTEND;TZID=America/Halifax:20250618T193000
DTSTAMP:20260423T080452
CREATED:20230622T143255Z
LAST-MODIFIED:20230622T143255Z
UID:20415-1750271400-1750275000@oakcitybrewingcompany.com
SUMMARY:Beer Run
DESCRIPTION:Join us for a 1.5\, 3\, or 5 mile run or walk through downtown Knightdale\, Knightdale Station Park\, Mingo Creek Trail\, and other areas and landmarks that make our town special with our run club. \nLearn more here: https://oakcitybrewingcompany.com/run-club/ \nRun club meets up at 6:30 pm every Wednesday or 11:30 am every Saturday\, cheers!
URL:https://oakcitybrewingcompany.com/event/beer-run-2024-12-11-2025-06-18/
CATEGORIES:Brewery Events,Weekly Events
ATTACH;FMTTYPE=image/png:https://oakcitybrewingcompany.com/wp-content/uploads/2023/06/Screen-Shot-2023-06-22-at-10.25.57-AM.png
END:VEVENT
BEGIN:VEVENT
DTSTART;TZID=America/Halifax:20250619T173000
DTEND;TZID=America/Halifax:20250619T203000
DTSTAMP:20260423T080452
CREATED:20241227T163759Z
LAST-MODIFIED:20241227T163759Z
UID:20276-1750354200-1750365000@oakcitybrewingcompany.com
SUMMARY:Carolina's Catch
DESCRIPTION:Premier seafood food truck of the Triangle.
URL:https://oakcitybrewingcompany.com/event/carolinas-catch-3-2025-06-19/
CATEGORIES:Food Trucks
END:VEVENT
BEGIN:VEVENT
DTSTART;TZID=America/Halifax:20250620T173000
DTEND;TZID=America/Halifax:20250620T203000
DTSTAMP:20260423T080452
CREATED:20241227T164520Z
LAST-MODIFIED:20241227T164621Z
UID:20312-1750440600-1750451400@oakcitybrewingcompany.com
SUMMARY:The Naked Empanada
DESCRIPTION:Savory and sweet empanadas since 2015!
URL:https://oakcitybrewingcompany.com/event/the-naked-empanada-2-2025-06-20/
CATEGORIES:Food Trucks
END:VEVENT
BEGIN:VEVENT
DTSTART;TZID=America/Halifax:20250621T113000
DTEND;TZID=America/Halifax:20250621T123000
DTSTAMP:20260423T080452
CREATED:20230622T143640Z
LAST-MODIFIED:20241227T170600Z
UID:20468-1750505400-1750509000@oakcitybrewingcompany.com
SUMMARY:Beer Run
DESCRIPTION:Join us for a 1.5\, 3\, or 5 mile run or walk through downtown Knightdale\, Knightdale Station Park\, Mingo Creek Trail\, and other areas and landmarks that make our town special with our run club. \nLearn more here: https://oakcitybrewingcompany.com/run-club/ \nRun club meets up at 6:30 pm every Wednesday or 11:30 am every Saturday\, cheers! \n 
URL:https://oakcitybrewingcompany.com/event/beer-run-2-2024-12-21-2025-06-21/
CATEGORIES:Brewery Events,Weekly Events
ATTACH;FMTTYPE=image/png:https://oakcitybrewingcompany.com/wp-content/uploads/2023/06/Screen-Shot-2023-06-22-at-10.25.57-AM.png
END:VEVENT
BEGIN:VEVENT
DTSTART;TZID=America/Halifax:20250621T160000
DTEND;TZID=America/Halifax:20250621T210000
DTSTAMP:20260423T080452
CREATED:20241227T165123Z
LAST-MODIFIED:20241227T165123Z
UID:20359-1750521600-1750539600@oakcitybrewingcompany.com
SUMMARY:Dubz Grub
DESCRIPTION:
URL:https://oakcitybrewingcompany.com/event/dubz-grub-3-2025-06-21/
CATEGORIES:Food Trucks
END:VEVENT
BEGIN:VEVENT
DTSTART;TZID=America/Halifax:20250622T140000
DTEND;TZID=America/Halifax:20250622T180000
DTSTAMP:20260423T080452
CREATED:20250519T132528Z
LAST-MODIFIED:20250519T132528Z
UID:20835-1750600800-1750615200@oakcitybrewingcompany.com
SUMMARY:Warehouse BBQ
DESCRIPTION:
URL:https://oakcitybrewingcompany.com/event/warehouse-bbq-4/
END:VEVENT
END:VCALENDAR