BEGIN:VCALENDAR
VERSION:2.0
PRODID:-//Oak City Brewing Company - ECPv6.15.20//NONSGML v1.0//EN
CALSCALE:GREGORIAN
METHOD:PUBLISH
X-WR-CALNAME:Oak City Brewing Company
X-ORIGINAL-URL:https://oakcitybrewingcompany.com
X-WR-CALDESC:Events for Oak City Brewing Company
REFRESH-INTERVAL;VALUE=DURATION:PT1H
X-Robots-Tag:noindex
X-PUBLISHED-TTL:PT1H
BEGIN:VTIMEZONE
TZID:America/Halifax
BEGIN:DAYLIGHT
TZOFFSETFROM:-0400
TZOFFSETTO:-0300
TZNAME:ADT
DTSTART:20240310T060000
END:DAYLIGHT
BEGIN:STANDARD
TZOFFSETFROM:-0300
TZOFFSETTO:-0400
TZNAME:AST
DTSTART:20241103T050000
END:STANDARD
BEGIN:DAYLIGHT
TZOFFSETFROM:-0400
TZOFFSETTO:-0300
TZNAME:ADT
DTSTART:20250309T060000
END:DAYLIGHT
BEGIN:STANDARD
TZOFFSETFROM:-0300
TZOFFSETTO:-0400
TZNAME:AST
DTSTART:20251102T050000
END:STANDARD
BEGIN:DAYLIGHT
TZOFFSETFROM:-0400
TZOFFSETTO:-0300
TZNAME:ADT
DTSTART:20260308T060000
END:DAYLIGHT
BEGIN:STANDARD
TZOFFSETFROM:-0300
TZOFFSETTO:-0400
TZNAME:AST
DTSTART:20261101T050000
END:STANDARD
BEGIN:DAYLIGHT
TZOFFSETFROM:-0400
TZOFFSETTO:-0300
TZNAME:ADT
DTSTART:20270314T060000
END:DAYLIGHT
BEGIN:STANDARD
TZOFFSETFROM:-0300
TZOFFSETTO:-0400
TZNAME:AST
DTSTART:20271107T050000
END:STANDARD
END:VTIMEZONE
BEGIN:VEVENT
DTSTART;TZID=America/Halifax:20260109T150000
DTEND;TZID=America/Halifax:20260109T230000
DTSTAMP:20260420T013811
CREATED:20251219T163906Z
LAST-MODIFIED:20251219T163907Z
UID:21353-1767970800-1767999600@oakcitybrewingcompany.com
SUMMARY:Staff Pick Showdown
DESCRIPTION:Help us celebrate 10 years of Oak City with a little friendly taproom competition. Our bartenders are going head-to-head… in the friendliest way possible.\n\nEach staff member is showcasing their favorite Oak City beer\, and you get to decide who takes home the title “People’s Choice Pour of the Year.”\n\nHow it works:– Each bartender picks one beer to feature.– You order anything you’d like\, and grab a ballot from the bar. Whether you get a few pints or a flight\, try the beers\, and vote for your favorite!– Drop your ballot in the box to win an Oak City gift card.\n\nThe winning beer (and bartender bragging rights) will be announced the next morning/ contacted. You do not need to be present to win.\n\nCome out\, sip\, vote\, and help crown the champion of the taps.
URL:https://oakcitybrewingcompany.com/event/staff-pick-showdown-2/
CATEGORIES:Brewery Events,Events
ATTACH;FMTTYPE=image/png:https://oakcitybrewingcompany.com/wp-content/uploads/2025/12/7.png
END:VEVENT
BEGIN:VEVENT
DTSTART;TZID=America/Halifax:20260108T173000
DTEND;TZID=America/Halifax:20260108T203000
DTSTAMP:20260420T013811
CREATED:20251219T173438Z
LAST-MODIFIED:20251219T173438Z
UID:21379-1767893400-1767904200@oakcitybrewingcompany.com
SUMMARY:The Tasty Turkey Que
DESCRIPTION:
URL:https://oakcitybrewingcompany.com/event/the-tasty-turkey-que-3/
CATEGORIES:Food Trucks
END:VEVENT
BEGIN:VEVENT
DTSTART;TZID=America/Halifax:20260108T150000
DTEND;TZID=America/Halifax:20260108T220000
DTSTAMP:20260420T013811
CREATED:20251219T164017Z
LAST-MODIFIED:20251219T164018Z
UID:21355-1767884400-1767909600@oakcitybrewingcompany.com
SUMMARY:Throwback Thursday
DESCRIPTION:Step back to where it all started for Throwback Thursday on January 8th. The owners are stepping behind the bar for a throwback shift. Time TBD.\n\nAll flagship brews will be $1 off all night. Whether you’ve been with us since day one or you’re new to the family\, come raise a glass to a decade of Oak City.
URL:https://oakcitybrewingcompany.com/event/throwback-thursday/
CATEGORIES:Brewery Events,Events
ATTACH;FMTTYPE=image/png:https://oakcitybrewingcompany.com/wp-content/uploads/2025/12/6.png
END:VEVENT
BEGIN:VEVENT
DTSTART;TZID=America/Halifax:20260107T180000
DTEND;TZID=America/Halifax:20260107T200000
DTSTAMP:20260420T013811
CREATED:20251219T171155Z
LAST-MODIFIED:20251219T171156Z
UID:21358-1767808800-1767816000@oakcitybrewingcompany.com
SUMMARY:Clue & Brew: Scavenger Hunt
DESCRIPTION:Join us for a fun and slightly competitive scavenger hunt to celebrate 10 years of Oak City Brewing on Wednesday\, January 7th\, starting at 6:30 PM.\n\nWe’re hiding 10 clue cards around the brewery\, each with a mini riddle or Oak City fun fact. Every clue leads to a spot tied to Oak City’s story\, spaces\, or quirks. First person to return their completed sheet wins the Oak City Prize Pack!\n\nHow it works:• Pick up your Hunt Sheet at 6:30 PM sharp (everyone starts together)• Solve the riddles + find all 10 clue cards• Write each answer on your sheet• First completed sheet turned in wins• In a tie\, we’ll draw a winner from the finalists.
URL:https://oakcitybrewingcompany.com/event/clue-brew-scavenger-hunt-2/
CATEGORIES:Brewery Events,Events
ATTACH;FMTTYPE=image/png:https://oakcitybrewingcompany.com/wp-content/uploads/2025/12/5.png
END:VEVENT
BEGIN:VEVENT
DTSTART;TZID=America/Halifax:20260107T173000
DTEND;TZID=America/Halifax:20260107T203000
DTSTAMP:20260420T013811
CREATED:20251219T173512Z
LAST-MODIFIED:20251219T173512Z
UID:21378-1767807000-1767817800@oakcitybrewingcompany.com
SUMMARY:Chirba Chirba Dumpling
DESCRIPTION:
URL:https://oakcitybrewingcompany.com/event/chirba-chirba-dumpling-50/
CATEGORIES:Food Trucks
END:VEVENT
BEGIN:VEVENT
DTSTART;TZID=America/Halifax:20260106T170000
DTEND;TZID=America/Halifax:20260106T200000
DTSTAMP:20260420T013811
CREATED:20260105T193859Z
LAST-MODIFIED:20260105T193859Z
UID:21657-1767718800-1767729600@oakcitybrewingcompany.com
SUMMARY:Melty
DESCRIPTION:
URL:https://oakcitybrewingcompany.com/event/melty-3/
CATEGORIES:Food Trucks
END:VEVENT
BEGIN:VEVENT
DTSTART;TZID=America/Halifax:20260106T150000
DTEND;TZID=America/Halifax:20260106T220000
DTSTAMP:20260420T013811
CREATED:20251219T171441Z
LAST-MODIFIED:20251219T171441Z
UID:21362-1767711600-1767736800@oakcitybrewingcompany.com
SUMMARY:Mystery Pint Night: Pull to Win
DESCRIPTION:Join us for our Anniversary Pint Night with a twist! Every first pint purchased earns a pull from our prize jar. Stickers\, discounts\, gift cards\, pint glasses — every pull wins.\n\nCelebrate 10 years of Oak City with us on our second day of anniversary events on Tuesday\, January 6th. Let’s keep the good vibes rolling all week long!
URL:https://oakcitybrewingcompany.com/event/mystery-pint-night-pull-to-win/
CATEGORIES:Brewery Events,Events
ATTACH;FMTTYPE=image/png:https://oakcitybrewingcompany.com/wp-content/uploads/2025/12/4-1.png
END:VEVENT
BEGIN:VEVENT
DTSTART;TZID=America/Halifax:20260105T180000
DTEND;TZID=America/Halifax:20260111T150000
DTSTAMP:20260420T013811
CREATED:20251212T180314Z
LAST-MODIFIED:20251212T182551Z
UID:21313-1767636000-1768143600@oakcitybrewingcompany.com
SUMMARY:10 Years of Oak City: Anniversary Week
DESCRIPTION:Cheers to 10 Years! \nOur anniversary celebration kicks off January 5th with a full week of Oak City good times\, great beer\, and the community that made the last decade possible. 🍻 \nEvery day brings something fun\, and we’d love to see you here for as much of the week as you can. \n𝐌𝐨𝐧𝐝𝐚𝐲 𝟏/𝟓 – Music Bingo: Music Through The Years\n𝐓𝐮𝐞𝐬𝐝𝐚𝐲 𝟏/𝟔 – Mystery Pint Night Pull\n𝐖𝐞𝐝𝐧𝐞𝐬𝐝𝐚𝐲 𝟏/𝟕 – Clew & Brew Scavenger Hunt\n𝐓𝐡𝐮𝐫𝐬𝐝𝐚𝐲 𝟏/𝟖 – Throwback Thursday\n𝐅𝐫𝐢𝐝𝐚𝐲 𝟏/𝟗 – Staff Pick Showdown\n𝐒𝐚𝐭𝐮𝐫𝐝𝐚𝐲 𝟏/𝟏𝟎 – Anniversary Bonfire Party\n𝐒𝐮𝐧𝐝𝐚𝐲 𝟏/𝟏𝟏 – Anniversary Car Show \nCome raise a glass with us\, reconnect with your favorites\, and help us celebrate ten years of good beer and great company. 💛
URL:https://oakcitybrewingcompany.com/event/10-years-of-oak-city-anniversary-week/
CATEGORIES:Brewery Events,Events,Weekly Events
ATTACH;FMTTYPE=image/png:https://oakcitybrewingcompany.com/wp-content/uploads/2025/12/1.png
END:VEVENT
BEGIN:VEVENT
DTSTART;TZID=America/Halifax:20260105T180000
DTEND;TZID=America/Halifax:20260105T200000
DTSTAMP:20260420T013811
CREATED:20251219T171622Z
LAST-MODIFIED:20251219T171623Z
UID:21364-1767636000-1767643200@oakcitybrewingcompany.com
SUMMARY:Music Bingo: Music Over The Years
DESCRIPTION:Join us as we kick off 10 years of Oak City on our first day of celebrations\, Monday\, January 5th\, at 6 PM.\n\nTest your tune knowledge of Music over the years\, with a cold beer in hand for a fun night at Oak City!\n\nBring your friends\, grab a pint\, and get ready for a night full of great music and even better beer.
URL:https://oakcitybrewingcompany.com/event/music-bingo-music-over-the-years/
CATEGORIES:Brewery Events,Events
ATTACH;FMTTYPE=image/png:https://oakcitybrewingcompany.com/wp-content/uploads/2025/12/3.png
END:VEVENT
BEGIN:VEVENT
DTSTART;TZID=America/Halifax:20260105T170000
DTEND;TZID=America/Halifax:20260105T200000
DTSTAMP:20260420T013811
CREATED:20260105T193806Z
LAST-MODIFIED:20260105T193806Z
UID:21654-1767632400-1767643200@oakcitybrewingcompany.com
SUMMARY:Tacos Tigres
DESCRIPTION:
URL:https://oakcitybrewingcompany.com/event/tacos-tigres-2/
CATEGORIES:Food Trucks
END:VEVENT
BEGIN:VEVENT
DTSTART;TZID=America/Halifax:20260104T140000
DTEND;TZID=America/Halifax:20260104T180000
DTSTAMP:20260420T013811
CREATED:20251219T173632Z
LAST-MODIFIED:20251219T173632Z
UID:21382-1767535200-1767549600@oakcitybrewingcompany.com
SUMMARY:Copperheads Burgers
DESCRIPTION:
URL:https://oakcitybrewingcompany.com/event/copperheads-burgers/
CATEGORIES:Food Trucks
END:VEVENT
BEGIN:VEVENT
DTSTART;TZID=America/Halifax:20260103T150000
DTEND;TZID=America/Halifax:20260103T200000
DTSTAMP:20260420T013811
CREATED:20251219T171716Z
LAST-MODIFIED:20251219T171716Z
UID:21366-1767452400-1767470400@oakcitybrewingcompany.com
SUMMARY:The Flat Drum
DESCRIPTION:
URL:https://oakcitybrewingcompany.com/event/the-flat-drum-8/
CATEGORIES:Food Trucks
END:VEVENT
BEGIN:VEVENT
DTSTART;TZID=America/Halifax:20260102T173000
DTEND;TZID=America/Halifax:20260102T203000
DTSTAMP:20260420T013811
CREATED:20251219T171242Z
LAST-MODIFIED:20251219T171242Z
UID:21360-1767375000-1767385800@oakcitybrewingcompany.com
SUMMARY:Melty
DESCRIPTION:
URL:https://oakcitybrewingcompany.com/event/melty/
CATEGORIES:Food Trucks
END:VEVENT
BEGIN:VEVENT
DTSTART;TZID=America/Halifax:20260101T000000
DTEND;TZID=America/Halifax:20260101T235900
DTSTAMP:20260420T013811
CREATED:20251111T195603Z
LAST-MODIFIED:20251111T195603Z
UID:21284-1767225600-1767311940@oakcitybrewingcompany.com
SUMMARY:Closed for New Year's Day
DESCRIPTION:
URL:https://oakcitybrewingcompany.com/event/closed-for-new-years-day-3/
ATTACH;FMTTYPE=image/png:https://oakcitybrewingcompany.com/wp-content/uploads/2025/11/Closed-Alert-Extended-Holiday-Hours-1.png
END:VEVENT
BEGIN:VEVENT
DTSTART;TZID=America/Halifax:20251231T183000
DTEND;TZID=America/Halifax:20251231T193000
DTSTAMP:20260420T013811
CREATED:20230622T143255Z
LAST-MODIFIED:20251208T143003Z
UID:20443-1767205800-1767209400@oakcitybrewingcompany.com
SUMMARY:Beer Run
DESCRIPTION:Join us for a 1.5\, 3\, or 5 mile run or walk through downtown Knightdale\, Knightdale Station Park\, Mingo Creek Trail\, and other areas and landmarks that make our town special with our run club. \nLearn more here: https://oakcitybrewingcompany.com/run-club/ \nRun club meets up at 6:30 pm every Wednesday or 11:30 am every Saturday\, cheers!
URL:https://oakcitybrewingcompany.com/event/beer-run-2024-12-11-2025-12-31/
CATEGORIES:Brewery Events,Weekly Events
ATTACH;FMTTYPE=image/png:https://oakcitybrewingcompany.com/wp-content/uploads/2023/06/Screen-Shot-2023-06-22-at-10.25.57-AM.png
END:VEVENT
BEGIN:VEVENT
DTSTART;TZID=America/Halifax:20251231T173000
DTEND;TZID=America/Halifax:20251231T203000
DTSTAMP:20260420T013811
CREATED:20251208T142528Z
LAST-MODIFIED:20251208T142539Z
UID:21308-1767202200-1767213000@oakcitybrewingcompany.com
SUMMARY:Time Warp NYE Party
DESCRIPTION:Our time warp NYE party is BACK with our annual keg drop and all! .The countdown and keg drop will take place at 8 PM with a FREE champagne toast and sparkling cider for the kids. This is a kid-friendly event!.We’ll have live music\, La Katrinas Tacos & Stavis with tasty food and face painting for the kiddos..The taproom will be open from 2 PM until 10 PM.
URL:https://oakcitybrewingcompany.com/event/time-warp-nye-party-5/
CATEGORIES:Events
ATTACH;FMTTYPE=image/png:https://oakcitybrewingcompany.com/wp-content/uploads/2025/12/New-Years-Eve-.png
END:VEVENT
BEGIN:VEVENT
DTSTART;TZID=America/Halifax:20251231T173000
DTEND;TZID=America/Halifax:20251231T203000
DTSTAMP:20260420T013811
CREATED:20251111T195817Z
LAST-MODIFIED:20251111T195817Z
UID:21293-1767202200-1767213000@oakcitybrewingcompany.com
SUMMARY:Stavi's
DESCRIPTION:
URL:https://oakcitybrewingcompany.com/event/stavis-4/
CATEGORIES:Food Trucks
END:VEVENT
BEGIN:VEVENT
DTSTART;TZID=America/Halifax:20251231T150000
DTEND;TZID=America/Halifax:20251231T200000
DTSTAMP:20260420T013811
CREATED:20251111T195751Z
LAST-MODIFIED:20251111T195751Z
UID:21291-1767193200-1767211200@oakcitybrewingcompany.com
SUMMARY:La Katrina Tacos
DESCRIPTION:
URL:https://oakcitybrewingcompany.com/event/la-katrina-tacos-3/
CATEGORIES:Food Trucks
END:VEVENT
BEGIN:VEVENT
DTSTART;TZID=America/Halifax:20251230T170000
DTEND;TZID=America/Halifax:20251230T200000
DTSTAMP:20260420T013811
CREATED:20251111T195709Z
LAST-MODIFIED:20251111T195709Z
UID:21289-1767114000-1767124800@oakcitybrewingcompany.com
SUMMARY:JW’s Smoke Shack
DESCRIPTION:
URL:https://oakcitybrewingcompany.com/event/jws-smoke-shack-9/
CATEGORIES:Food Trucks
END:VEVENT
BEGIN:VEVENT
DTSTART;TZID=America/Halifax:20251230T150000
DTEND;TZID=America/Halifax:20251230T220000
DTSTAMP:20260420T013811
CREATED:20241227T170528Z
LAST-MODIFIED:20241227T170528Z
UID:20607-1767106800-1767132000@oakcitybrewingcompany.com
SUMMARY:Pint Night
DESCRIPTION:$1 off pints every Tuesday here at Oak City!
URL:https://oakcitybrewingcompany.com/event/pint-night-50-2025-12-30/
CATEGORIES:Brewery Events,Events
END:VEVENT
BEGIN:VEVENT
DTSTART;TZID=America/Halifax:20251229T180000
DTEND;TZID=America/Halifax:20251229T200000
DTSTAMP:20260420T013811
CREATED:20250908T140551Z
LAST-MODIFIED:20250929T140734Z
UID:21129-1767031200-1767038400@oakcitybrewingcompany.com
SUMMARY:Music Bingo - Last of 2025
DESCRIPTION:Join us for our last music bingo of the year and test your tune knowledge with a cold beer in hand for a fun night at Oak City! \nBring your friends\, grab a pint\, and get ready for a night full of great music and even better beer. \nDecember 29th Music Bingo Themes:\nHoliday Classics & 2025 Hits
URL:https://oakcitybrewingcompany.com/event/music-bingo-last-of-2025/
CATEGORIES:Brewery Events,Events,Weekly Events
ATTACH;FMTTYPE=image/png:https://oakcitybrewingcompany.com/wp-content/uploads/2025/09/5.png
END:VEVENT
BEGIN:VEVENT
DTSTART;TZID=America/Halifax:20251229T170000
DTEND;TZID=America/Halifax:20251229T200000
DTSTAMP:20260420T013811
CREATED:20251219T172424Z
LAST-MODIFIED:20251219T172424Z
UID:21370-1767027600-1767038400@oakcitybrewingcompany.com
SUMMARY:Magnificent Soul Food Rescue
DESCRIPTION:
URL:https://oakcitybrewingcompany.com/event/magnificent-soul-food-rescue/
CATEGORIES:Food Trucks
END:VEVENT
BEGIN:VEVENT
DTSTART;TZID=America/Halifax:20251228T140000
DTEND;TZID=America/Halifax:20251228T180000
DTSTAMP:20260420T013811
CREATED:20251111T194424Z
LAST-MODIFIED:20251208T143222Z
UID:21263-1766930400-1766944800@oakcitybrewingcompany.com
SUMMARY:Melty
DESCRIPTION:
URL:https://oakcitybrewingcompany.com/event/warehouse-bbq-9/
CATEGORIES:Food Trucks
END:VEVENT
BEGIN:VEVENT
DTSTART;TZID=America/Halifax:20251227T160000
DTEND;TZID=America/Halifax:20251227T210000
DTSTAMP:20260420T013811
CREATED:20251111T195323Z
LAST-MODIFIED:20251111T195323Z
UID:21282-1766851200-1766869200@oakcitybrewingcompany.com
SUMMARY:Bertos Chimis
DESCRIPTION:
URL:https://oakcitybrewingcompany.com/event/bertos-chimis-4/
CATEGORIES:Food Trucks
END:VEVENT
BEGIN:VEVENT
DTSTART;TZID=America/Halifax:20251227T120000
DTEND;TZID=America/Halifax:20251227T150000
DTSTAMP:20260420T013811
CREATED:20251111T195640Z
LAST-MODIFIED:20251111T195640Z
UID:21287-1766836800-1766847600@oakcitybrewingcompany.com
SUMMARY:The Subs Factory
DESCRIPTION:
URL:https://oakcitybrewingcompany.com/event/the-subs-factory-5/
CATEGORIES:Food Trucks
END:VEVENT
BEGIN:VEVENT
DTSTART;TZID=America/Halifax:20251227T113000
DTEND;TZID=America/Halifax:20251227T123000
DTSTAMP:20260420T013811
CREATED:20230622T143640Z
LAST-MODIFIED:20241227T170600Z
UID:20495-1766835000-1766838600@oakcitybrewingcompany.com
SUMMARY:Beer Run
DESCRIPTION:Join us for a 1.5\, 3\, or 5 mile run or walk through downtown Knightdale\, Knightdale Station Park\, Mingo Creek Trail\, and other areas and landmarks that make our town special with our run club. \nLearn more here: https://oakcitybrewingcompany.com/run-club/ \nRun club meets up at 6:30 pm every Wednesday or 11:30 am every Saturday\, cheers! \n 
URL:https://oakcitybrewingcompany.com/event/beer-run-2-2024-12-21-2025-12-27/
CATEGORIES:Brewery Events,Weekly Events
ATTACH;FMTTYPE=image/png:https://oakcitybrewingcompany.com/wp-content/uploads/2023/06/Screen-Shot-2023-06-22-at-10.25.57-AM.png
END:VEVENT
BEGIN:VEVENT
DTSTART;TZID=America/Halifax:20251226T173000
DTEND;TZID=America/Halifax:20251226T203000
DTSTAMP:20260420T013811
CREATED:20251111T195257Z
LAST-MODIFIED:20251111T195257Z
UID:21280-1766770200-1766781000@oakcitybrewingcompany.com
SUMMARY:Chick-n-Que
DESCRIPTION:
URL:https://oakcitybrewingcompany.com/event/chick-n-que-54/
CATEGORIES:Food Trucks
END:VEVENT
BEGIN:VEVENT
DTSTART;TZID=America/Halifax:20251225T000000
DTEND;TZID=America/Halifax:20251225T235900
DTSTAMP:20260420T013811
CREATED:20251111T195044Z
LAST-MODIFIED:20251111T195202Z
UID:21277-1766620800-1766707140@oakcitybrewingcompany.com
SUMMARY:Closed for Christmas
DESCRIPTION:
URL:https://oakcitybrewingcompany.com/event/closed-for-christmas-5/
ATTACH;FMTTYPE=image/png:https://oakcitybrewingcompany.com/wp-content/uploads/2025/11/Closed-Alert-Extended-Holiday-Hours.png
END:VEVENT
BEGIN:VEVENT
DTSTART;TZID=America/Halifax:20251224T120000
DTEND;TZID=America/Halifax:20251224T180000
DTSTAMP:20260420T013811
CREATED:20251215T140940Z
LAST-MODIFIED:20251215T141036Z
UID:21346-1766577600-1766599200@oakcitybrewingcompany.com
SUMMARY:Christmas Eve Hours: 12-6 PM
DESCRIPTION:Taproom is closing early for Christmas Eve: 12-6 PM
URL:https://oakcitybrewingcompany.com/event/christmas-eve-hours-12-6-pm-2/
ATTACH;FMTTYPE=image/png:https://oakcitybrewingcompany.com/wp-content/uploads/2025/12/Closed-Alert-Extended-Holiday-Hours-2.png
END:VEVENT
BEGIN:VEVENT
DTSTART;TZID=America/Halifax:20251224T120000
DTEND;TZID=America/Halifax:20251224T170000
DTSTAMP:20260420T013811
CREATED:20251111T194725Z
LAST-MODIFIED:20251111T194725Z
UID:21273-1766577600-1766595600@oakcitybrewingcompany.com
SUMMARY:El Jefecito
DESCRIPTION:
URL:https://oakcitybrewingcompany.com/event/el-jefecito-4/
CATEGORIES:Food Trucks
END:VEVENT
END:VCALENDAR