BEGIN:VCALENDAR
VERSION:2.0
PRODID:-//Oak City Brewing Company - ECPv6.15.20//NONSGML v1.0//EN
CALSCALE:GREGORIAN
METHOD:PUBLISH
X-WR-CALNAME:Oak City Brewing Company
X-ORIGINAL-URL:https://oakcitybrewingcompany.com
X-WR-CALDESC:Events for Oak City Brewing Company
REFRESH-INTERVAL;VALUE=DURATION:PT1H
X-Robots-Tag:noindex
X-PUBLISHED-TTL:PT1H
BEGIN:VTIMEZONE
TZID:America/Halifax
BEGIN:DAYLIGHT
TZOFFSETFROM:-0400
TZOFFSETTO:-0300
TZNAME:ADT
DTSTART:20230312T060000
END:DAYLIGHT
BEGIN:STANDARD
TZOFFSETFROM:-0300
TZOFFSETTO:-0400
TZNAME:AST
DTSTART:20231105T050000
END:STANDARD
BEGIN:DAYLIGHT
TZOFFSETFROM:-0400
TZOFFSETTO:-0300
TZNAME:ADT
DTSTART:20240310T060000
END:DAYLIGHT
BEGIN:STANDARD
TZOFFSETFROM:-0300
TZOFFSETTO:-0400
TZNAME:AST
DTSTART:20241103T050000
END:STANDARD
BEGIN:DAYLIGHT
TZOFFSETFROM:-0400
TZOFFSETTO:-0300
TZNAME:ADT
DTSTART:20250309T060000
END:DAYLIGHT
BEGIN:STANDARD
TZOFFSETFROM:-0300
TZOFFSETTO:-0400
TZNAME:AST
DTSTART:20251102T050000
END:STANDARD
END:VTIMEZONE
BEGIN:VEVENT
DTSTART;VALUE=DATE:20241216
DTEND;VALUE=DATE:20241217
DTSTAMP:20260420T051937
CREATED:20241210T182437Z
LAST-MODIFIED:20241210T182437Z
UID:20090-1734307200-1734393599@oakcitybrewingcompany.com
SUMMARY:No food truck - BYOF
DESCRIPTION:
URL:https://oakcitybrewingcompany.com/event/no-food-truck-byof-29-2024-12-16/
END:VEVENT
BEGIN:VEVENT
DTSTART;TZID=America/Halifax:20241215T140000
DTEND;TZID=America/Halifax:20241215T180000
DTSTAMP:20260420T051937
CREATED:20220824T120403Z
LAST-MODIFIED:20220824T120403Z
UID:20075-1734271200-1734285600@oakcitybrewingcompany.com
SUMMARY:Not Just A Fry Guy
DESCRIPTION:
URL:https://oakcitybrewingcompany.com/event/not-just-a-fry-guy-2024-12-05-2024-12-15/
CATEGORIES:Food Trucks
ATTACH;FMTTYPE=image/jpeg:https://oakcitybrewingcompany.com/wp-content/uploads/2022/08/283540834_555973096053598_4434455661131209924_n.jpg
END:VEVENT
BEGIN:VEVENT
DTSTART;TZID=America/Halifax:20241214T160000
DTEND;TZID=America/Halifax:20241214T210000
DTSTAMP:20260420T051937
CREATED:20230116T170404Z
LAST-MODIFIED:20230116T170404Z
UID:19169-1734192000-1734210000@oakcitybrewingcompany.com
SUMMARY:Fired Up Pizza & BBQ
DESCRIPTION:Serving wood-fired pizza and bbq. Smokin’ good with Carolina wood.
URL:https://oakcitybrewingcompany.com/event/fired-up-pizza-bbq-2-2024-12-14/
CATEGORIES:Food Trucks
ATTACH;FMTTYPE=image/jpeg:https://oakcitybrewingcompany.com/wp-content/uploads/2023/01/294908699_455773433222203_229099170207648236_n.jpeg
END:VEVENT
BEGIN:VEVENT
DTSTART;TZID=America/Halifax:20241214T110000
DTEND;TZID=America/Halifax:20241214T150000
DTSTAMP:20260420T051937
CREATED:20241210T181800Z
LAST-MODIFIED:20241210T181800Z
UID:20071-1734174000-1734188400@oakcitybrewingcompany.com
SUMMARY:The Flat Dum\, Doowop Desserts & Poblanos Tacos
DESCRIPTION:
URL:https://oakcitybrewingcompany.com/event/the-flat-dum-doowop-desserts-poblanos-tacos/
CATEGORIES:Events,Food Trucks
ATTACH;FMTTYPE=image/png:https://oakcitybrewingcompany.com/wp-content/uploads/2024/11/Christmas-parade.png
END:VEVENT
BEGIN:VEVENT
DTSTART;TZID=America/Halifax:20241214T110000
DTEND;TZID=America/Halifax:20241214T150000
DTSTAMP:20260420T051937
CREATED:20241113T181712Z
LAST-MODIFIED:20241113T182607Z
UID:20039-1734174000-1734188400@oakcitybrewingcompany.com
SUMMARY:Knightdale Christmas Parade Holiday Market
DESCRIPTION:Knightdale’s Christmas Parade is back for 2024\, and Oak City Brewing is the place to be! \nEnjoy the best view in town with a cold beer in hand as the parade kicks off at 10 AM! After Santa passes\, stick around for even more holiday cheer with our Sip & Shop from 11 AM – 3 PM featuring live music by Sterling Scott. \nFood Trucks: The Flat Drum & Doowop Desserts\nChristmas Trees Lot: Cole’s Farms will have their tree lot set up in the field! Grab your perfect tree before the parade\, and they’ll hold it for pickup afterward. \nHeads up! First Avenue will be blocked off at 9 AM sharp\, so feel free to arrive early and snag a parking spot in the back lot. You can still access our back parking lot via Keith Street while the parade is going on. \nGather your friends\, grab a brew\, and make a day of it with us! Cheers to the holiday season!
URL:https://oakcitybrewingcompany.com/event/knightdale-christmas-parade-holiday-market-3/
CATEGORIES:Brewery Events,Events,Weekly Events
ATTACH;FMTTYPE=image/png:https://oakcitybrewingcompany.com/wp-content/uploads/2024/11/Christmas-parade.png
END:VEVENT
BEGIN:VEVENT
DTSTART;TZID=America/Halifax:20241213T173000
DTEND;TZID=America/Halifax:20241213T203000
DTSTAMP:20260420T051937
CREATED:20220825T141353Z
LAST-MODIFIED:20240827T171146Z
UID:19064-1734111000-1734121800@oakcitybrewingcompany.com
SUMMARY:Caribbean Kicker
DESCRIPTION:We are a Food Truck that sell Caribbean Fusion with a twist. The food is made with love ❤️ and full of flavor.
URL:https://oakcitybrewingcompany.com/event/caribbean-kicker-3-2024-12-13/
CATEGORIES:Food Trucks
ATTACH;FMTTYPE=image/jpeg:https://oakcitybrewingcompany.com/wp-content/uploads/2022/08/279096638_2125417890949808_6612292007969708448_n.jpg
END:VEVENT
BEGIN:VEVENT
DTSTART;TZID=America/Halifax:20241212T173000
DTEND;TZID=America/Halifax:20241212T203000
DTSTAMP:20260420T051937
CREATED:20221229T165151Z
LAST-MODIFIED:20221229T165151Z
UID:18969-1734024600-1734035400@oakcitybrewingcompany.com
SUMMARY:The Smoke N Jerk
DESCRIPTION:Jvon Williams\, a North Carolina native has become known locally and privately for his unorthodox creations. Raised in the south\, he is making a name for himself by proudly continuing the tradition of “smoking meat” while celebrating down home culinary and Caribbean blended specialties. Williams brings meaning to a Caribbean twist on down home flavors of the south and elevates the heights by offering a unique variety of tastefully infused “Authentic” Jerk rubs incorporating natural local fruit and extractions.
URL:https://oakcitybrewingcompany.com/event/the-smoke-n-jerk-3-2024-12-12/
ATTACH;FMTTYPE=image/jpeg:https://oakcitybrewingcompany.com/wp-content/uploads/2019/12/20840918_1807268802918582_2991818591324802150_n.jpg
END:VEVENT
BEGIN:VEVENT
DTSTART;TZID=America/Halifax:20241211T173000
DTEND;TZID=America/Halifax:20241211T203000
DTSTAMP:20260420T051937
CREATED:20210826T023650Z
LAST-MODIFIED:20240508T144032Z
UID:19218-1733938200-1733949000@oakcitybrewingcompany.com
SUMMARY:Empanadas RD
DESCRIPTION:
URL:https://oakcitybrewingcompany.com/event/empanadas-rd-3-2024-12-11/
CATEGORIES:Food Trucks
ATTACH;FMTTYPE=image/jpeg:https://oakcitybrewingcompany.com/wp-content/uploads/2021/08/8444bc32-02c8-4a30-8d01-9197dfd80106.jpeg
END:VEVENT
BEGIN:VEVENT
DTSTART;VALUE=DATE:20241210
DTEND;VALUE=DATE:20241211
DTSTAMP:20260420T051937
CREATED:20241210T182437Z
LAST-MODIFIED:20241210T182602Z
UID:20085-1733788800-1733875199@oakcitybrewingcompany.com
SUMMARY:No food truck - BYOF
DESCRIPTION:
URL:https://oakcitybrewingcompany.com/event/no-food-truck-byof-29/
END:VEVENT
BEGIN:VEVENT
DTSTART;TZID=America/Halifax:20241209T173000
DTEND;TZID=America/Halifax:20241209T203000
DTSTAMP:20260420T051937
CREATED:20220824T113326Z
LAST-MODIFIED:20240425T161254Z
UID:18909-1733765400-1733776200@oakcitybrewingcompany.com
SUMMARY:Chick-N-Que
DESCRIPTION:The best Eastern style BBQ NC has to offer. We also serve 100% NC raised ostrich burgers along with mouth watering sides. Chick-N-Que is a multi mobile food truck & catering business serving Wake County and surrounding areas. With our guarded family recipe\, Chick-N-Que has a unique\, savory taste that stands out as some of the best barbecue around.
URL:https://oakcitybrewingcompany.com/event/chick-n-que-52-2023-01-27-2023-12-18-2024-12-09/
CATEGORIES:Food Trucks
ATTACH;FMTTYPE=image/jpeg:https://oakcitybrewingcompany.com/wp-content/uploads/2019/10/40683703_1781242268659131_3875899713362329600_n.jpg
END:VEVENT
BEGIN:VEVENT
DTSTART;TZID=America/Halifax:20241208T140000
DTEND;TZID=America/Halifax:20241208T180000
DTSTAMP:20260420T051937
CREATED:20220915T102427Z
LAST-MODIFIED:20220915T102427Z
UID:19113-1733666400-1733680800@oakcitybrewingcompany.com
SUMMARY:Lobster Dogs
DESCRIPTION:Food truck serving the Best Lobster Rolls & Stuffed Avocados in the Carolinas!
URL:https://oakcitybrewingcompany.com/event/lobster-dogs-3-2024-12-08/
CATEGORIES:Food Trucks
ATTACH;FMTTYPE=image/jpeg:https://oakcitybrewingcompany.com/wp-content/uploads/2022/09/300966759_603356964739835_7012982284719119023_n.jpg
END:VEVENT
BEGIN:VEVENT
DTSTART;TZID=America/Halifax:20241208T140000
DTEND;TZID=America/Halifax:20241208T160000
DTSTAMP:20260420T051937
CREATED:20241108T154315Z
LAST-MODIFIED:20241108T154315Z
UID:20023-1733666400-1733673600@oakcitybrewingcompany.com
SUMMARY:Hammer & Stain Vintage Holiday Ceramic Workshop
DESCRIPTION:Unleash your inner holiday cheer with Hammer & Stain Carolina at Oak City Brewing!\n.\nJoin us on 12.08.24 at 2 PM for our Vintage Ceramic Workshop and create your own unique ceramic pieces\, such as vintage ceramic trees and Christmas cactus\, to make your holiday season shine!\n.\nSpots are limited grab yours here:\nhttps://hammerandstaincarolina.com/products/12-08-24-vintage-ceramics-ugly-christmas-sweaters-workshop-at-oak-city-brewing-knightdale\nLAST DAY TO SIGN UP IS 11/25!\n.\nWear an ugly Christmas sweater for a festive touch and vote for your favorite one. (WINNER gets a Prize).\n.\nNo kiln firing required so your project will go home with you at the end of the workshop! This registration allows for one adult to make one project.\n.\nHope to see you there\, cheers! ????
URL:https://oakcitybrewingcompany.com/event/hammer-stain-vintage-holiday-ceramic-workshop/
CATEGORIES:Brewery Events,Events,Weekly Events
END:VEVENT
BEGIN:VEVENT
DTSTART;TZID=America/Halifax:20241207T160000
DTEND;TZID=America/Halifax:20241207T210000
DTSTAMP:20260420T051937
CREATED:20220830T214644Z
LAST-MODIFIED:20220830T214644Z
UID:19182-1733587200-1733605200@oakcitybrewingcompany.com
SUMMARY:Barone Meatball
DESCRIPTION:
URL:https://oakcitybrewingcompany.com/event/barone-meatball-33-2023-02-04-2024-12-07/
CATEGORIES:Food Trucks
ATTACH;FMTTYPE=image/png:https://oakcitybrewingcompany.com/wp-content/uploads/2022/08/Screen-Shot-2022-12-30-at-10.20.59-AM.png
END:VEVENT
BEGIN:VEVENT
DTSTART;TZID=America/Halifax:20241207T120000
DTEND;TZID=America/Halifax:20241207T150000
DTSTAMP:20260420T051937
CREATED:20230411T144336Z
LAST-MODIFIED:20240514T140737Z
UID:19258-1733572800-1733583600@oakcitybrewingcompany.com
SUMMARY:Off the Hog
DESCRIPTION:Off the hog serve good old-fashioned traditional smoked meats using a variety of hardwoods and coals.
URL:https://oakcitybrewingcompany.com/event/off-the-hog-2024-12-07/
CATEGORIES:Food Trucks
ATTACH;FMTTYPE=image/png:https://oakcitybrewingcompany.com/wp-content/uploads/2023/04/Screen-Shot-2023-04-11-at-10.38.53-AM.png
END:VEVENT
BEGIN:VEVENT
DTSTART;TZID=America/Halifax:20241207T113000
DTEND;TZID=America/Halifax:20241207T123000
DTSTAMP:20260420T051937
CREATED:20230622T143640Z
LAST-MODIFIED:20230622T143640Z
UID:18644-1733571000-1733574600@oakcitybrewingcompany.com
SUMMARY:Beer Run
DESCRIPTION:Join us for a 1.5\, 3\, or 5 mile run or walk through downtown Knightdale\, Knightdale Station Park\, Mingo Creek Trail\, and other areas and landmarks that make our town special with our run club. \nLearn more here: https://oakcitybrewingcompany.com/run-club/ \nRun club meets up at 6:30 pm every Wednesday or 11:30 am every Saturday\, cheers! \n 
URL:https://oakcitybrewingcompany.com/event/beer-run-2-2024-12-07/
CATEGORIES:Brewery Events,Weekly Events
ATTACH;FMTTYPE=image/png:https://oakcitybrewingcompany.com/wp-content/uploads/2023/06/Screen-Shot-2023-06-22-at-10.25.57-AM.png
END:VEVENT
BEGIN:VEVENT
DTSTART;TZID=America/Halifax:20241206T173000
DTEND;TZID=America/Halifax:20241206T203000
DTSTAMP:20260420T051937
CREATED:20220816T032306Z
LAST-MODIFIED:20240715T134212Z
UID:19252-1733506200-1733517000@oakcitybrewingcompany.com
SUMMARY:The Flat Drum
DESCRIPTION:
URL:https://oakcitybrewingcompany.com/event/the-flat-drum-3-2024-12-06/
CATEGORIES:Food Trucks
ATTACH;FMTTYPE=image/jpeg:https://oakcitybrewingcompany.com/wp-content/uploads/2022/08/237256269_285275650066794_5887269925378650683_n.jpg
END:VEVENT
BEGIN:VEVENT
DTSTART;TZID=America/Halifax:20241205T173000
DTEND;TZID=America/Halifax:20241205T203000
DTSTAMP:20260420T051937
CREATED:20220824T120403Z
LAST-MODIFIED:20241210T181919Z
UID:19040-1733419800-1733430600@oakcitybrewingcompany.com
SUMMARY:Not Just A Fry Guy
DESCRIPTION:
URL:https://oakcitybrewingcompany.com/event/not-just-a-fry-guy-2024-12-05/
CATEGORIES:Food Trucks
ATTACH;FMTTYPE=image/jpeg:https://oakcitybrewingcompany.com/wp-content/uploads/2022/08/283540834_555973096053598_4434455661131209924_n.jpg
END:VEVENT
BEGIN:VEVENT
DTSTART;TZID=America/Halifax:20241204T183000
DTEND;TZID=America/Halifax:20241204T193000
DTSTAMP:20260420T051937
CREATED:20230622T143255Z
LAST-MODIFIED:20230622T143255Z
UID:18722-1733337000-1733340600@oakcitybrewingcompany.com
SUMMARY:Beer Run
DESCRIPTION:Join us for a 1.5\, 3\, or 5 mile run or walk through downtown Knightdale\, Knightdale Station Park\, Mingo Creek Trail\, and other areas and landmarks that make our town special with our run club. \nLearn more here: https://oakcitybrewingcompany.com/run-club/ \nRun club meets up at 6:30 pm every Wednesday or 11:30 am every Saturday\, cheers!
URL:https://oakcitybrewingcompany.com/event/beer-run-2024-12-04/
CATEGORIES:Brewery Events,Weekly Events
ATTACH;FMTTYPE=image/png:https://oakcitybrewingcompany.com/wp-content/uploads/2023/06/Screen-Shot-2023-06-22-at-10.25.57-AM.png
END:VEVENT
BEGIN:VEVENT
DTSTART;TZID=America/Halifax:20241204T173000
DTEND;TZID=America/Halifax:20241204T203000
DTSTAMP:20260420T051937
CREATED:20220825T131329Z
LAST-MODIFIED:20220825T131329Z
UID:18885-1733333400-1733344200@oakcitybrewingcompany.com
SUMMARY:Chirba Chirba Dumpling
DESCRIPTION:Presents mouthwatering Chinese style dumplings. We are excited to bring you an Asian street fare food truck specializing in Chinese dumplings. After years of dumpling studies through extensive tasting\, pleating and learning secret family recipes\, we have developed a menu that we think you’ll love.
URL:https://oakcitybrewingcompany.com/event/chirba-chirba-dumpling-48-2024-12-04/
CATEGORIES:Food Trucks
ATTACH;FMTTYPE=image/jpeg:https://oakcitybrewingcompany.com/wp-content/uploads/2022/08/300415632_7906269056113354_1802728577223783342_n.jpg
END:VEVENT
BEGIN:VEVENT
DTSTART;TZID=America/Halifax:20241203T170000
DTEND;TZID=America/Halifax:20241203T200000
DTSTAMP:20260420T051937
CREATED:20240411T140406Z
LAST-MODIFIED:20240411T140406Z
UID:19715-1733245200-1733256000@oakcitybrewingcompany.com
SUMMARY:Copperheads Craft Burgers
DESCRIPTION:Uniquely crafted burgers!
URL:https://oakcitybrewingcompany.com/event/copperheads-craft-burgers-2024-12-03/
CATEGORIES:Food Trucks
ATTACH;FMTTYPE=image/png:https://oakcitybrewingcompany.com/wp-content/uploads/2024/04/Screenshot-2024-04-11-at-10.01.30-AM.png
END:VEVENT
BEGIN:VEVENT
DTSTART;TZID=America/Halifax:20241201T140000
DTEND;TZID=America/Halifax:20241201T180000
DTSTAMP:20260420T051937
CREATED:20230309T173542Z
LAST-MODIFIED:20230309T173542Z
UID:19240-1733061600-1733076000@oakcitybrewingcompany.com
SUMMARY:Parker's Hall of Fame Deli & Grill
DESCRIPTION:A local food truck selling burgers\, hotdogs\, sandwiches\, and paninis.
URL:https://oakcitybrewingcompany.com/event/parkers-hall-of-fame-deli-grill-2024-12-01/
CATEGORIES:Food Trucks
ATTACH;FMTTYPE=image/png:https://oakcitybrewingcompany.com/wp-content/uploads/2023/03/Screen-Shot-2023-03-09-at-12.33.28-PM.png
END:VEVENT
BEGIN:VEVENT
DTSTART;TZID=America/Halifax:20241201T100000
DTEND;TZID=America/Halifax:20241201T120000
DTSTAMP:20260420T051937
CREATED:20241125T173748Z
LAST-MODIFIED:20241125T173749Z
UID:20050-1733047200-1733054400@oakcitybrewingcompany.com
SUMMARY:Disc Golf Club Round Meet-up @ 10 am
DESCRIPTION:Disc golf round meet-up at 10 AM at The Z at Zebulon Community Park\, 401 S Arendell Ave\, Zebulon\, NC 27597
URL:https://oakcitybrewingcompany.com/event/disc-golf-club-round-meet-up-10-am/
CATEGORIES:Weekly Events
END:VEVENT
BEGIN:VEVENT
DTSTART;TZID=America/Halifax:20241130T160000
DTEND;TZID=America/Halifax:20241130T210000
DTSTAMP:20260420T051937
CREATED:20240523T170004Z
LAST-MODIFIED:20240523T170004Z
UID:19721-1732982400-1733000400@oakcitybrewingcompany.com
SUMMARY:Stavi's
DESCRIPTION:Veteran owned business bringing our authentic cuisine to our community. Mediterranean inspired gourmet sandwiches\, soups\, salads\, and more!
URL:https://oakcitybrewingcompany.com/event/stavis-2024-11-30/
CATEGORIES:Food Trucks
ATTACH;FMTTYPE=image/png:https://oakcitybrewingcompany.com/wp-content/uploads/2024/05/Screenshot-2024-05-23-at-12.57.35-PM.png
END:VEVENT
BEGIN:VEVENT
DTSTART;TZID=America/Halifax:20241130T120000
DTEND;TZID=America/Halifax:20241130T150000
DTSTAMP:20260420T051937
CREATED:20240401T124518Z
LAST-MODIFIED:20240401T124518Z
UID:19527-1732968000-1732978800@oakcitybrewingcompany.com
SUMMARY:Coney Island NC
DESCRIPTION:They sell specialty hot dogs\, hamburgers\, chili\, nachos\, curly fries\, shoe string fries\, tenders\, popcorn chicken\, mozzarella sticks\, and have kids meals.
URL:https://oakcitybrewingcompany.com/event/coney-island-nc-2024-11-30/
CATEGORIES:Food Trucks
END:VEVENT
BEGIN:VEVENT
DTSTART;TZID=America/Halifax:20241130T113000
DTEND;TZID=America/Halifax:20241130T123000
DTSTAMP:20260420T051937
CREATED:20230622T143640Z
LAST-MODIFIED:20230622T143640Z
UID:18643-1732966200-1732969800@oakcitybrewingcompany.com
SUMMARY:Beer Run
DESCRIPTION:Join us for a 1.5\, 3\, or 5 mile run or walk through downtown Knightdale\, Knightdale Station Park\, Mingo Creek Trail\, and other areas and landmarks that make our town special with our run club. \nLearn more here: https://oakcitybrewingcompany.com/run-club/ \nRun club meets up at 6:30 pm every Wednesday or 11:30 am every Saturday\, cheers! \n 
URL:https://oakcitybrewingcompany.com/event/beer-run-2-2024-11-30/
CATEGORIES:Brewery Events,Weekly Events
ATTACH;FMTTYPE=image/png:https://oakcitybrewingcompany.com/wp-content/uploads/2023/06/Screen-Shot-2023-06-22-at-10.25.57-AM.png
END:VEVENT
BEGIN:VEVENT
DTSTART;VALUE=DATE:20241130
DTEND;VALUE=DATE:20241201
DTSTAMP:20260420T051937
CREATED:20241129T144323Z
LAST-MODIFIED:20241129T144352Z
UID:20052-1732924800-1733011199@oakcitybrewingcompany.com
SUMMARY:Small Business Saturday
DESCRIPTION:Support local this Small Business Saturday! \n\n\n.\n\n\nBuy a $25 gift card for the beer lover in your life and get a FREE mystery glass. Perfect for holiday gifting (or keeping for yourself ????).\n\n\n.\n\n\nCheers to great beer and great gifts! \n\n\nTaproom is open 12-11 PM.\n\n\n.\n\n\n#OakCityBrews #brewery #foodtrucks #knightdale #raleigh #craftbeer #ncbeer #smallbusinesssaturday
URL:https://oakcitybrewingcompany.com/event/small-business-saturday/
CATEGORIES:Brewery Events
ATTACH;FMTTYPE=image/png:https://oakcitybrewingcompany.com/wp-content/uploads/2024/11/Screenshot-2024-11-29-at-9.20.40-AM.png
END:VEVENT
BEGIN:VEVENT
DTSTART;TZID=America/Halifax:20241129T120000
DTEND;TZID=America/Halifax:20241129T160000
DTSTAMP:20260420T051937
CREATED:20220916T103300Z
LAST-MODIFIED:20220916T103300Z
UID:20049-1732881600-1732896000@oakcitybrewingcompany.com
SUMMARY:Jessica's Food Truck
DESCRIPTION:
URL:https://oakcitybrewingcompany.com/event/jessicas-food-truck-22-2023-02-25-2024-11-20-2024-11-29/
CATEGORIES:Food Trucks
ATTACH;FMTTYPE=image/jpeg:https://oakcitybrewingcompany.com/wp-content/uploads/2022/09/301548167_171520468736524_3664133766732670901_n.jpg
END:VEVENT
BEGIN:VEVENT
DTSTART;VALUE=DATE:20241128
DTEND;VALUE=DATE:20241129
DTSTAMP:20260420T051937
CREATED:20241101T170745Z
LAST-MODIFIED:20241101T170808Z
UID:20005-1732752000-1732838399@oakcitybrewingcompany.com
SUMMARY:Closed for Thanksgiving
DESCRIPTION:Happy Thanksgiving!
URL:https://oakcitybrewingcompany.com/event/closed-for-thanksgiving-3/
ATTACH;FMTTYPE=image/png:https://oakcitybrewingcompany.com/wp-content/uploads/2024/11/Screenshot-2024-11-01-at-12.51.23-PM.png
END:VEVENT
BEGIN:VEVENT
DTSTART;TZID=America/Halifax:20241127T183000
DTEND;TZID=America/Halifax:20241127T193000
DTSTAMP:20260420T051937
CREATED:20230622T143255Z
LAST-MODIFIED:20230622T143255Z
UID:18721-1732732200-1732735800@oakcitybrewingcompany.com
SUMMARY:Beer Run
DESCRIPTION:Join us for a 1.5\, 3\, or 5 mile run or walk through downtown Knightdale\, Knightdale Station Park\, Mingo Creek Trail\, and other areas and landmarks that make our town special with our run club. \nLearn more here: https://oakcitybrewingcompany.com/run-club/ \nRun club meets up at 6:30 pm every Wednesday or 11:30 am every Saturday\, cheers!
URL:https://oakcitybrewingcompany.com/event/beer-run-2024-11-27/
CATEGORIES:Brewery Events,Weekly Events
ATTACH;FMTTYPE=image/png:https://oakcitybrewingcompany.com/wp-content/uploads/2023/06/Screen-Shot-2023-06-22-at-10.25.57-AM.png
END:VEVENT
BEGIN:VEVENT
DTSTART;TZID=America/Halifax:20241127T173000
DTEND;TZID=America/Halifax:20241127T203000
DTSTAMP:20260420T051937
CREATED:20220830T215212Z
LAST-MODIFIED:20220830T215212Z
UID:19124-1732728600-1732739400@oakcitybrewingcompany.com
SUMMARY:Bulkogi
DESCRIPTION:Authentic Korean BBQ with a yummy twist! Food prepared with love & care that can be felt in each bite. Come hungry & leave with more than just full tummy!
URL:https://oakcitybrewingcompany.com/event/bulkogi-12-2024-11-27/
CATEGORIES:Food Trucks
ATTACH;FMTTYPE=image/jpeg:https://oakcitybrewingcompany.com/wp-content/uploads/2020/01/10336733_570882016365515_5501550790059477710_n.jpg
END:VEVENT
END:VCALENDAR