BEGIN:VCALENDAR
VERSION:2.0
PRODID:-//Oak City Brewing Company - ECPv6.15.20//NONSGML v1.0//EN
CALSCALE:GREGORIAN
METHOD:PUBLISH
X-ORIGINAL-URL:https://oakcitybrewingcompany.com
X-WR-CALDESC:Events for Oak City Brewing Company
REFRESH-INTERVAL;VALUE=DURATION:PT1H
X-Robots-Tag:noindex
X-PUBLISHED-TTL:PT1H
BEGIN:VTIMEZONE
TZID:America/Halifax
BEGIN:DAYLIGHT
TZOFFSETFROM:-0400
TZOFFSETTO:-0300
TZNAME:ADT
DTSTART:20240310T060000
END:DAYLIGHT
BEGIN:STANDARD
TZOFFSETFROM:-0300
TZOFFSETTO:-0400
TZNAME:AST
DTSTART:20241103T050000
END:STANDARD
BEGIN:DAYLIGHT
TZOFFSETFROM:-0400
TZOFFSETTO:-0300
TZNAME:ADT
DTSTART:20250309T060000
END:DAYLIGHT
BEGIN:STANDARD
TZOFFSETFROM:-0300
TZOFFSETTO:-0400
TZNAME:AST
DTSTART:20251102T050000
END:STANDARD
BEGIN:DAYLIGHT
TZOFFSETFROM:-0400
TZOFFSETTO:-0300
TZNAME:ADT
DTSTART:20260308T060000
END:DAYLIGHT
BEGIN:STANDARD
TZOFFSETFROM:-0300
TZOFFSETTO:-0400
TZNAME:AST
DTSTART:20261101T050000
END:STANDARD
END:VTIMEZONE
BEGIN:VEVENT
DTSTART;TZID=America/Halifax:20251115T160000
DTEND;TZID=America/Halifax:20251115T210000
DTSTAMP:20260420T001949
CREATED:20241227T165123Z
LAST-MODIFIED:20250923T184239Z
UID:20364-1763222400-1763240400@oakcitybrewingcompany.com
SUMMARY:Chick-N-Que
DESCRIPTION:
URL:https://oakcitybrewingcompany.com/event/dubz-grub-3-2025-11-15/
CATEGORIES:Food Trucks
END:VEVENT
BEGIN:VEVENT
DTSTART;TZID=America/Halifax:20251116T140000
DTEND;TZID=America/Halifax:20251116T170000
DTSTAMP:20260420T001949
CREATED:20251031T152418Z
LAST-MODIFIED:20251031T152419Z
UID:21208-1763301600-1763312400@oakcitybrewingcompany.com
SUMMARY:Read Between The Pints Book Pop-up
DESCRIPTION:Calling all book lovers\, it’s time to Read Between the Pints! Join us for an afternoon dedicated to good reads and great brews\, featuring a pop-up with Finn and Ollie’s Book Trolley and a lineup of local book-inspired vendors.\n\n\n\nBrowse the mobile book bus\, shop literary-themed goods\, and grab a pint while you flip through your next favorite find. Whether you’re in a book club or just love a cozy story and a cold beer\, this is the perfect Sunday hangout.\n\n\n\nWhat to expect:\n– Mobile book bus by Finn & Ollie’s Book Trolley\n– Local bookish vendors & makers\n– Pints pouring all day in the taproom\n– A perfect outing for book clubs & casual readers alike\n\n\n\nBring your friends\, bring your book club\, and spend the afternoon surrounded by stories and local sips!
URL:https://oakcitybrewingcompany.com/event/read-between-the-pints-book-pop-up/
CATEGORIES:Events
ATTACH;FMTTYPE=image/png:https://oakcitybrewingcompany.com/wp-content/uploads/2025/10/Read-Between-the-Pints.png
END:VEVENT
BEGIN:VEVENT
DTSTART;TZID=America/Halifax:20251116T140000
DTEND;TZID=America/Halifax:20251116T180000
DTSTAMP:20260420T001949
CREATED:20241227T165502Z
LAST-MODIFIED:20241227T165502Z
UID:20388-1763301600-1763316000@oakcitybrewingcompany.com
SUMMARY:Captains Gastro
DESCRIPTION:
URL:https://oakcitybrewingcompany.com/event/captains-gastro-2025-11-16/
CATEGORIES:Food Trucks
END:VEVENT
BEGIN:VEVENT
DTSTART;TZID=America/Halifax:20251118T150000
DTEND;TZID=America/Halifax:20251118T220000
DTSTAMP:20260420T001949
CREATED:20241227T170528Z
LAST-MODIFIED:20241227T170528Z
UID:20601-1763478000-1763503200@oakcitybrewingcompany.com
SUMMARY:Pint Night
DESCRIPTION:$1 off pints every Tuesday here at Oak City!
URL:https://oakcitybrewingcompany.com/event/pint-night-50-2025-11-18/
CATEGORIES:Brewery Events,Events
END:VEVENT
BEGIN:VEVENT
DTSTART;TZID=America/Halifax:20251118T173000
DTEND;TZID=America/Halifax:20251118T203000
DTSTAMP:20260420T001949
CREATED:20241227T163354Z
LAST-MODIFIED:20250923T184545Z
UID:20256-1763487000-1763497800@oakcitybrewingcompany.com
SUMMARY:Mama Voula's
DESCRIPTION:
URL:https://oakcitybrewingcompany.com/event/the-greek-goat-2-2025-11-18/
CATEGORIES:Food Trucks
END:VEVENT
BEGIN:VEVENT
DTSTART;TZID=America/Halifax:20251119T173000
DTEND;TZID=America/Halifax:20251119T203000
DTSTAMP:20260420T001949
CREATED:20241227T162236Z
LAST-MODIFIED:20250923T185027Z
UID:20218-1763573400-1763584200@oakcitybrewingcompany.com
SUMMARY:De Pana Flavor's
DESCRIPTION:
URL:https://oakcitybrewingcompany.com/event/off-the-hog-2-2025-11-19/
CATEGORIES:Food Trucks
END:VEVENT
BEGIN:VEVENT
DTSTART;TZID=America/Halifax:20251119T180000
DTEND;TZID=America/Halifax:20251119T200000
DTSTAMP:20260420T001949
CREATED:20250827T155659Z
LAST-MODIFIED:20250827T155659Z
UID:21105-1763575200-1763582400@oakcitybrewingcompany.com
SUMMARY:Trivia Night
DESCRIPTION:Trivia Night at Oak City! Bring your crew\, grab a pint\, and put your knowledge to the test. \nFrom random facts to tricky questions\, it’s all about brains\, beer\, and bragging rights. Free to play with prizes for the winners! \nNovember 19th Trivia Theme: Feast Your Mind \nNext Trivia Date: December 17th @ 6 PM
URL:https://oakcitybrewingcompany.com/event/trivia-night-3/
CATEGORIES:Events,Weekly Events
ATTACH;FMTTYPE=image/png:https://oakcitybrewingcompany.com/wp-content/uploads/2025/08/3.png
END:VEVENT
BEGIN:VEVENT
DTSTART;TZID=America/Halifax:20251119T183000
DTEND;TZID=America/Halifax:20251119T193000
DTSTAMP:20260420T001949
CREATED:20230622T143255Z
LAST-MODIFIED:20230622T143255Z
UID:20437-1763577000-1763580600@oakcitybrewingcompany.com
SUMMARY:Beer Run
DESCRIPTION:Join us for a 1.5\, 3\, or 5 mile run or walk through downtown Knightdale\, Knightdale Station Park\, Mingo Creek Trail\, and other areas and landmarks that make our town special with our run club. \nLearn more here: https://oakcitybrewingcompany.com/run-club/ \nRun club meets up at 6:30 pm every Wednesday or 11:30 am every Saturday\, cheers!
URL:https://oakcitybrewingcompany.com/event/beer-run-2024-12-11-2025-11-19/
CATEGORIES:Brewery Events,Weekly Events
ATTACH;FMTTYPE=image/png:https://oakcitybrewingcompany.com/wp-content/uploads/2023/06/Screen-Shot-2023-06-22-at-10.25.57-AM.png
END:VEVENT
BEGIN:VEVENT
DTSTART;TZID=America/Halifax:20251120T173000
DTEND;TZID=America/Halifax:20251120T203000
DTSTAMP:20260420T001949
CREATED:20241227T163759Z
LAST-MODIFIED:20241227T163759Z
UID:20281-1763659800-1763670600@oakcitybrewingcompany.com
SUMMARY:Carolina's Catch
DESCRIPTION:Premier seafood food truck of the Triangle.
URL:https://oakcitybrewingcompany.com/event/carolinas-catch-3-2025-11-20/
CATEGORIES:Food Trucks
END:VEVENT
BEGIN:VEVENT
DTSTART;TZID=America/Halifax:20251120T180000
DTEND;TZID=America/Halifax:20251120T200000
DTSTAMP:20260420T001949
CREATED:20251031T162312Z
LAST-MODIFIED:20251031T162313Z
UID:21218-1763661600-1763668800@oakcitybrewingcompany.com
SUMMARY:Holiday Pottery Painting w/ Cozy Panda Event Co
DESCRIPTION:Join Cozy Panda Event Co. at Oak City Brewing for a fun and creative evening of painting pottery!\n\nUnleash your creativity at our self-guided Painted Pottery Workshop – Perfect for all ages and skill levels! Whether you’re coming solo\, with friends\, or bringing the whole family\, you’re in for a fun and relaxing time.\n\nAt the start of the workshop\, you’ll get to choose from a wide variety of holiday-themed ceramic pieces.\nAll supplies\, including paint and brushes\, will be provided – just bring your imagination!\n\nYour ticket includes:– One ceramic pottery piece– All painting supplies and materials– Endless creativity & fun\n\nGrab yours here: https://www.eventbrite.com/e/holiday-pottery-painting-tickets-1924070519719?utm-campaign=social&utm-content=attendeeshare&utm-medium=discovery&utm-term=listing&utm-source=cp&aff=ebdsshcopyurl\n\nThis 90-minute session is completely self-paced\, but we’ll be on hand to offer guidance\, tips\, and a little artistic inspiration if you need it. It’s a great opportunity to express yourself\, try something new\, and leave with your own hand-painted masterpiece!\n\nWe can’t wait to create with you!\n~The Cozy Panda Team
URL:https://oakcitybrewingcompany.com/event/holiday-pottery-painting-w-cozy-panda-event-co/
CATEGORIES:Events
ATTACH;FMTTYPE=image/jpeg:https://oakcitybrewingcompany.com/wp-content/uploads/2025/10/cozy-panda-event-co.jpg
END:VEVENT
BEGIN:VEVENT
DTSTART;TZID=America/Halifax:20251121T173000
DTEND;TZID=America/Halifax:20251121T203000
DTSTAMP:20260420T001949
CREATED:20241227T164520Z
LAST-MODIFIED:20241227T164623Z
UID:20317-1763746200-1763757000@oakcitybrewingcompany.com
SUMMARY:The Naked Empanada
DESCRIPTION:Savory and sweet empanadas since 2015!
URL:https://oakcitybrewingcompany.com/event/the-naked-empanada-2-2025-11-21/
CATEGORIES:Food Trucks
END:VEVENT
BEGIN:VEVENT
DTSTART;TZID=America/Halifax:20251122T090000
DTEND;TZID=America/Halifax:20251224T210000
DTSTAMP:20260420T001949
CREATED:20251107T145254Z
LAST-MODIFIED:20251107T145254Z
UID:21230-1763802000-1766610000@oakcitybrewingcompany.com
SUMMARY:Cole's Farms Christmas Tree Lot
DESCRIPTION:Cole’s Farms Christmas Tree lot is BACK and will run from 11/22 until they are sold out! 🎄\n.\nFresh-cut trees\, garland\, wreaths\, and other decor are available.\nCash\, card\, or check are accepted.\n.\nTree Lot Hours:\nMonday-Friday: 9 AM – 9 PM\nSaturday: 9 AM – 11 PM\nSunday: 10:30 AM – 8 PM\n.\nAll trees are grown and cut fresh from the Cole family farm.
URL:https://oakcitybrewingcompany.com/event/coles-farms-christmas-tree-lot-2/
CATEGORIES:Brewery Events
ATTACH;FMTTYPE=image/png:https://oakcitybrewingcompany.com/wp-content/uploads/2025/11/Christmas-tree-event-flyer-1.png
END:VEVENT
BEGIN:VEVENT
DTSTART;TZID=America/Halifax:20251122T113000
DTEND;TZID=America/Halifax:20251122T123000
DTSTAMP:20260420T001949
CREATED:20230622T143640Z
LAST-MODIFIED:20241227T170600Z
UID:20490-1763811000-1763814600@oakcitybrewingcompany.com
SUMMARY:Beer Run
DESCRIPTION:Join us for a 1.5\, 3\, or 5 mile run or walk through downtown Knightdale\, Knightdale Station Park\, Mingo Creek Trail\, and other areas and landmarks that make our town special with our run club. \nLearn more here: https://oakcitybrewingcompany.com/run-club/ \nRun club meets up at 6:30 pm every Wednesday or 11:30 am every Saturday\, cheers! \n 
URL:https://oakcitybrewingcompany.com/event/beer-run-2-2024-12-21-2025-11-22/
CATEGORIES:Brewery Events,Weekly Events
ATTACH;FMTTYPE=image/png:https://oakcitybrewingcompany.com/wp-content/uploads/2023/06/Screen-Shot-2023-06-22-at-10.25.57-AM.png
END:VEVENT
BEGIN:VEVENT
DTSTART;TZID=America/Halifax:20251122T120000
DTEND;TZID=America/Halifax:20251122T150000
DTSTAMP:20260420T001949
CREATED:20251111T193533Z
LAST-MODIFIED:20251111T193533Z
UID:21247-1763812800-1763823600@oakcitybrewingcompany.com
SUMMARY:JW’s Smoke Shack
DESCRIPTION:
URL:https://oakcitybrewingcompany.com/event/jws-smoke-shack-6/
CATEGORIES:Food Trucks
END:VEVENT
BEGIN:VEVENT
DTSTART;TZID=America/Halifax:20251122T160000
DTEND;TZID=America/Halifax:20251122T210000
DTSTAMP:20260420T001949
CREATED:20241227T165213Z
LAST-MODIFIED:20241227T165213Z
UID:20376-1763827200-1763845200@oakcitybrewingcompany.com
SUMMARY:Bertos Chimis
DESCRIPTION:
URL:https://oakcitybrewingcompany.com/event/bertos-chimis-3-2025-11-22/
CATEGORIES:Food Trucks
END:VEVENT
BEGIN:VEVENT
DTSTART;TZID=America/Halifax:20251122T170000
DTEND;TZID=America/Halifax:20251122T200000
DTSTAMP:20260420T001949
CREATED:20251031T153228Z
LAST-MODIFIED:20251031T153433Z
UID:21211-1763830800-1763841600@oakcitybrewingcompany.com
SUMMARY:Live Music On The Patio
DESCRIPTION:Kick back on a cool night under the warm lights and enjoy live music on the patio \n\nNovember 22nd Music: Taylor Sheiss from 5-8 PM\n\nGrab your friends and hang out for an easy evening filled with good tunes and great company.
URL:https://oakcitybrewingcompany.com/event/live-music-on-the-patio/
CATEGORIES:Events
ATTACH;FMTTYPE=image/png:https://oakcitybrewingcompany.com/wp-content/uploads/2025/10/Screenshot-2025-10-31-at-10.37.42-AM.png
END:VEVENT
BEGIN:VEVENT
DTSTART;TZID=America/Halifax:20251123T140000
DTEND;TZID=America/Halifax:20251123T180000
DTSTAMP:20260420T001949
CREATED:20250923T184111Z
LAST-MODIFIED:20250923T184111Z
UID:21163-1763906400-1763920800@oakcitybrewingcompany.com
SUMMARY:Warehouse BBQ
DESCRIPTION:
URL:https://oakcitybrewingcompany.com/event/warehouse-bbq-8/
CATEGORIES:Food Trucks
END:VEVENT
BEGIN:VEVENT
DTSTART;TZID=America/Halifax:20251124T170000
DTEND;TZID=America/Halifax:20251124T200000
DTSTAMP:20260420T001949
CREATED:20251031T164006Z
LAST-MODIFIED:20251031T164006Z
UID:21224-1764003600-1764014400@oakcitybrewingcompany.com
SUMMARY:Jolly Sandwich Company
DESCRIPTION:
URL:https://oakcitybrewingcompany.com/event/jolly-sandwich-company-2/
CATEGORIES:Food Trucks
END:VEVENT
BEGIN:VEVENT
DTSTART;TZID=America/Halifax:20251124T180000
DTEND;TZID=America/Halifax:20251124T200000
DTSTAMP:20260420T001949
CREATED:20250908T140041Z
LAST-MODIFIED:20250908T140041Z
UID:21127-1764007200-1764014400@oakcitybrewingcompany.com
SUMMARY:Music Bingo
DESCRIPTION:Join us and test your tune knowledge with a cold beer in hand for a fun night of Music Bingo at Oak City! \nBring your friends\, grab a pint\, and get ready for a night full of great music and even better beer. \nNovember 24th Music Bingo Themes:\nTasty Treats & Raise your Glass \nLast Music Bingo Date: December 29th @ 6 PM
URL:https://oakcitybrewingcompany.com/event/music-bingo-4/
CATEGORIES:Brewery Events,Events,Weekly Events
ATTACH;FMTTYPE=image/png:https://oakcitybrewingcompany.com/wp-content/uploads/2025/09/4.png
END:VEVENT
BEGIN:VEVENT
DTSTART;TZID=America/Halifax:20251125T150000
DTEND;TZID=America/Halifax:20251125T220000
DTSTAMP:20260420T001949
CREATED:20241227T170528Z
LAST-MODIFIED:20241227T170528Z
UID:20602-1764082800-1764108000@oakcitybrewingcompany.com
SUMMARY:Pint Night
DESCRIPTION:$1 off pints every Tuesday here at Oak City!
URL:https://oakcitybrewingcompany.com/event/pint-night-50-2025-11-25/
CATEGORIES:Brewery Events,Events
END:VEVENT
BEGIN:VEVENT
DTSTART;TZID=America/Halifax:20251125T170000
DTEND;TZID=America/Halifax:20251125T200000
DTSTAMP:20260420T001949
CREATED:20241227T164805Z
LAST-MODIFIED:20241227T164805Z
UID:20340-1764090000-1764100800@oakcitybrewingcompany.com
SUMMARY:Beef Street & Pig
DESCRIPTION:Delicious loaded nachos\, fries and comfort food.
URL:https://oakcitybrewingcompany.com/event/beef-street-pig-2025-11-25/
CATEGORIES:Food Trucks
END:VEVENT
BEGIN:VEVENT
DTSTART;TZID=America/Halifax:20251126T173000
DTEND;TZID=America/Halifax:20251126T203000
DTSTAMP:20260420T001949
CREATED:20241227T163127Z
LAST-MODIFIED:20241227T163127Z
UID:20649-1764178200-1764189000@oakcitybrewingcompany.com
SUMMARY:Bulkogi
DESCRIPTION:Authentic Korean BBQ with a yummy twist.
URL:https://oakcitybrewingcompany.com/event/bulkogi-13-2025-11-26/
CATEGORIES:Food Trucks
ATTACH;FMTTYPE=image/png:https://oakcitybrewingcompany.com/wp-content/uploads/2024/12/Screenshot-2024-12-27-at-11.30.44-AM.png
END:VEVENT
BEGIN:VEVENT
DTSTART;TZID=America/Halifax:20251126T183000
DTEND;TZID=America/Halifax:20251126T193000
DTSTAMP:20260420T001949
CREATED:20230622T143255Z
LAST-MODIFIED:20230622T143255Z
UID:20438-1764181800-1764185400@oakcitybrewingcompany.com
SUMMARY:Beer Run
DESCRIPTION:Join us for a 1.5\, 3\, or 5 mile run or walk through downtown Knightdale\, Knightdale Station Park\, Mingo Creek Trail\, and other areas and landmarks that make our town special with our run club. \nLearn more here: https://oakcitybrewingcompany.com/run-club/ \nRun club meets up at 6:30 pm every Wednesday or 11:30 am every Saturday\, cheers!
URL:https://oakcitybrewingcompany.com/event/beer-run-2024-12-11-2025-11-26/
CATEGORIES:Brewery Events,Weekly Events
ATTACH;FMTTYPE=image/png:https://oakcitybrewingcompany.com/wp-content/uploads/2023/06/Screen-Shot-2023-06-22-at-10.25.57-AM.png
END:VEVENT
BEGIN:VEVENT
DTSTART;TZID=America/Halifax:20251127T000000
DTEND;TZID=America/Halifax:20251127T235900
DTSTAMP:20260420T001949
CREATED:20241227T163957Z
LAST-MODIFIED:20250923T185114Z
UID:20293-1764201600-1764287940@oakcitybrewingcompany.com
SUMMARY:Closed for Thanksgiving
DESCRIPTION:
URL:https://oakcitybrewingcompany.com/event/mike-nice-empanadas-2025-11-27/
CATEGORIES:Weekly Events
ATTACH;FMTTYPE=image/png:https://oakcitybrewingcompany.com/wp-content/uploads/2024/11/Screenshot-2024-11-01-at-12.51.23-PM.png
END:VEVENT
BEGIN:VEVENT
DTSTART;TZID=America/Halifax:20251128T120000
DTEND;TZID=America/Halifax:20251128T200000
DTSTAMP:20260420T001949
CREATED:20241227T164348Z
LAST-MODIFIED:20251111T183855Z
UID:20305-1764331200-1764360000@oakcitybrewingcompany.com
SUMMARY:Chick-N-Que
DESCRIPTION:The best chopped chicken bbq around!
URL:https://oakcitybrewingcompany.com/event/chick-n-que-52-2025-11-28/
CATEGORIES:Food Trucks
END:VEVENT
BEGIN:VEVENT
DTSTART;TZID=America/Halifax:20251129T113000
DTEND;TZID=America/Halifax:20251129T123000
DTSTAMP:20260420T001949
CREATED:20230622T143640Z
LAST-MODIFIED:20241227T170600Z
UID:20491-1764415800-1764419400@oakcitybrewingcompany.com
SUMMARY:Beer Run
DESCRIPTION:Join us for a 1.5\, 3\, or 5 mile run or walk through downtown Knightdale\, Knightdale Station Park\, Mingo Creek Trail\, and other areas and landmarks that make our town special with our run club. \nLearn more here: https://oakcitybrewingcompany.com/run-club/ \nRun club meets up at 6:30 pm every Wednesday or 11:30 am every Saturday\, cheers! \n 
URL:https://oakcitybrewingcompany.com/event/beer-run-2-2024-12-21-2025-11-29/
CATEGORIES:Brewery Events,Weekly Events
ATTACH;FMTTYPE=image/png:https://oakcitybrewingcompany.com/wp-content/uploads/2023/06/Screen-Shot-2023-06-22-at-10.25.57-AM.png
END:VEVENT
BEGIN:VEVENT
DTSTART;TZID=America/Halifax:20251129T120000
DTEND;TZID=America/Halifax:20251129T210000
DTSTAMP:20260420T001949
CREATED:20250923T184446Z
LAST-MODIFIED:20250923T184446Z
UID:21167-1764417600-1764450000@oakcitybrewingcompany.com
SUMMARY:Tombachi
DESCRIPTION:
URL:https://oakcitybrewingcompany.com/event/tombachi-8/
CATEGORIES:Food Trucks
END:VEVENT
BEGIN:VEVENT
DTSTART;TZID=America/Halifax:20251130T130000
DTEND;TZID=America/Halifax:20251130T180000
DTSTAMP:20260420T001949
CREATED:20250923T184521Z
LAST-MODIFIED:20250923T184521Z
UID:21169-1764507600-1764525600@oakcitybrewingcompany.com
SUMMARY:The Subs Factory
DESCRIPTION:
URL:https://oakcitybrewingcompany.com/event/the-subs-factory-4/
CATEGORIES:Food Trucks
END:VEVENT
BEGIN:VEVENT
DTSTART;TZID=America/Halifax:20251202T150000
DTEND;TZID=America/Halifax:20251202T220000
DTSTAMP:20260420T001949
CREATED:20241227T170528Z
LAST-MODIFIED:20241227T170528Z
UID:20603-1764687600-1764712800@oakcitybrewingcompany.com
SUMMARY:Pint Night
DESCRIPTION:$1 off pints every Tuesday here at Oak City!
URL:https://oakcitybrewingcompany.com/event/pint-night-50-2025-12-02/
CATEGORIES:Brewery Events,Events
END:VEVENT
BEGIN:VEVENT
DTSTART;TZID=America/Halifax:20251202T170000
DTEND;TZID=America/Halifax:20251202T200000
DTSTAMP:20260420T001949
CREATED:20241227T155905Z
LAST-MODIFIED:20241227T155905Z
UID:20158-1764694800-1764705600@oakcitybrewingcompany.com
SUMMARY:Copperhead's Craft Burgers
DESCRIPTION:Serving up uniquely crafted burgers!
URL:https://oakcitybrewingcompany.com/event/copperheads-craft-burgers-2-2025-12-02/
CATEGORIES:Food Trucks
ATTACH;FMTTYPE=image/png:https://oakcitybrewingcompany.com/wp-content/uploads/2024/12/Screenshot-2024-12-27-at-10.57.34-AM.png
END:VEVENT
END:VCALENDAR