BEGIN:VCALENDAR
VERSION:2.0
PRODID:-//Oak City Brewing Company - ECPv6.15.20//NONSGML v1.0//EN
CALSCALE:GREGORIAN
METHOD:PUBLISH
X-WR-CALNAME:Oak City Brewing Company
X-ORIGINAL-URL:https://oakcitybrewingcompany.com
X-WR-CALDESC:Events for Oak City Brewing Company
REFRESH-INTERVAL;VALUE=DURATION:PT1H
X-Robots-Tag:noindex
X-PUBLISHED-TTL:PT1H
BEGIN:VTIMEZONE
TZID:America/Halifax
BEGIN:DAYLIGHT
TZOFFSETFROM:-0400
TZOFFSETTO:-0300
TZNAME:ADT
DTSTART:20230312T060000
END:DAYLIGHT
BEGIN:STANDARD
TZOFFSETFROM:-0300
TZOFFSETTO:-0400
TZNAME:AST
DTSTART:20231105T050000
END:STANDARD
BEGIN:DAYLIGHT
TZOFFSETFROM:-0400
TZOFFSETTO:-0300
TZNAME:ADT
DTSTART:20240310T060000
END:DAYLIGHT
BEGIN:STANDARD
TZOFFSETFROM:-0300
TZOFFSETTO:-0400
TZNAME:AST
DTSTART:20241103T050000
END:STANDARD
BEGIN:DAYLIGHT
TZOFFSETFROM:-0400
TZOFFSETTO:-0300
TZNAME:ADT
DTSTART:20250309T060000
END:DAYLIGHT
BEGIN:STANDARD
TZOFFSETFROM:-0300
TZOFFSETTO:-0400
TZNAME:AST
DTSTART:20251102T050000
END:STANDARD
END:VTIMEZONE
BEGIN:VEVENT
DTSTART;TZID=America/Halifax:20241120T173000
DTEND;TZID=America/Halifax:20241120T203000
DTSTAMP:20260420T102304
CREATED:20220916T103300Z
LAST-MODIFIED:20241122T195010Z
UID:19425-1732123800-1732134600@oakcitybrewingcompany.com
SUMMARY:Jessica's Food Truck
DESCRIPTION:
URL:https://oakcitybrewingcompany.com/event/jessicas-food-truck-22-2023-02-25-2024-11-20/
CATEGORIES:Food Trucks
ATTACH;FMTTYPE=image/jpeg:https://oakcitybrewingcompany.com/wp-content/uploads/2022/09/301548167_171520468736524_3664133766732670901_n.jpg
END:VEVENT
BEGIN:VEVENT
DTSTART;TZID=America/Halifax:20241119T173000
DTEND;TZID=America/Halifax:20241119T203000
DTSTAMP:20260420T102304
CREATED:20220816T223305Z
LAST-MODIFIED:20241101T193750Z
UID:18855-1732037400-1732048200@oakcitybrewingcompany.com
SUMMARY:The Greek Goat
DESCRIPTION:Bringing your favorite Greek street food to Raleigh and the surrounding area. Greek Done Right!
URL:https://oakcitybrewingcompany.com/event/the-greek-goat-2024-11-19/
CATEGORIES:Food Trucks
ATTACH;FMTTYPE=image/png:https://oakcitybrewingcompany.com/wp-content/uploads/2022/08/294719080_358949019756141_4432516889414215207_n.png
END:VEVENT
BEGIN:VEVENT
DTSTART;VALUE=DATE:20241118
DTEND;VALUE=DATE:20241119
DTSTAMP:20260420T102304
CREATED:20241111T135931Z
LAST-MODIFIED:20241111T135931Z
UID:20027-1731888000-1731974399@oakcitybrewingcompany.com
SUMMARY:No Food Truck - BYOF
DESCRIPTION:
URL:https://oakcitybrewingcompany.com/event/no-food-truck-byof-28/
END:VEVENT
BEGIN:VEVENT
DTSTART;TZID=America/Halifax:20241117T140000
DTEND;TZID=America/Halifax:20241117T180000
DTSTAMP:20260420T102304
CREATED:20230411T144336Z
LAST-MODIFIED:20230411T144336Z
UID:20003-1731852000-1731866400@oakcitybrewingcompany.com
SUMMARY:Off the Hog
DESCRIPTION:Off the hog serve good old-fashioned traditional smoked meats using a variety of hardwoods and coals.
URL:https://oakcitybrewingcompany.com/event/off-the-hog-2024-10-31-2024-11-17/
CATEGORIES:Food Trucks
ATTACH;FMTTYPE=image/png:https://oakcitybrewingcompany.com/wp-content/uploads/2023/04/Screen-Shot-2023-04-11-at-10.38.53-AM.png
END:VEVENT
BEGIN:VEVENT
DTSTART;TZID=America/Halifax:20241116T160000
DTEND;TZID=America/Halifax:20241116T210000
DTSTAMP:20260420T102304
CREATED:20220816T150752Z
LAST-MODIFIED:20240510T160917Z
UID:19279-1731772800-1731790800@oakcitybrewingcompany.com
SUMMARY:Dubz Grub
DESCRIPTION:Dubz Grub is more than just a food truck\, it is a dream come true for Robert and Adrienne Wilkinson.  We have over 30 years of experience in the food industry and finally decided to take a risk and follow our passions. Our Mission is to be professional\, reliable and bring delicious\, quality homemade food to your business or catered events.
URL:https://oakcitybrewingcompany.com/event/dubz-grub-3-2023-02-18-2024-11-16/
CATEGORIES:Food Trucks
ATTACH;FMTTYPE=image/png:https://oakcitybrewingcompany.com/wp-content/uploads/2022/08/Snacken-01.png
END:VEVENT
BEGIN:VEVENT
DTSTART;TZID=America/Halifax:20241116T140000
DTEND;TZID=America/Halifax:20241116T180000
DTSTAMP:20260420T102304
CREATED:20240309T172341Z
LAST-MODIFIED:20241101T164228Z
UID:19563-1731765600-1731780000@oakcitybrewingcompany.com
SUMMARY:Blood Drive
DESCRIPTION:It’s in your blood to save lives!\n.\nEvery drop counts\, come donate blood with @thebloodconnection & receive $40 in rewards!\n.\nSign up here: https://donate.thebloodconnection.org/donor/schedules/drive_schedule/225260
URL:https://oakcitybrewingcompany.com/event/blood-drive-9-2024-11-16/
CATEGORIES:Brewery Events,Events,Weekly Events
ATTACH;FMTTYPE=image/jpeg:https://oakcitybrewingcompany.com/wp-content/uploads/2024/03/blood-drive-flyer-.jpeg
END:VEVENT
BEGIN:VEVENT
DTSTART;TZID=America/Halifax:20241116T120000
DTEND;TZID=America/Halifax:20241116T150000
DTSTAMP:20260420T102304
CREATED:20220915T101018Z
LAST-MODIFIED:20220915T101018Z
UID:18933-1731758400-1731769200@oakcitybrewingcompany.com
SUMMARY:The Tasty Turkey-Que
DESCRIPTION:Chopped turkey barbecue.
URL:https://oakcitybrewingcompany.com/event/the-tasty-turkey-que-2024-11-16/
CATEGORIES:Food Trucks
ATTACH;FMTTYPE=image/jpeg:https://oakcitybrewingcompany.com/wp-content/uploads/2022/09/216927439_236514948306576_2229485138571803795_n.jpg
END:VEVENT
BEGIN:VEVENT
DTSTART;TZID=America/Halifax:20241116T113000
DTEND;TZID=America/Halifax:20241116T123000
DTSTAMP:20260420T102304
CREATED:20230622T143640Z
LAST-MODIFIED:20230622T143640Z
UID:18641-1731756600-1731760200@oakcitybrewingcompany.com
SUMMARY:Beer Run
DESCRIPTION:Join us for a 1.5\, 3\, or 5 mile run or walk through downtown Knightdale\, Knightdale Station Park\, Mingo Creek Trail\, and other areas and landmarks that make our town special with our run club. \nLearn more here: https://oakcitybrewingcompany.com/run-club/ \nRun club meets up at 6:30 pm every Wednesday or 11:30 am every Saturday\, cheers! \n 
URL:https://oakcitybrewingcompany.com/event/beer-run-2-2024-11-16/
CATEGORIES:Brewery Events,Weekly Events
ATTACH;FMTTYPE=image/png:https://oakcitybrewingcompany.com/wp-content/uploads/2023/06/Screen-Shot-2023-06-22-at-10.25.57-AM.png
END:VEVENT
BEGIN:VEVENT
DTSTART;TZID=America/Halifax:20241115T173000
DTEND;TZID=America/Halifax:20241115T203000
DTSTAMP:20260420T102304
CREATED:20220816T171952Z
LAST-MODIFIED:20220816T171952Z
UID:18945-1731691800-1731702600@oakcitybrewingcompany.com
SUMMARY:The Naked Empanada
DESCRIPTION:The Naked Empanada was the lifelong dream and now passion of Roy Thombs. Roy\, who is better known to friends and family as Fuzzy\, began his culinary journey at fifteen years old in Morganton\, NC. Never shying away from hard work and the opportunity to learn\, Roy worked his way from a dishwasher at Shoney’s to a degree from the prestigious Johnson & Wales University. It was during this time at Johnson & Wales that Roy interned at the highly acclaimed Grove Park Inn in Asheville\, NC. While interning at Grove Park Inn\, Roy’s passion for the culinary arts and a culture of service was truly sparked. From Johnson & Wales\, Roy went on to work for a number of corporate restaurant groups where he transitioned into operations management roles. Eventually\, he moved from operations to administration and served in corporate human resources for a large national chain restaurant\, where he spent fifteen years. \nIt wasn’t until 2013\, when a corporate realignment was pushing for a relocation\, potentially uprooting his family\, that Roy was fully able to rekindle the same ember that was sparked during his time at Johnson & Wales interning at Grove Park Inn. The choice was not easy to leave the comfort of a stable career to pursue the entrepreneurial dream which had been brewing for years\, but it also felt like an opportunity that could not be denied. Through extensive research\, trial and error\, feedback from friends and family\, Roy carefully hand-crafted the concept that launched in 2015 with his food truck offering fresh\, locally sourced and delicious handmade empanadas. It was clear from the start that a lifetime of focus in culinary arts\, customer service and operations had molded itself into a business that was an instant success. \nAs The Naked Empanada continues to grow and thrive\, we know that our success is driven by our customers. That is why we dedicate every day to ensuring that every empanada and every experience with our customers is cared for by each of our team members. This is a labor of love that is fueled by the smiles and enjoyment of every person who bites into the food that we prepare and says\, “Wow\, that’s sooo good!!”
URL:https://oakcitybrewingcompany.com/event/the-naked-empanada-2024-11-15/
CATEGORIES:Food Trucks
ATTACH;FMTTYPE=image/jpeg:https://oakcitybrewingcompany.com/wp-content/uploads/2022/08/277675892_657482668566589_7822163364397964254_n.jpg
END:VEVENT
BEGIN:VEVENT
DTSTART;TZID=America/Halifax:20241114T173000
DTEND;TZID=America/Halifax:20241114T203000
DTSTAMP:20260420T102304
CREATED:20221229T165151Z
LAST-MODIFIED:20221229T165151Z
UID:18968-1731605400-1731616200@oakcitybrewingcompany.com
SUMMARY:The Smoke N Jerk
DESCRIPTION:Jvon Williams\, a North Carolina native has become known locally and privately for his unorthodox creations. Raised in the south\, he is making a name for himself by proudly continuing the tradition of “smoking meat” while celebrating down home culinary and Caribbean blended specialties. Williams brings meaning to a Caribbean twist on down home flavors of the south and elevates the heights by offering a unique variety of tastefully infused “Authentic” Jerk rubs incorporating natural local fruit and extractions.
URL:https://oakcitybrewingcompany.com/event/the-smoke-n-jerk-3-2024-11-14/
ATTACH;FMTTYPE=image/jpeg:https://oakcitybrewingcompany.com/wp-content/uploads/2019/12/20840918_1807268802918582_2991818591324802150_n.jpg
END:VEVENT
BEGIN:VEVENT
DTSTART;TZID=America/Halifax:20241113T183000
DTEND;TZID=America/Halifax:20241113T193000
DTSTAMP:20260420T102304
CREATED:20230622T143255Z
LAST-MODIFIED:20230622T143255Z
UID:18719-1731522600-1731526200@oakcitybrewingcompany.com
SUMMARY:Beer Run
DESCRIPTION:Join us for a 1.5\, 3\, or 5 mile run or walk through downtown Knightdale\, Knightdale Station Park\, Mingo Creek Trail\, and other areas and landmarks that make our town special with our run club. \nLearn more here: https://oakcitybrewingcompany.com/run-club/ \nRun club meets up at 6:30 pm every Wednesday or 11:30 am every Saturday\, cheers!
URL:https://oakcitybrewingcompany.com/event/beer-run-2024-11-13/
CATEGORIES:Brewery Events,Weekly Events
ATTACH;FMTTYPE=image/png:https://oakcitybrewingcompany.com/wp-content/uploads/2023/06/Screen-Shot-2023-06-22-at-10.25.57-AM.png
END:VEVENT
BEGIN:VEVENT
DTSTART;TZID=America/Halifax:20241113T173000
DTEND;TZID=America/Halifax:20241113T203000
DTSTAMP:20260420T102304
CREATED:20210826T023650Z
LAST-MODIFIED:20241111T135829Z
UID:19217-1731519000-1731529800@oakcitybrewingcompany.com
SUMMARY:La Katrina Tacos
DESCRIPTION:
URL:https://oakcitybrewingcompany.com/event/empanadas-rd-3-2024-11-13/
CATEGORIES:Food Trucks
END:VEVENT
BEGIN:VEVENT
DTSTART;TZID=America/Halifax:20241112T173000
DTEND;TZID=America/Halifax:20241112T203000
DTSTAMP:20260420T102304
CREATED:20231226T154846Z
LAST-MODIFIED:20241111T135856Z
UID:18869-1731432600-1731443400@oakcitybrewingcompany.com
SUMMARY:That's A Good Burger!
DESCRIPTION:
URL:https://oakcitybrewingcompany.com/event/big-bs-southern-kitchen-2024-11-12/
CATEGORIES:Food Trucks
END:VEVENT
BEGIN:VEVENT
DTSTART;TZID=America/Halifax:20241111T173000
DTEND;TZID=America/Halifax:20241111T203000
DTSTAMP:20260420T102304
CREATED:20220824T113326Z
LAST-MODIFIED:20240425T161254Z
UID:18907-1731346200-1731357000@oakcitybrewingcompany.com
SUMMARY:Chick-N-Que
DESCRIPTION:The best Eastern style BBQ NC has to offer. We also serve 100% NC raised ostrich burgers along with mouth watering sides. Chick-N-Que is a multi mobile food truck & catering business serving Wake County and surrounding areas. With our guarded family recipe\, Chick-N-Que has a unique\, savory taste that stands out as some of the best barbecue around.
URL:https://oakcitybrewingcompany.com/event/chick-n-que-52-2023-01-27-2023-12-18-2024-11-11/
CATEGORIES:Food Trucks
ATTACH;FMTTYPE=image/jpeg:https://oakcitybrewingcompany.com/wp-content/uploads/2019/10/40683703_1781242268659131_3875899713362329600_n.jpg
END:VEVENT
BEGIN:VEVENT
DTSTART;TZID=America/Halifax:20241110T140000
DTEND;TZID=America/Halifax:20241110T180000
DTSTAMP:20260420T102305
CREATED:20220915T102427Z
LAST-MODIFIED:20220915T102427Z
UID:19112-1731247200-1731261600@oakcitybrewingcompany.com
SUMMARY:Lobster Dogs
DESCRIPTION:Food truck serving the Best Lobster Rolls & Stuffed Avocados in the Carolinas!
URL:https://oakcitybrewingcompany.com/event/lobster-dogs-3-2024-11-10/
CATEGORIES:Food Trucks
ATTACH;FMTTYPE=image/jpeg:https://oakcitybrewingcompany.com/wp-content/uploads/2022/09/300966759_603356964739835_7012982284719119023_n.jpg
END:VEVENT
BEGIN:VEVENT
DTSTART;TZID=America/Halifax:20241109T160000
DTEND;TZID=America/Halifax:20241109T210000
DTSTAMP:20260420T102305
CREATED:20230116T170404Z
LAST-MODIFIED:20230116T170404Z
UID:19168-1731168000-1731186000@oakcitybrewingcompany.com
SUMMARY:Fired Up Pizza & BBQ
DESCRIPTION:Serving wood-fired pizza and bbq. Smokin’ good with Carolina wood.
URL:https://oakcitybrewingcompany.com/event/fired-up-pizza-bbq-2-2024-11-09/
CATEGORIES:Food Trucks
ATTACH;FMTTYPE=image/jpeg:https://oakcitybrewingcompany.com/wp-content/uploads/2023/01/294908699_455773433222203_229099170207648236_n.jpeg
END:VEVENT
BEGIN:VEVENT
DTSTART;TZID=America/Halifax:20241109T120000
DTEND;TZID=America/Halifax:20241109T150000
DTSTAMP:20260420T102305
CREATED:20230116T155025Z
LAST-MODIFIED:20230116T155025Z
UID:19300-1731153600-1731164400@oakcitybrewingcompany.com
SUMMARY:Portable Portugy
DESCRIPTION:Chef Shawn Dagnall brings The Portable Portugy\, NC’s first and only source for Portuguese cuisine.
URL:https://oakcitybrewingcompany.com/event/portable-portugy-2024-11-09/
CATEGORIES:Food Trucks
ATTACH;FMTTYPE=image/png:https://oakcitybrewingcompany.com/wp-content/uploads/2023/01/Screen-Shot-2023-01-16-at-10.45.04-AM.png
END:VEVENT
BEGIN:VEVENT
DTSTART;TZID=America/Halifax:20241109T113000
DTEND;TZID=America/Halifax:20241109T123000
DTSTAMP:20260420T102305
CREATED:20230622T143640Z
LAST-MODIFIED:20230622T143640Z
UID:18640-1731151800-1731155400@oakcitybrewingcompany.com
SUMMARY:Beer Run
DESCRIPTION:Join us for a 1.5\, 3\, or 5 mile run or walk through downtown Knightdale\, Knightdale Station Park\, Mingo Creek Trail\, and other areas and landmarks that make our town special with our run club. \nLearn more here: https://oakcitybrewingcompany.com/run-club/ \nRun club meets up at 6:30 pm every Wednesday or 11:30 am every Saturday\, cheers! \n 
URL:https://oakcitybrewingcompany.com/event/beer-run-2-2024-11-09/
CATEGORIES:Brewery Events,Weekly Events
ATTACH;FMTTYPE=image/png:https://oakcitybrewingcompany.com/wp-content/uploads/2023/06/Screen-Shot-2023-06-22-at-10.25.57-AM.png
END:VEVENT
BEGIN:VEVENT
DTSTART;TZID=America/Halifax:20241108T173000
DTEND;TZID=America/Halifax:20241108T203000
DTSTAMP:20260420T102305
CREATED:20220825T141353Z
LAST-MODIFIED:20240827T171146Z
UID:19063-1731087000-1731097800@oakcitybrewingcompany.com
SUMMARY:Caribbean Kicker
DESCRIPTION:We are a Food Truck that sell Caribbean Fusion with a twist. The food is made with love ❤️ and full of flavor.
URL:https://oakcitybrewingcompany.com/event/caribbean-kicker-3-2024-11-08/
CATEGORIES:Food Trucks
ATTACH;FMTTYPE=image/jpeg:https://oakcitybrewingcompany.com/wp-content/uploads/2022/08/279096638_2125417890949808_6612292007969708448_n.jpg
END:VEVENT
BEGIN:VEVENT
DTSTART;TZID=America/Halifax:20241107T180000
DTEND;TZID=America/Halifax:20241107T190000
DTSTAMP:20260420T102305
CREATED:20241001T155806Z
LAST-MODIFIED:20241101T163747Z
UID:19984-1731002400-1731006000@oakcitybrewingcompany.com
SUMMARY:Brews & Barbells HIIT Class
DESCRIPTION:Join us Thursday\, November\, 7th for an evening of weights and drinks with Brett and his mobile gym! \nSign up here: https://www.eventeny.com/events/brews-barbells-15573/ \nClass begins at 6 PM. Please be sure to bring a sweat towel (if you prefer) and a water bottle. \nA sign-up includes a cold beer after your workout!
URL:https://oakcitybrewingcompany.com/event/brews-barbells-hiit-class-2-2024-10-24-2024-11-07/
CATEGORIES:Brewery Events,Events,Weekly Events
ATTACH;FMTTYPE=image/png:https://oakcitybrewingcompany.com/wp-content/uploads/2024/10/Brews-Nov-7th.png
END:VEVENT
BEGIN:VEVENT
DTSTART;TZID=America/Halifax:20241107T173000
DTEND;TZID=America/Halifax:20241107T203000
DTSTAMP:20260420T102305
CREATED:20220824T120403Z
LAST-MODIFIED:20220824T120403Z
UID:19039-1731000600-1731011400@oakcitybrewingcompany.com
SUMMARY:Not Just A Fry Guy
DESCRIPTION:
URL:https://oakcitybrewingcompany.com/event/not-just-a-fry-guy-2024-11-07/
CATEGORIES:Food Trucks
ATTACH;FMTTYPE=image/jpeg:https://oakcitybrewingcompany.com/wp-content/uploads/2022/08/283540834_555973096053598_4434455661131209924_n.jpg
END:VEVENT
BEGIN:VEVENT
DTSTART;TZID=America/Halifax:20241106T183000
DTEND;TZID=America/Halifax:20241106T193000
DTSTAMP:20260420T102305
CREATED:20230622T143255Z
LAST-MODIFIED:20230622T143255Z
UID:18718-1730917800-1730921400@oakcitybrewingcompany.com
SUMMARY:Beer Run
DESCRIPTION:Join us for a 1.5\, 3\, or 5 mile run or walk through downtown Knightdale\, Knightdale Station Park\, Mingo Creek Trail\, and other areas and landmarks that make our town special with our run club. \nLearn more here: https://oakcitybrewingcompany.com/run-club/ \nRun club meets up at 6:30 pm every Wednesday or 11:30 am every Saturday\, cheers!
URL:https://oakcitybrewingcompany.com/event/beer-run-2024-11-06/
CATEGORIES:Brewery Events,Weekly Events
ATTACH;FMTTYPE=image/png:https://oakcitybrewingcompany.com/wp-content/uploads/2023/06/Screen-Shot-2023-06-22-at-10.25.57-AM.png
END:VEVENT
BEGIN:VEVENT
DTSTART;TZID=America/Halifax:20241106T173000
DTEND;TZID=America/Halifax:20241106T203000
DTSTAMP:20260420T102305
CREATED:20220825T131329Z
LAST-MODIFIED:20220825T131329Z
UID:18884-1730914200-1730925000@oakcitybrewingcompany.com
SUMMARY:Chirba Chirba Dumpling
DESCRIPTION:Presents mouthwatering Chinese style dumplings. We are excited to bring you an Asian street fare food truck specializing in Chinese dumplings. After years of dumpling studies through extensive tasting\, pleating and learning secret family recipes\, we have developed a menu that we think you’ll love.
URL:https://oakcitybrewingcompany.com/event/chirba-chirba-dumpling-48-2024-11-06/
CATEGORIES:Food Trucks
ATTACH;FMTTYPE=image/jpeg:https://oakcitybrewingcompany.com/wp-content/uploads/2022/08/300415632_7906269056113354_1802728577223783342_n.jpg
END:VEVENT
BEGIN:VEVENT
DTSTART;TZID=America/Halifax:20241105T170000
DTEND;TZID=America/Halifax:20241105T200000
DTSTAMP:20260420T102305
CREATED:20240411T140406Z
LAST-MODIFIED:20240411T140406Z
UID:19714-1730826000-1730836800@oakcitybrewingcompany.com
SUMMARY:Copperheads Craft Burgers
DESCRIPTION:Uniquely crafted burgers!
URL:https://oakcitybrewingcompany.com/event/copperheads-craft-burgers-2024-11-05/
CATEGORIES:Food Trucks
ATTACH;FMTTYPE=image/png:https://oakcitybrewingcompany.com/wp-content/uploads/2024/04/Screenshot-2024-04-11-at-10.01.30-AM.png
END:VEVENT
BEGIN:VEVENT
DTSTART;TZID=America/Halifax:20241104T180000
DTEND;TZID=America/Halifax:20241104T190000
DTSTAMP:20260420T102305
CREATED:20241028T153908Z
LAST-MODIFIED:20241028T154053Z
UID:19979-1730743200-1730746800@oakcitybrewingcompany.com
SUMMARY:Disc Golf Club
DESCRIPTION:Join us for our Disc Golf Club!\n.\nWe’re hosting a weekly putting league every Monday and bi-weekly rounds at local courses\, starting Monday\, November 4th.\n.\nWhether you’re a seasoned player or new to the game\, all skill levels are welcome! Bring your friends\, grab a beer\, and let’s throw some discs.
URL:https://oakcitybrewingcompany.com/event/disc-golf-club/
CATEGORIES:Brewery Events,Events,Weekly Events
ATTACH;FMTTYPE=image/png:https://oakcitybrewingcompany.com/wp-content/uploads/2024/10/disc-golf-club-meeting-1.png
END:VEVENT
BEGIN:VEVENT
DTSTART;TZID=America/Halifax:20241103T140000
DTEND;TZID=America/Halifax:20241103T180000
DTSTAMP:20260420T102305
CREATED:20230309T173542Z
LAST-MODIFIED:20230309T173542Z
UID:19239-1730642400-1730656800@oakcitybrewingcompany.com
SUMMARY:Parker's Hall of Fame Deli & Grill
DESCRIPTION:A local food truck selling burgers\, hotdogs\, sandwiches\, and paninis.
URL:https://oakcitybrewingcompany.com/event/parkers-hall-of-fame-deli-grill-2024-11-03/
CATEGORIES:Food Trucks
ATTACH;FMTTYPE=image/png:https://oakcitybrewingcompany.com/wp-content/uploads/2023/03/Screen-Shot-2023-03-09-at-12.33.28-PM.png
END:VEVENT
BEGIN:VEVENT
DTSTART;TZID=America/Halifax:20241102T160000
DTEND;TZID=America/Halifax:20241102T210000
DTSTAMP:20260420T102305
CREATED:20220830T214644Z
LAST-MODIFIED:20241101T193224Z
UID:19181-1730563200-1730581200@oakcitybrewingcompany.com
SUMMARY:St Vicent Spanish Cuisine
DESCRIPTION:
URL:https://oakcitybrewingcompany.com/event/barone-meatball-33-2023-02-04-2024-11-02/
CATEGORIES:Food Trucks
ATTACH;FMTTYPE=image/png:https://oakcitybrewingcompany.com/wp-content/uploads/2022/08/Screenshot-2024-11-01-at-3.22.40-PM.png
END:VEVENT
BEGIN:VEVENT
DTSTART;TZID=America/Halifax:20241102T120000
DTEND;TZID=America/Halifax:20241102T160000
DTSTAMP:20260420T102305
CREATED:20241016T140143Z
LAST-MODIFIED:20241016T140143Z
UID:19965-1730548800-1730563200@oakcitybrewingcompany.com
SUMMARY:Fall Makers Market
DESCRIPTION:We LOVE supporting small businesses!\n.\nJoin us on November 2nd from 12-4 PM to kick off your holiday shopping at our Fall Makers Market with live music by Sam Trebing\, shopping with over 40+ vendors\, and some great grub with GoldenKdog\, Not Just Icing & The Greek Goat!\n.\nWe hope to see you there\, cheers!
URL:https://oakcitybrewingcompany.com/event/fall-makers-market-2/
CATEGORIES:Brewery Events,Events
ATTACH;FMTTYPE=image/png:https://oakcitybrewingcompany.com/wp-content/uploads/2024/10/Makers-Markets-1.png
END:VEVENT
BEGIN:VEVENT
DTSTART;TZID=America/Halifax:20241102T120000
DTEND;TZID=America/Halifax:20241102T160000
DTSTAMP:20260420T102305
CREATED:20240610T153632Z
LAST-MODIFIED:20241101T193643Z
UID:20012-1730548800-1730563200@oakcitybrewingcompany.com
SUMMARY:Not Just Icing
DESCRIPTION:The Triangle’s first edible cookie dough & ice cream dessert food truck.
URL:https://oakcitybrewingcompany.com/event/not-just-icing-cart-2024-11-02/
ATTACH;FMTTYPE=image/png:https://oakcitybrewingcompany.com/wp-content/uploads/2024/06/Screenshot-2024-11-01-at-3.35.01-PM.png
END:VEVENT
BEGIN:VEVENT
DTSTART;TZID=America/Halifax:20241102T120000
DTEND;TZID=America/Halifax:20241102T160000
DTSTAMP:20260420T102305
CREATED:20230322T124335Z
LAST-MODIFIED:20241101T164759Z
UID:19435-1730548800-1730563200@oakcitybrewingcompany.com
SUMMARY:Empanadas RD
DESCRIPTION:
URL:https://oakcitybrewingcompany.com/event/goldenkdog-2024-11-02/
CATEGORIES:Food Trucks
ATTACH;FMTTYPE=image/png:https://oakcitybrewingcompany.com/wp-content/uploads/2023/03/Screenshot-2024-11-01-at-12.46.31-PM.png
END:VEVENT
END:VCALENDAR