BEGIN:VCALENDAR
VERSION:2.0
PRODID:-//Oak City Brewing Company - ECPv6.15.20//NONSGML v1.0//EN
CALSCALE:GREGORIAN
METHOD:PUBLISH
X-WR-CALNAME:Oak City Brewing Company
X-ORIGINAL-URL:https://oakcitybrewingcompany.com
X-WR-CALDESC:Events for Oak City Brewing Company
REFRESH-INTERVAL;VALUE=DURATION:PT1H
X-Robots-Tag:noindex
X-PUBLISHED-TTL:PT1H
BEGIN:VTIMEZONE
TZID:America/Halifax
BEGIN:DAYLIGHT
TZOFFSETFROM:-0400
TZOFFSETTO:-0300
TZNAME:ADT
DTSTART:20250309T060000
END:DAYLIGHT
BEGIN:STANDARD
TZOFFSETFROM:-0300
TZOFFSETTO:-0400
TZNAME:AST
DTSTART:20251102T050000
END:STANDARD
BEGIN:DAYLIGHT
TZOFFSETFROM:-0400
TZOFFSETTO:-0300
TZNAME:ADT
DTSTART:20260308T060000
END:DAYLIGHT
BEGIN:STANDARD
TZOFFSETFROM:-0300
TZOFFSETTO:-0400
TZNAME:AST
DTSTART:20261101T050000
END:STANDARD
BEGIN:DAYLIGHT
TZOFFSETFROM:-0400
TZOFFSETTO:-0300
TZNAME:ADT
DTSTART:20270314T060000
END:DAYLIGHT
BEGIN:STANDARD
TZOFFSETFROM:-0300
TZOFFSETTO:-0400
TZNAME:AST
DTSTART:20271107T050000
END:STANDARD
END:VTIMEZONE
BEGIN:VEVENT
DTSTART;TZID=America/Halifax:20260330T180000
DTEND;TZID=America/Halifax:20260330T200000
DTSTAMP:20260419T150158
CREATED:20260225T193342Z
LAST-MODIFIED:20260225T193342Z
UID:21810-1774893600-1774900800@oakcitybrewingcompany.com
SUMMARY:Music Bingo
DESCRIPTION:Join us for music bingo and test your tune knowledge with a cold beer in hand for a fun night at Oak City! \nBring your friends\, grab a pint\, and get ready for a night full of great music and even better beer.
URL:https://oakcitybrewingcompany.com/event/music-bingo-7/
CATEGORIES:Events
ATTACH;FMTTYPE=image/png:https://oakcitybrewingcompany.com/wp-content/uploads/2026/02/March-Music-Bingo.png
END:VEVENT
BEGIN:VEVENT
DTSTART;TZID=America/Halifax:20260329T140000
DTEND;TZID=America/Halifax:20260329T180000
DTSTAMP:20260419T150158
CREATED:20260224T162901Z
LAST-MODIFIED:20260224T162901Z
UID:21781-1774792800-1774807200@oakcitybrewingcompany.com
SUMMARY:Jolly Sandwich Company
DESCRIPTION:
URL:https://oakcitybrewingcompany.com/event/jolly-sandwich-company-3/
CATEGORIES:Food Trucks
END:VEVENT
BEGIN:VEVENT
DTSTART;TZID=America/Halifax:20260328T150000
DTEND;TZID=America/Halifax:20260328T200000
DTSTAMP:20260419T150158
CREATED:20260224T162841Z
LAST-MODIFIED:20260224T162841Z
UID:21779-1774710000-1774728000@oakcitybrewingcompany.com
SUMMARY:Bertos Chimis
DESCRIPTION:
URL:https://oakcitybrewingcompany.com/event/bertos-chimis-7/
CATEGORIES:Food Trucks
END:VEVENT
BEGIN:VEVENT
DTSTART;TZID=America/Halifax:20260328T120000
DTEND;TZID=America/Halifax:20260328T150000
DTSTAMP:20260419T150158
CREATED:20260225T193052Z
LAST-MODIFIED:20260225T193052Z
UID:21807-1774699200-1774710000@oakcitybrewingcompany.com
SUMMARY:After the Aisle Market – A Wedding Resale Market
DESCRIPTION:A wedding resale market featuring decor & details from real weddings \n\nJoin us for a relaxed afternoon of wedding inspiration\, secondhand finds\, and community. This market will bring together individuals and couples who have already planned and hosted their weddings and are ready to pass along pre-loved decor and details to newly engaged couples.\n\nShop items like signage\, candles & holders\, table numbers\, faux florals\, arches & backdrops\, card boxes\, and more.\nWhether you’re newly engaged\, deep in planning mode\, or just love a good market day\, this is the perfect chance to browse\, save\, and get inspired.\n\nReady to sell your items? Apply here: https://forms.gle/MAp3UVpp8JduNjZ76\n\n Live music by Jared Place Food trucks Beer\, wine & mimosas available
URL:https://oakcitybrewingcompany.com/event/after-the-aisle-market-a-wedding-resale-market/
CATEGORIES:Events
ATTACH;FMTTYPE=image/png:https://oakcitybrewingcompany.com/wp-content/uploads/2026/02/After-the-Aisle-Market.png
END:VEVENT
BEGIN:VEVENT
DTSTART;TZID=America/Halifax:20260327T173000
DTEND;TZID=America/Halifax:20260327T203000
DTSTAMP:20260419T150158
CREATED:20260224T162814Z
LAST-MODIFIED:20260224T162814Z
UID:21777-1774632600-1774643400@oakcitybrewingcompany.com
SUMMARY:Chick-N-Que
DESCRIPTION:
URL:https://oakcitybrewingcompany.com/event/chick-n-que-57/
CATEGORIES:Food Trucks
END:VEVENT
BEGIN:VEVENT
DTSTART;TZID=America/Halifax:20260326T173000
DTEND;TZID=America/Halifax:20260326T203000
DTSTAMP:20260419T150158
CREATED:20260224T162747Z
LAST-MODIFIED:20260224T162747Z
UID:21775-1774546200-1774557000@oakcitybrewingcompany.com
SUMMARY:De pana Flavor's
DESCRIPTION:
URL:https://oakcitybrewingcompany.com/event/de-pana-flavors-4/
CATEGORIES:Food Trucks
END:VEVENT
BEGIN:VEVENT
DTSTART;TZID=America/Halifax:20260325T173000
DTEND;TZID=America/Halifax:20260325T203000
DTSTAMP:20260419T150158
CREATED:20260224T162723Z
LAST-MODIFIED:20260224T162723Z
UID:21773-1774459800-1774470600@oakcitybrewingcompany.com
SUMMARY:Bulkogi
DESCRIPTION:
URL:https://oakcitybrewingcompany.com/event/bulkogi-17/
CATEGORIES:Food Trucks
END:VEVENT
BEGIN:VEVENT
DTSTART;TZID=America/Halifax:20260324T200500
DTEND;TZID=America/Halifax:20260324T200500
DTSTAMP:20260419T150158
CREATED:20260323T155015Z
LAST-MODIFIED:20260323T155015Z
UID:21895-1774382700-1774382700@oakcitybrewingcompany.com
SUMMARY:Moonrunners
DESCRIPTION:
URL:https://oakcitybrewingcompany.com/event/moonrunners-9/
CATEGORIES:Food Trucks
END:VEVENT
BEGIN:VEVENT
DTSTART;TZID=America/Halifax:20260322T140000
DTEND;TZID=America/Halifax:20260322T180000
DTSTAMP:20260419T150158
CREATED:20260224T162700Z
LAST-MODIFIED:20260224T162700Z
UID:21771-1774188000-1774202400@oakcitybrewingcompany.com
SUMMARY:Warehouse BBQ
DESCRIPTION:
URL:https://oakcitybrewingcompany.com/event/warehouse-bbq-10/
CATEGORIES:Food Trucks
END:VEVENT
BEGIN:VEVENT
DTSTART;TZID=America/Halifax:20260321T150000
DTEND;TZID=America/Halifax:20260321T200000
DTSTAMP:20260419T150158
CREATED:20260224T162633Z
LAST-MODIFIED:20260224T162633Z
UID:21769-1774105200-1774123200@oakcitybrewingcompany.com
SUMMARY:Barone Italian Grille
DESCRIPTION:
URL:https://oakcitybrewingcompany.com/event/barone-italian-grille-11/
CATEGORIES:Food Trucks
END:VEVENT
BEGIN:VEVENT
DTSTART;TZID=America/Halifax:20260320T173000
DTEND;TZID=America/Halifax:20260320T203000
DTSTAMP:20260419T150158
CREATED:20260224T162611Z
LAST-MODIFIED:20260224T162611Z
UID:21767-1774027800-1774038600@oakcitybrewingcompany.com
SUMMARY:The Naked Empanada
DESCRIPTION:
URL:https://oakcitybrewingcompany.com/event/the-naked-empanada-5/
CATEGORIES:Food Trucks
END:VEVENT
BEGIN:VEVENT
DTSTART;TZID=America/Halifax:20260319T180000
DTEND;TZID=America/Halifax:20260319T200000
DTSTAMP:20260419T150158
CREATED:20260225T191617Z
LAST-MODIFIED:20260225T191618Z
UID:21804-1773943200-1773950400@oakcitybrewingcompany.com
SUMMARY:Pints & Paws Yappy Hour
DESCRIPTION:Pints\, pups\, and wagging tails!\n\n\n\nBring your dog\, meet fellow dog parents\, and enjoy a laid-back yappy hour on the patio with great beer and good company.\n\n\n\n\n\nLeashes required. Good times encouraged.
URL:https://oakcitybrewingcompany.com/event/pints-paws-yappy-hour/
CATEGORIES:Events
ATTACH;FMTTYPE=image/png:https://oakcitybrewingcompany.com/wp-content/uploads/2026/02/Pints-Pups-Yappy-Hour.png
END:VEVENT
BEGIN:VEVENT
DTSTART;TZID=America/Halifax:20260319T170000
DTEND;TZID=America/Halifax:20260319T200000
DTSTAMP:20260419T150158
CREATED:20260224T162550Z
LAST-MODIFIED:20260224T162550Z
UID:21765-1773939600-1773950400@oakcitybrewingcompany.com
SUMMARY:Tombachi
DESCRIPTION:
URL:https://oakcitybrewingcompany.com/event/tombachi-9/
CATEGORIES:Food Trucks
END:VEVENT
BEGIN:VEVENT
DTSTART;TZID=America/Halifax:20260318T180000
DTEND;TZID=America/Halifax:20260318T200000
DTSTAMP:20260419T150158
CREATED:20260225T194400Z
LAST-MODIFIED:20260225T194401Z
UID:21813-1773856800-1773864000@oakcitybrewingcompany.com
SUMMARY:Trivia
DESCRIPTION:Trivia Night at Oak City! Bring your crew\, grab a pint\, and put your knowledge to the test. \nFrom random facts to tricky questions\, it’s all about brains\, beer\, and bragging rights. Free to play with prizes for the winners!
URL:https://oakcitybrewingcompany.com/event/trivia-3/
CATEGORIES:Events
ATTACH;FMTTYPE=image/png:https://oakcitybrewingcompany.com/wp-content/uploads/2026/02/March-Trivia.png
END:VEVENT
BEGIN:VEVENT
DTSTART;TZID=America/Halifax:20260318T173000
DTEND;TZID=America/Halifax:20260318T203000
DTSTAMP:20260419T150158
CREATED:20260224T162530Z
LAST-MODIFIED:20260224T162530Z
UID:21763-1773855000-1773865800@oakcitybrewingcompany.com
SUMMARY:Arepa Culture
DESCRIPTION:
URL:https://oakcitybrewingcompany.com/event/arepa-culture-7/
CATEGORIES:Food Trucks
END:VEVENT
BEGIN:VEVENT
DTSTART;TZID=America/Halifax:20260317T170000
DTEND;TZID=America/Halifax:20260317T200000
DTSTAMP:20260419T150158
CREATED:20260224T161807Z
LAST-MODIFIED:20260309T183148Z
UID:21752-1773766800-1773777600@oakcitybrewingcompany.com
SUMMARY:Melty
DESCRIPTION:
URL:https://oakcitybrewingcompany.com/event/melty-5/
CATEGORIES:Food Trucks
END:VEVENT
BEGIN:VEVENT
DTSTART;TZID=America/Halifax:20260315T140000
DTEND;TZID=America/Halifax:20260315T180000
DTSTAMP:20260419T150158
CREATED:20260224T162456Z
LAST-MODIFIED:20260224T162456Z
UID:21761-1773583200-1773597600@oakcitybrewingcompany.com
SUMMARY:Hi! Bachi
DESCRIPTION:
URL:https://oakcitybrewingcompany.com/event/hi-bachi-4/
CATEGORIES:Food Trucks
END:VEVENT
BEGIN:VEVENT
DTSTART;TZID=America/Halifax:20260314T120000
DTEND;TZID=America/Halifax:20260314T200000
DTSTAMP:20260419T150158
CREATED:20260224T163309Z
LAST-MODIFIED:20260313T153719Z
UID:21793-1773489600-1773518400@oakcitybrewingcompany.com
SUMMARY:Shamrock Shuck
DESCRIPTION:𝐒𝐇𝐔𝐂𝐊 𝐘𝐄𝐀𝐇\, we’re back with our annual Shamrock Shuck on March 14th from 12-8 PM!\nThis event is 𝐅𝐑𝐄𝐄 to attend! Oyster tickets 𝐌𝐔𝐒𝐓 be purchased ahead of time via Eventbrite.\nYour ticket will have a specific time frame listed for you to grab your oysters. The available time frames to grab your oysters are 12-2 PM\, 2-4 PM\, and 4-6 PM.\nFor all of you oyster lovers:𝙎𝙝𝙖𝙢𝙧𝙤𝙘𝙠 𝙎𝙝𝙪𝙘𝙠𝙚𝙧: 1 peck of steamed oysters\, 1 engraved oyster shucker\, 1 koozie & 1 Green Beer — $45Grab tickets here: https://ShamrockShuck2026.eventbrite.com\nNot an oyster fan? We will have 3 food trucks on-site from 12-8 PM– Fired Up Pizza & BBQ– Bowl of Dough by not just icing– Chick-N-Que\n𝙒𝙚’𝙡𝙡 𝙝𝙖𝙫𝙚 𝙡𝙞𝙫𝙚 𝙢𝙪𝙨𝙞𝙘 𝙙𝙪𝙧𝙞𝙣𝙜 𝙩𝙝𝙚 𝙚𝙣𝙩𝙞𝙧𝙚 𝙚𝙫𝙚𝙣𝙩!– Bagpipes to open us up: 12 PM– Barrowburn: 12-2:15 PM– Bagpipe Intermission– Ewe’s Tree: 3-5:30 PM– Bog Turtle Band: 6-8 PM\nBeer will be served in 𝙩𝙝𝙧𝙚𝙚 places: 6 brews on tap at the beer tent and 20 brews on tap inside the taphouse.*𝐆𝐑𝐄𝐄𝐍 𝐁𝐄𝐄𝐑 𝐖𝐈𝐋𝐋 𝐁𝐄 𝐎𝐍 𝐓𝐀𝐏 𝐅𝐎𝐑 𝐓𝐇𝐄 𝐄𝐕𝐄𝐍𝐓*\n𝐓𝐞𝐧𝐭 𝐬𝐩𝐚𝐜𝐞𝐬 𝐰𝐢𝐥𝐥 𝐠𝐨 𝐨𝐧 𝐬𝐚𝐥𝐞 𝟐/𝟐𝟏 𝐚𝐭 𝐧𝐨𝐨𝐧 𝐯𝐢𝐚 𝐄𝐯𝐞𝐧𝐭𝐛𝐫𝐢𝐭𝐞 𝐚𝐬 𝐚𝐧𝐨𝐭𝐡𝐞𝐫 𝐭𝐢𝐜𝐤𝐞𝐭 𝐨𝐩𝐭𝐢𝐨𝐧\, 𝐞𝐚𝐜𝐡 𝐬𝐩𝐚𝐜𝐞 𝐢𝐬 $𝟓𝟎– Each person can only purchase one tent space.– The tent space simply reserves the space for you and your crew for the 𝐄𝐍𝐓𝐈𝐑𝐄 event.-The space is large enough for a 10 x 10. **𝐖𝐞 𝐝𝐨 𝐧𝐨𝐭 𝐩𝐫𝐨𝐯𝐢𝐝𝐞 𝐚 𝐭𝐞𝐧𝐭.\n𝗦𝗛𝗔𝗠𝗥𝗢𝗖𝗞 𝗦𝗛𝗨𝗖𝗞 𝗥𝗔𝗜𝗡 𝗗𝗔𝗧𝗘: 𝟯/𝟮𝟭
URL:https://oakcitybrewingcompany.com/event/shamrock-shuck-6/
CATEGORIES:Brewery Events,Events,Food Trucks
ATTACH;FMTTYPE=image/png:https://oakcitybrewingcompany.com/wp-content/uploads/2026/02/1.png
END:VEVENT
BEGIN:VEVENT
DTSTART;TZID=America/Halifax:20260314T120000
DTEND;TZID=America/Halifax:20260314T200000
DTSTAMP:20260419T150158
CREATED:20260224T162430Z
LAST-MODIFIED:20260224T162430Z
UID:21759-1773489600-1773518400@oakcitybrewingcompany.com
SUMMARY:Fired Up Pizza & BBQ\, Bowl of Dough & Chick-N-Que
DESCRIPTION:Shamrock Shuck food trucks.
URL:https://oakcitybrewingcompany.com/event/fired-up-pizza-bbq-bowl-of-dough-chick-n-que/
CATEGORIES:Food Trucks
END:VEVENT
BEGIN:VEVENT
DTSTART;TZID=America/Halifax:20260313T173000
DTEND;TZID=America/Halifax:20260313T203000
DTSTAMP:20260419T150158
CREATED:20260224T161944Z
LAST-MODIFIED:20260224T161944Z
UID:21757-1773423000-1773433800@oakcitybrewingcompany.com
SUMMARY:Not Just A Fry Guy
DESCRIPTION:
URL:https://oakcitybrewingcompany.com/event/not-just-a-fry-guy-5/
CATEGORIES:Food Trucks
END:VEVENT
BEGIN:VEVENT
DTSTART;TZID=America/Halifax:20260312T173000
DTEND;TZID=America/Halifax:20260312T203000
DTSTAMP:20260419T150158
CREATED:20260224T161845Z
LAST-MODIFIED:20260224T161912Z
UID:21754-1773336600-1773347400@oakcitybrewingcompany.com
SUMMARY:The Tasty Turkey Que
DESCRIPTION:
URL:https://oakcitybrewingcompany.com/event/beef-street-pig-5/
CATEGORIES:Food Trucks
END:VEVENT
BEGIN:VEVENT
DTSTART;TZID=America/Halifax:20260311T173000
DTEND;TZID=America/Halifax:20260311T203000
DTSTAMP:20260419T150158
CREATED:20260224T163236Z
LAST-MODIFIED:20260224T163236Z
UID:21794-1773250200-1773261000@oakcitybrewingcompany.com
SUMMARY:Beef Street & Pig
DESCRIPTION:
URL:https://oakcitybrewingcompany.com/event/beef-street-pig-6/
CATEGORIES:Food Trucks
END:VEVENT
BEGIN:VEVENT
DTSTART;TZID=America/Halifax:20260310T170000
DTEND;TZID=America/Halifax:20260310T200000
DTSTAMP:20260419T150158
CREATED:20260309T183232Z
LAST-MODIFIED:20260309T183232Z
UID:21821-1773162000-1773172800@oakcitybrewingcompany.com
SUMMARY:St. Vicents
DESCRIPTION:
URL:https://oakcitybrewingcompany.com/event/st-vicents-4/
CATEGORIES:Food Trucks
END:VEVENT
BEGIN:VEVENT
DTSTART;TZID=America/Halifax:20260308T140000
DTEND;TZID=America/Halifax:20260308T180000
DTSTAMP:20260419T150158
CREATED:20260224T161737Z
LAST-MODIFIED:20260224T161737Z
UID:21750-1772978400-1772992800@oakcitybrewingcompany.com
SUMMARY:St. Vicents
DESCRIPTION:
URL:https://oakcitybrewingcompany.com/event/st-vicents-3/
CATEGORIES:Food Trucks
END:VEVENT
BEGIN:VEVENT
DTSTART;TZID=America/Halifax:20260307T150000
DTEND;TZID=America/Halifax:20260307T200000
DTSTAMP:20260419T150158
CREATED:20260224T161644Z
LAST-MODIFIED:20260224T161644Z
UID:21748-1772895600-1772913600@oakcitybrewingcompany.com
SUMMARY:The Flat Drum
DESCRIPTION:
URL:https://oakcitybrewingcompany.com/event/the-flat-drum-10/
CATEGORIES:Food Trucks
END:VEVENT
BEGIN:VEVENT
DTSTART;TZID=America/Halifax:20260306T173000
DTEND;TZID=America/Halifax:20260306T203000
DTSTAMP:20260419T150158
CREATED:20260224T175233Z
LAST-MODIFIED:20260224T175233Z
UID:21802-1772818200-1772829000@oakcitybrewingcompany.com
SUMMARY:Moonrunners Saloon
DESCRIPTION:
URL:https://oakcitybrewingcompany.com/event/moonrunners-saloon/
CATEGORIES:Food Trucks
END:VEVENT
BEGIN:VEVENT
DTSTART;TZID=America/Halifax:20260305T173000
DTEND;TZID=America/Halifax:20260305T203000
DTSTAMP:20260419T150158
CREATED:20260224T161620Z
LAST-MODIFIED:20260224T161620Z
UID:21746-1772731800-1772742600@oakcitybrewingcompany.com
SUMMARY:Oink and Moo by Two Brothers
DESCRIPTION:
URL:https://oakcitybrewingcompany.com/event/oink-and-moo-by-two-brothers-11/
CATEGORIES:Food Trucks
END:VEVENT
BEGIN:VEVENT
DTSTART;TZID=America/Halifax:20260304T173000
DTEND;TZID=America/Halifax:20260304T203000
DTSTAMP:20260419T150158
CREATED:20260224T161518Z
LAST-MODIFIED:20260224T161518Z
UID:21744-1772645400-1772656200@oakcitybrewingcompany.com
SUMMARY:Chirba Chirba Dumpling
DESCRIPTION:
URL:https://oakcitybrewingcompany.com/event/chirba-chirba-dumpling-52/
CATEGORIES:Food Trucks
END:VEVENT
BEGIN:VEVENT
DTSTART;TZID=America/Halifax:20260301T140000
DTEND;TZID=America/Halifax:20260301T180000
DTSTAMP:20260419T150158
CREATED:20260224T161447Z
LAST-MODIFIED:20260224T161447Z
UID:21742-1772373600-1772388000@oakcitybrewingcompany.com
SUMMARY:Copperheads Burgers
DESCRIPTION:
URL:https://oakcitybrewingcompany.com/event/copperheads-burgers-4/
CATEGORIES:Food Trucks
END:VEVENT
BEGIN:VEVENT
DTSTART;TZID=America/Halifax:20260228T150000
DTEND;TZID=America/Halifax:20260228T200000
DTSTAMP:20260419T150158
CREATED:20260122T200323Z
LAST-MODIFIED:20260122T200323Z
UID:21709-1772290800-1772308800@oakcitybrewingcompany.com
SUMMARY:Bertos Chimis
DESCRIPTION:
URL:https://oakcitybrewingcompany.com/event/bertos-chimis-6/
CATEGORIES:Food Trucks
END:VEVENT
END:VCALENDAR