BEGIN:VCALENDAR
VERSION:2.0
PRODID:-//Oak City Brewing Company - ECPv6.15.20//NONSGML v1.0//EN
CALSCALE:GREGORIAN
METHOD:PUBLISH
X-WR-CALNAME:Oak City Brewing Company
X-ORIGINAL-URL:https://oakcitybrewingcompany.com
X-WR-CALDESC:Events for Oak City Brewing Company
REFRESH-INTERVAL;VALUE=DURATION:PT1H
X-Robots-Tag:noindex
X-PUBLISHED-TTL:PT1H
BEGIN:VTIMEZONE
TZID:America/Halifax
BEGIN:DAYLIGHT
TZOFFSETFROM:-0400
TZOFFSETTO:-0300
TZNAME:ADT
DTSTART:20230312T060000
END:DAYLIGHT
BEGIN:STANDARD
TZOFFSETFROM:-0300
TZOFFSETTO:-0400
TZNAME:AST
DTSTART:20231105T050000
END:STANDARD
BEGIN:DAYLIGHT
TZOFFSETFROM:-0400
TZOFFSETTO:-0300
TZNAME:ADT
DTSTART:20240310T060000
END:DAYLIGHT
BEGIN:STANDARD
TZOFFSETFROM:-0300
TZOFFSETTO:-0400
TZNAME:AST
DTSTART:20241103T050000
END:STANDARD
BEGIN:DAYLIGHT
TZOFFSETFROM:-0400
TZOFFSETTO:-0300
TZNAME:ADT
DTSTART:20250309T060000
END:DAYLIGHT
BEGIN:STANDARD
TZOFFSETFROM:-0300
TZOFFSETTO:-0400
TZNAME:AST
DTSTART:20251102T050000
END:STANDARD
END:VTIMEZONE
BEGIN:VEVENT
DTSTART;TZID=America/Halifax:20241102T120000
DTEND;TZID=America/Halifax:20241102T160000
DTSTAMP:20260420T140709
CREATED:20220816T223305Z
LAST-MODIFIED:20220816T223305Z
UID:20019-1730548800-1730563200@oakcitybrewingcompany.com
SUMMARY:The Greek Goat
DESCRIPTION:Bringing your favorite Greek street food to Raleigh and the surrounding area. Greek Done Right!
URL:https://oakcitybrewingcompany.com/event/the-greek-goat-2024-10-15-2024-11-02/
CATEGORIES:Food Trucks
ATTACH;FMTTYPE=image/png:https://oakcitybrewingcompany.com/wp-content/uploads/2022/08/294719080_358949019756141_4432516889414215207_n.png
END:VEVENT
BEGIN:VEVENT
DTSTART;TZID=America/Halifax:20241102T113000
DTEND;TZID=America/Halifax:20241102T123000
DTSTAMP:20260420T140709
CREATED:20230622T143640Z
LAST-MODIFIED:20230622T143640Z
UID:18639-1730547000-1730550600@oakcitybrewingcompany.com
SUMMARY:Beer Run
DESCRIPTION:Join us for a 1.5\, 3\, or 5 mile run or walk through downtown Knightdale\, Knightdale Station Park\, Mingo Creek Trail\, and other areas and landmarks that make our town special with our run club. \nLearn more here: https://oakcitybrewingcompany.com/run-club/ \nRun club meets up at 6:30 pm every Wednesday or 11:30 am every Saturday\, cheers! \n 
URL:https://oakcitybrewingcompany.com/event/beer-run-2-2024-11-02/
CATEGORIES:Brewery Events,Weekly Events
ATTACH;FMTTYPE=image/png:https://oakcitybrewingcompany.com/wp-content/uploads/2023/06/Screen-Shot-2023-06-22-at-10.25.57-AM.png
END:VEVENT
BEGIN:VEVENT
DTSTART;TZID=America/Halifax:20241101T173000
DTEND;TZID=America/Halifax:20241101T203000
DTSTAMP:20260420T140709
CREATED:20220816T032306Z
LAST-MODIFIED:20240715T134212Z
UID:19251-1730482200-1730493000@oakcitybrewingcompany.com
SUMMARY:The Flat Drum
DESCRIPTION:
URL:https://oakcitybrewingcompany.com/event/the-flat-drum-3-2024-11-01/
CATEGORIES:Food Trucks
ATTACH;FMTTYPE=image/jpeg:https://oakcitybrewingcompany.com/wp-content/uploads/2022/08/237256269_285275650066794_5887269925378650683_n.jpg
END:VEVENT
BEGIN:VEVENT
DTSTART;TZID=America/Halifax:20241031T173000
DTEND;TZID=America/Halifax:20241031T203000
DTSTAMP:20260420T140709
CREATED:20230411T144336Z
LAST-MODIFIED:20241101T165027Z
UID:19257-1730395800-1730406600@oakcitybrewingcompany.com
SUMMARY:Off the Hog
DESCRIPTION:Off the hog serve good old-fashioned traditional smoked meats using a variety of hardwoods and coals.
URL:https://oakcitybrewingcompany.com/event/off-the-hog-2024-10-31/
CATEGORIES:Food Trucks
ATTACH;FMTTYPE=image/png:https://oakcitybrewingcompany.com/wp-content/uploads/2023/04/Screen-Shot-2023-04-11-at-10.38.53-AM.png
END:VEVENT
BEGIN:VEVENT
DTSTART;TZID=America/Halifax:20241030T183000
DTEND;TZID=America/Halifax:20241030T193000
DTSTAMP:20260420T140709
CREATED:20230622T143255Z
LAST-MODIFIED:20241008T140855Z
UID:18717-1730313000-1730316600@oakcitybrewingcompany.com
SUMMARY:Halloween Beer Run
DESCRIPTION:Join us for our Halloween Beer Run on October 30th! \nCome dressed in your favorite costume and join our Run Club for a fun evening run! Enjoy the fun\, and grab a beer afterward. \nDon’t miss out on this haunted evening! Whether you’re a seasoned runner or just want to enjoy the atmosphere\, everyone is welcome!
URL:https://oakcitybrewingcompany.com/event/beer-run-2024-10-30/
CATEGORIES:Brewery Events,Weekly Events
ATTACH;FMTTYPE=image/png:https://oakcitybrewingcompany.com/wp-content/uploads/2023/06/Run-Club-Event-Covers-1-2.png
END:VEVENT
BEGIN:VEVENT
DTSTART;TZID=America/Halifax:20241030T173000
DTEND;TZID=America/Halifax:20241030T203000
DTSTAMP:20260420T140709
CREATED:20241022T163933Z
LAST-MODIFIED:20241111T140122Z
UID:19975-1730309400-1730320200@oakcitybrewingcompany.com
SUMMARY:Soul's Kitchen
DESCRIPTION:Their truck is actually a bus converted into a “food truck.” They bring traditional goodness with a vegan spin to all foodies.
URL:https://oakcitybrewingcompany.com/event/souls-kitchen-2/
CATEGORIES:Food Trucks
ATTACH;FMTTYPE=image/png:https://oakcitybrewingcompany.com/wp-content/uploads/2023/04/Screen-Shot-2023-04-24-at-8.10.35-AM.png
END:VEVENT
BEGIN:VEVENT
DTSTART;TZID=America/Halifax:20241029T160000
DTEND;TZID=America/Halifax:20241029T210000
DTSTAMP:20260420T140709
CREATED:20220916T103300Z
LAST-MODIFIED:20220916T103300Z
UID:19957-1730217600-1730235600@oakcitybrewingcompany.com
SUMMARY:Jessica's Food Truck
DESCRIPTION:
URL:https://oakcitybrewingcompany.com/event/jessicas-food-truck-22-2023-02-25-2024-10-29/
CATEGORIES:Food Trucks
ATTACH;FMTTYPE=image/jpeg:https://oakcitybrewingcompany.com/wp-content/uploads/2022/09/301548167_171520468736524_3664133766732670901_n.jpg
END:VEVENT
BEGIN:VEVENT
DTSTART;VALUE=DATE:20241028
DTEND;VALUE=DATE:20241029
DTSTAMP:20260420T140709
CREATED:20241001T154211Z
LAST-MODIFIED:20241008T182929Z
UID:19923-1730073600-1730159999@oakcitybrewingcompany.com
SUMMARY:No Food Truck - BYOF
DESCRIPTION:
URL:https://oakcitybrewingcompany.com/event/no-food-truck-byof-27-2024-10-28/
END:VEVENT
BEGIN:VEVENT
DTSTART;TZID=America/Halifax:20241027T140000
DTEND;TZID=America/Halifax:20241027T180000
DTSTAMP:20260420T140709
CREATED:20210127T193129Z
LAST-MODIFIED:20210127T193129Z
UID:19706-1730037600-1730052000@oakcitybrewingcompany.com
SUMMARY:La Katrina Tacos
DESCRIPTION:
URL:https://oakcitybrewingcompany.com/event/umami-2021-12-11-2024-10-27/
CATEGORIES:Food Trucks
END:VEVENT
BEGIN:VEVENT
DTSTART;TZID=America/Halifax:20241026T160000
DTEND;TZID=America/Halifax:20241026T210000
DTSTAMP:20260420T140709
CREATED:20220816T114537Z
LAST-MODIFIED:20220816T114537Z
UID:19147-1729958400-1729976400@oakcitybrewingcompany.com
SUMMARY:Bertos Chimis
DESCRIPTION:What is a chimi? A Chimi is a sauce-dripping hamburger served throughout the streets of Dominican Republic. An iconic sandwich served from lunch till late night\, that will satisfy your tastebuds day in\, day out.
URL:https://oakcitybrewingcompany.com/event/bertos-chimis-2-2024-10-26/
CATEGORIES:Food Trucks
ATTACH;FMTTYPE=image/jpeg:https://oakcitybrewingcompany.com/wp-content/uploads/2022/08/131890676_207085377570891_5623458210479334688_n.jpg
END:VEVENT
BEGIN:VEVENT
DTSTART;TZID=America/Halifax:20241026T113000
DTEND;TZID=America/Halifax:20241026T123000
DTSTAMP:20260420T140709
CREATED:20230622T143640Z
LAST-MODIFIED:20230622T143640Z
UID:18638-1729942200-1729945800@oakcitybrewingcompany.com
SUMMARY:Beer Run
DESCRIPTION:Join us for a 1.5\, 3\, or 5 mile run or walk through downtown Knightdale\, Knightdale Station Park\, Mingo Creek Trail\, and other areas and landmarks that make our town special with our run club. \nLearn more here: https://oakcitybrewingcompany.com/run-club/ \nRun club meets up at 6:30 pm every Wednesday or 11:30 am every Saturday\, cheers! \n 
URL:https://oakcitybrewingcompany.com/event/beer-run-2-2024-10-26/
CATEGORIES:Brewery Events,Weekly Events
ATTACH;FMTTYPE=image/png:https://oakcitybrewingcompany.com/wp-content/uploads/2023/06/Screen-Shot-2023-06-22-at-10.25.57-AM.png
END:VEVENT
BEGIN:VEVENT
DTSTART;TZID=America/Halifax:20241025T173000
DTEND;TZID=America/Halifax:20241025T203000
DTSTAMP:20260420T140709
CREATED:20240523T170004Z
LAST-MODIFIED:20240523T170004Z
UID:19720-1729877400-1729888200@oakcitybrewingcompany.com
SUMMARY:Stavi's
DESCRIPTION:Veteran owned business bringing our authentic cuisine to our community. Mediterranean inspired gourmet sandwiches\, soups\, salads\, and more!
URL:https://oakcitybrewingcompany.com/event/stavis-2024-10-25/
CATEGORIES:Food Trucks
ATTACH;FMTTYPE=image/png:https://oakcitybrewingcompany.com/wp-content/uploads/2024/05/Screenshot-2024-05-23-at-12.57.35-PM.png
END:VEVENT
BEGIN:VEVENT
DTSTART;TZID=America/Halifax:20241024T180000
DTEND;TZID=America/Halifax:20241024T190000
DTSTAMP:20260420T140709
CREATED:20241001T155806Z
LAST-MODIFIED:20241101T163533Z
UID:19931-1729792800-1729796400@oakcitybrewingcompany.com
SUMMARY:Brews & Barbells HIIT Class
DESCRIPTION:Join us Thursday\, October 24th for an evening of weights and drinks with Brett and his mobile gym! \nSign up here: https://www.eventeny.com/events/brews-barbells-15103/ \nClass begins at 6 PM. Please be sure to bring a sweat towel (if you prefer) and a water bottle. \nA sign-up includes a cold beer after your workout!
URL:https://oakcitybrewingcompany.com/event/brews-barbells-hiit-class-2-2024-10-24/
CATEGORIES:Brewery Events,Events,Weekly Events
ATTACH;FMTTYPE=image/png:https://oakcitybrewingcompany.com/wp-content/uploads/2024/10/Brews-Oct-24-.png
END:VEVENT
BEGIN:VEVENT
DTSTART;TZID=America/Halifax:20241024T173000
DTEND;TZID=America/Halifax:20241024T203000
DTSTAMP:20260420T140709
CREATED:20220816T160505Z
LAST-MODIFIED:20220816T160505Z
UID:18991-1729791000-1729801800@oakcitybrewingcompany.com
SUMMARY:Tacos Neza
DESCRIPTION:
URL:https://oakcitybrewingcompany.com/event/tacos-neza-4-2024-10-24/
CATEGORIES:Food Trucks
ATTACH;FMTTYPE=image/jpeg:https://oakcitybrewingcompany.com/wp-content/uploads/2022/08/288475272_543179494124910_8462946235973782313_n.jpg
END:VEVENT
BEGIN:VEVENT
DTSTART;TZID=America/Halifax:20241023T183000
DTEND;TZID=America/Halifax:20241023T193000
DTSTAMP:20260420T140709
CREATED:20230622T143255Z
LAST-MODIFIED:20230622T143255Z
UID:18716-1729708200-1729711800@oakcitybrewingcompany.com
SUMMARY:Beer Run
DESCRIPTION:Join us for a 1.5\, 3\, or 5 mile run or walk through downtown Knightdale\, Knightdale Station Park\, Mingo Creek Trail\, and other areas and landmarks that make our town special with our run club. \nLearn more here: https://oakcitybrewingcompany.com/run-club/ \nRun club meets up at 6:30 pm every Wednesday or 11:30 am every Saturday\, cheers!
URL:https://oakcitybrewingcompany.com/event/beer-run-2024-10-23/
CATEGORIES:Brewery Events,Weekly Events
ATTACH;FMTTYPE=image/png:https://oakcitybrewingcompany.com/wp-content/uploads/2023/06/Screen-Shot-2023-06-22-at-10.25.57-AM.png
END:VEVENT
BEGIN:VEVENT
DTSTART;TZID=America/Halifax:20241023T173000
DTEND;TZID=America/Halifax:20241023T203000
DTSTAMP:20260420T140709
CREATED:20220830T215212Z
LAST-MODIFIED:20220830T215212Z
UID:19123-1729704600-1729715400@oakcitybrewingcompany.com
SUMMARY:Bulkogi
DESCRIPTION:Authentic Korean BBQ with a yummy twist! Food prepared with love & care that can be felt in each bite. Come hungry & leave with more than just full tummy!
URL:https://oakcitybrewingcompany.com/event/bulkogi-12-2024-10-23/
CATEGORIES:Food Trucks
ATTACH;FMTTYPE=image/jpeg:https://oakcitybrewingcompany.com/wp-content/uploads/2020/01/10336733_570882016365515_5501550790059477710_n.jpg
END:VEVENT
BEGIN:VEVENT
DTSTART;TZID=America/Halifax:20241022T173000
DTEND;TZID=America/Halifax:20241022T173000
DTSTAMP:20260420T140709
CREATED:20240125T163947Z
LAST-MODIFIED:20241022T163701Z
UID:19398-1729618200-1729618200@oakcitybrewingcompany.com
SUMMARY:Oink & Moo
DESCRIPTION:Brisket\, pork and chicken cooked over pecan wood to create a Smokey flavor.
URL:https://oakcitybrewingcompany.com/event/ds-presto-2-2024-10-22/
CATEGORIES:Food Trucks
END:VEVENT
BEGIN:VEVENT
DTSTART;VALUE=DATE:20241021
DTEND;VALUE=DATE:20241022
DTSTAMP:20260420T140709
CREATED:20241001T154211Z
LAST-MODIFIED:20241008T182929Z
UID:19922-1729468800-1729555199@oakcitybrewingcompany.com
SUMMARY:No Food Truck - BYOF
DESCRIPTION:
URL:https://oakcitybrewingcompany.com/event/no-food-truck-byof-27-2024-10-21/
END:VEVENT
BEGIN:VEVENT
DTSTART;TZID=America/Halifax:20241020T140000
DTEND;TZID=America/Halifax:20241020T180000
DTSTAMP:20260420T140709
CREATED:20220911T152736Z
LAST-MODIFIED:20241015T162725Z
UID:19087-1729432800-1729447200@oakcitybrewingcompany.com
SUMMARY:No food truck - BYOF
DESCRIPTION:
URL:https://oakcitybrewingcompany.com/event/moonrunners-8-2024-10-20/
CATEGORIES:Food Trucks
END:VEVENT
BEGIN:VEVENT
DTSTART;TZID=America/Halifax:20241019T160000
DTEND;TZID=America/Halifax:20241019T210000
DTSTAMP:20260420T140709
CREATED:20220816T150752Z
LAST-MODIFIED:20240510T160915Z
UID:19278-1729353600-1729371600@oakcitybrewingcompany.com
SUMMARY:Dubz Grub
DESCRIPTION:Dubz Grub is more than just a food truck\, it is a dream come true for Robert and Adrienne Wilkinson.  We have over 30 years of experience in the food industry and finally decided to take a risk and follow our passions. Our Mission is to be professional\, reliable and bring delicious\, quality homemade food to your business or catered events.
URL:https://oakcitybrewingcompany.com/event/dubz-grub-3-2023-02-18-2024-10-19/
CATEGORIES:Food Trucks
ATTACH;FMTTYPE=image/png:https://oakcitybrewingcompany.com/wp-content/uploads/2022/08/Snacken-01.png
END:VEVENT
BEGIN:VEVENT
DTSTART;TZID=America/Halifax:20241019T120000
DTEND;TZID=America/Halifax:20241019T150000
DTSTAMP:20260420T140709
CREATED:20220915T101018Z
LAST-MODIFIED:20220915T101018Z
UID:18932-1729339200-1729350000@oakcitybrewingcompany.com
SUMMARY:The Tasty Turkey-Que
DESCRIPTION:Chopped turkey barbecue.
URL:https://oakcitybrewingcompany.com/event/the-tasty-turkey-que-2024-10-19/
CATEGORIES:Food Trucks
ATTACH;FMTTYPE=image/jpeg:https://oakcitybrewingcompany.com/wp-content/uploads/2022/09/216927439_236514948306576_2229485138571803795_n.jpg
END:VEVENT
BEGIN:VEVENT
DTSTART;TZID=America/Halifax:20241019T113000
DTEND;TZID=America/Halifax:20241019T123000
DTSTAMP:20260420T140709
CREATED:20230622T143640Z
LAST-MODIFIED:20230622T143640Z
UID:18637-1729337400-1729341000@oakcitybrewingcompany.com
SUMMARY:Beer Run
DESCRIPTION:Join us for a 1.5\, 3\, or 5 mile run or walk through downtown Knightdale\, Knightdale Station Park\, Mingo Creek Trail\, and other areas and landmarks that make our town special with our run club. \nLearn more here: https://oakcitybrewingcompany.com/run-club/ \nRun club meets up at 6:30 pm every Wednesday or 11:30 am every Saturday\, cheers! \n 
URL:https://oakcitybrewingcompany.com/event/beer-run-2-2024-10-19/
CATEGORIES:Brewery Events,Weekly Events
ATTACH;FMTTYPE=image/png:https://oakcitybrewingcompany.com/wp-content/uploads/2023/06/Screen-Shot-2023-06-22-at-10.25.57-AM.png
END:VEVENT
BEGIN:VEVENT
DTSTART;TZID=America/Halifax:20241018T173000
DTEND;TZID=America/Halifax:20241018T203000
DTSTAMP:20260420T140709
CREATED:20220816T171952Z
LAST-MODIFIED:20220816T171952Z
UID:18944-1729272600-1729283400@oakcitybrewingcompany.com
SUMMARY:The Naked Empanada
DESCRIPTION:The Naked Empanada was the lifelong dream and now passion of Roy Thombs. Roy\, who is better known to friends and family as Fuzzy\, began his culinary journey at fifteen years old in Morganton\, NC. Never shying away from hard work and the opportunity to learn\, Roy worked his way from a dishwasher at Shoney’s to a degree from the prestigious Johnson & Wales University. It was during this time at Johnson & Wales that Roy interned at the highly acclaimed Grove Park Inn in Asheville\, NC. While interning at Grove Park Inn\, Roy’s passion for the culinary arts and a culture of service was truly sparked. From Johnson & Wales\, Roy went on to work for a number of corporate restaurant groups where he transitioned into operations management roles. Eventually\, he moved from operations to administration and served in corporate human resources for a large national chain restaurant\, where he spent fifteen years. \nIt wasn’t until 2013\, when a corporate realignment was pushing for a relocation\, potentially uprooting his family\, that Roy was fully able to rekindle the same ember that was sparked during his time at Johnson & Wales interning at Grove Park Inn. The choice was not easy to leave the comfort of a stable career to pursue the entrepreneurial dream which had been brewing for years\, but it also felt like an opportunity that could not be denied. Through extensive research\, trial and error\, feedback from friends and family\, Roy carefully hand-crafted the concept that launched in 2015 with his food truck offering fresh\, locally sourced and delicious handmade empanadas. It was clear from the start that a lifetime of focus in culinary arts\, customer service and operations had molded itself into a business that was an instant success. \nAs The Naked Empanada continues to grow and thrive\, we know that our success is driven by our customers. That is why we dedicate every day to ensuring that every empanada and every experience with our customers is cared for by each of our team members. This is a labor of love that is fueled by the smiles and enjoyment of every person who bites into the food that we prepare and says\, “Wow\, that’s sooo good!!”
URL:https://oakcitybrewingcompany.com/event/the-naked-empanada-2024-10-18/
CATEGORIES:Food Trucks
ATTACH;FMTTYPE=image/jpeg:https://oakcitybrewingcompany.com/wp-content/uploads/2022/08/277675892_657482668566589_7822163364397964254_n.jpg
END:VEVENT
BEGIN:VEVENT
DTSTART;TZID=America/Halifax:20241017T173000
DTEND;TZID=America/Halifax:20241017T203000
DTSTAMP:20260420T140709
CREATED:20220826T145242Z
LAST-MODIFIED:20220826T145242Z
UID:19015-1729186200-1729197000@oakcitybrewingcompany.com
SUMMARY:Carolina's Catch
DESCRIPTION:Bringing Seafood from the Carolina’s Coast to the triangle
URL:https://oakcitybrewingcompany.com/event/carolinas-catch-2-2024-10-17/
CATEGORIES:Food Trucks
ATTACH;FMTTYPE=image/jpeg:https://oakcitybrewingcompany.com/wp-content/uploads/2022/08/294160203_760995485243754_5268186503346739086_n.jpg
END:VEVENT
BEGIN:VEVENT
DTSTART;TZID=America/Halifax:20241016T183000
DTEND;TZID=America/Halifax:20241016T193000
DTSTAMP:20260420T140709
CREATED:20230622T143255Z
LAST-MODIFIED:20241001T155513Z
UID:18715-1729103400-1729107000@oakcitybrewingcompany.com
SUMMARY:Pink Run
DESCRIPTION:Join us for a 1.5\, 3\, or 5 mile run or walk through downtown Knightdale\, Knightdale Station Park\, Mingo Creek Trail\, and other areas and landmarks that make our town special with our run club. \nLearn more here: https://oakcitybrewingcompany.com/run-club/ \nRun club meets up at 6:30 pm every Wednesday or 11:30 am every Saturday\, cheers!
URL:https://oakcitybrewingcompany.com/event/beer-run-2024-10-16/
CATEGORIES:Brewery Events,Weekly Events
ATTACH;FMTTYPE=image/png:https://oakcitybrewingcompany.com/wp-content/uploads/2023/06/Screen-Shot-2023-06-22-at-10.25.57-AM.png
END:VEVENT
BEGIN:VEVENT
DTSTART;TZID=America/Halifax:20241016T173000
DTEND;TZID=America/Halifax:20241016T203000
DTSTAMP:20260420T140709
CREATED:20220916T103300Z
LAST-MODIFIED:20241008T183017Z
UID:19424-1729099800-1729110600@oakcitybrewingcompany.com
SUMMARY:Jessica's Food Truck
DESCRIPTION:
URL:https://oakcitybrewingcompany.com/event/jessicas-food-truck-22-2023-02-25-2024-10-16/
CATEGORIES:Food Trucks
ATTACH;FMTTYPE=image/jpeg:https://oakcitybrewingcompany.com/wp-content/uploads/2022/09/301548167_171520468736524_3664133766732670901_n.jpg
END:VEVENT
BEGIN:VEVENT
DTSTART;TZID=America/Halifax:20241016T170000
DTEND;TZID=America/Halifax:20241016T200000
DTSTAMP:20260420T140709
CREATED:20241001T153929Z
LAST-MODIFIED:20241008T141247Z
UID:19913-1729098000-1729108800@oakcitybrewingcompany.com
SUMMARY:Boobs & Brews — Breast Cancer Awareness Night
DESCRIPTION:Join us Wednesday\, October 16th from 5-8 PM for our Breast Cancer Awareness Night!\n.\n– Cardinal Points Imaging will be set up to give out some swag\, provide information about their services\, and assist with getting scheduled for a mammogram. \n– Burn Bootcamp Knightdale run warm-up starts at 6 PM \n– Run Club’s Pink Run will take off at 6:30 PM!\n– Pink beer will be on tap while supplies last\n.\nGrab your friends\, put on your pink\, and come out to enjoy a pink brew in celebration of National Breast Cancer Awareness Month!
URL:https://oakcitybrewingcompany.com/event/boobs-brews-breast-cancer-awareness-night/
CATEGORIES:Brewery Events,Events
ATTACH;FMTTYPE=image/png:https://oakcitybrewingcompany.com/wp-content/uploads/2024/10/Boobs-brews-4.png
END:VEVENT
BEGIN:VEVENT
DTSTART;TZID=America/Halifax:20241015T173000
DTEND;TZID=America/Halifax:20241015T203000
DTSTAMP:20260420T140709
CREATED:20220816T223305Z
LAST-MODIFIED:20241101T193832Z
UID:18854-1729013400-1729024200@oakcitybrewingcompany.com
SUMMARY:The Greek Goat
DESCRIPTION:Bringing your favorite Greek street food to Raleigh and the surrounding area. Greek Done Right!
URL:https://oakcitybrewingcompany.com/event/the-greek-goat-2024-10-15/
CATEGORIES:Food Trucks
ATTACH;FMTTYPE=image/png:https://oakcitybrewingcompany.com/wp-content/uploads/2022/08/294719080_358949019756141_4432516889414215207_n.png
END:VEVENT
BEGIN:VEVENT
DTSTART;VALUE=DATE:20241014
DTEND;VALUE=DATE:20241015
DTSTAMP:20260420T140709
CREATED:20241001T154211Z
LAST-MODIFIED:20241001T154211Z
UID:19956-1728864000-1728950399@oakcitybrewingcompany.com
SUMMARY:No Food Truck - BYOF
DESCRIPTION:
URL:https://oakcitybrewingcompany.com/event/no-food-truck-byof-27-2024-10-14/
END:VEVENT
BEGIN:VEVENT
DTSTART;TZID=America/Halifax:20241013T140000
DTEND;TZID=America/Halifax:20241013T180000
DTSTAMP:20260420T140709
CREATED:20220915T102427Z
LAST-MODIFIED:20220915T102427Z
UID:19111-1728828000-1728842400@oakcitybrewingcompany.com
SUMMARY:Lobster Dogs
DESCRIPTION:Food truck serving the Best Lobster Rolls & Stuffed Avocados in the Carolinas!
URL:https://oakcitybrewingcompany.com/event/lobster-dogs-3-2024-10-13/
CATEGORIES:Food Trucks
ATTACH;FMTTYPE=image/jpeg:https://oakcitybrewingcompany.com/wp-content/uploads/2022/09/300966759_603356964739835_7012982284719119023_n.jpg
END:VEVENT
END:VCALENDAR