BEGIN:VCALENDAR
VERSION:2.0
PRODID:-//Oak City Brewing Company - ECPv6.15.20//NONSGML v1.0//EN
CALSCALE:GREGORIAN
METHOD:PUBLISH
X-WR-CALNAME:Oak City Brewing Company
X-ORIGINAL-URL:https://oakcitybrewingcompany.com
X-WR-CALDESC:Events for Oak City Brewing Company
REFRESH-INTERVAL;VALUE=DURATION:PT1H
X-Robots-Tag:noindex
X-PUBLISHED-TTL:PT1H
BEGIN:VTIMEZONE
TZID:America/Halifax
BEGIN:DAYLIGHT
TZOFFSETFROM:-0400
TZOFFSETTO:-0300
TZNAME:ADT
DTSTART:20230312T060000
END:DAYLIGHT
BEGIN:STANDARD
TZOFFSETFROM:-0300
TZOFFSETTO:-0400
TZNAME:AST
DTSTART:20231105T050000
END:STANDARD
BEGIN:DAYLIGHT
TZOFFSETFROM:-0400
TZOFFSETTO:-0300
TZNAME:ADT
DTSTART:20240310T060000
END:DAYLIGHT
BEGIN:STANDARD
TZOFFSETFROM:-0300
TZOFFSETTO:-0400
TZNAME:AST
DTSTART:20241103T050000
END:STANDARD
BEGIN:DAYLIGHT
TZOFFSETFROM:-0400
TZOFFSETTO:-0300
TZNAME:ADT
DTSTART:20250309T060000
END:DAYLIGHT
BEGIN:STANDARD
TZOFFSETFROM:-0300
TZOFFSETTO:-0400
TZNAME:AST
DTSTART:20251102T050000
END:STANDARD
END:VTIMEZONE
BEGIN:VEVENT
DTSTART;VALUE=DATE:20241007
DTEND;VALUE=DATE:20241008
DTSTAMP:20260420T193356
CREATED:20241001T154211Z
LAST-MODIFIED:20241008T182928Z
UID:19920-1728259200-1728345599@oakcitybrewingcompany.com
SUMMARY:No Food Truck - BYOF
DESCRIPTION:
URL:https://oakcitybrewingcompany.com/event/no-food-truck-byof-27/
END:VEVENT
BEGIN:VEVENT
DTSTART;TZID=America/Halifax:20241006T140000
DTEND;TZID=America/Halifax:20241006T180000
DTSTAMP:20260420T193356
CREATED:20230309T173542Z
LAST-MODIFIED:20230309T173542Z
UID:19238-1728223200-1728237600@oakcitybrewingcompany.com
SUMMARY:Parker's Hall of Fame Deli & Grill
DESCRIPTION:A local food truck selling burgers\, hotdogs\, sandwiches\, and paninis.
URL:https://oakcitybrewingcompany.com/event/parkers-hall-of-fame-deli-grill-2024-10-06/
CATEGORIES:Food Trucks
ATTACH;FMTTYPE=image/png:https://oakcitybrewingcompany.com/wp-content/uploads/2023/03/Screen-Shot-2023-03-09-at-12.33.28-PM.png
END:VEVENT
BEGIN:VEVENT
DTSTART;TZID=America/Halifax:20241006T140000
DTEND;TZID=America/Halifax:20241006T160000
DTSTAMP:20260420T193356
CREATED:20240901T150545Z
LAST-MODIFIED:20240901T150628Z
UID:19884-1728223200-1728230400@oakcitybrewingcompany.com
SUMMARY:Can-dle Workshop w/ Alternative Wax
DESCRIPTION:Light up your creativity with our Can-dle Workshop at OCBC on October 6th from 2-4 PM! Join Nick and Drew from Alternative Wax as they guide you through the art and science of candle-making\, teaching you how to create your very own upcycled “can-dle.” \nPick a time slot that works best for you between 2 – 4 PM\, each session is just 30 minutes!\nhttps://square.link/u/VKjL1Pmv \nIt’s recommended to purchase your tickets in advance to secure your spot\, but tickets will be available at the door if you’d like to drop-in. Stay tuned for more details closer to the event! \nDon’t miss out on this fun and creative experience! We can’t wait to see what you’ll make.
URL:https://oakcitybrewingcompany.com/event/can-dle-workshop-w-alternative-wax/
CATEGORIES:Brewery Events,Events,Weekly Events
ATTACH;FMTTYPE=image/png:https://oakcitybrewingcompany.com/wp-content/uploads/2024/09/OCBC-x-Alternative-Wax-.png
END:VEVENT
BEGIN:VEVENT
DTSTART;TZID=America/Halifax:20241006T140000
DTEND;TZID=America/Halifax:20241006T150000
DTSTAMP:20260420T193357
CREATED:20241001T160216Z
LAST-MODIFIED:20241001T160247Z
UID:19934-1728223200-1728226800@oakcitybrewingcompany.com
SUMMARY:Disc Golf Interest Meeting
DESCRIPTION:Calling all disc golf fans! Join us for a Disc Golf Interest Meeting at Oak City on October 6th at 2 PM.\n.\nWe’re looking to gather local disc golfers to enjoy the Gauntlet 9 Disc Golf Course\, located right next door at Knightdale Station Park!\n.\nWhether you’re a seasoned pro or new to the game\, come meet fellow disc golfers\, enjoy some brews\, and help us start something new here at OCBC! ????????\n.\n???? Knightdale Station Park Gauntlet 9 Disc Golf Course – 810 N. First Avenue\nKnightdale\, NC 27545\nhttps://www.knightdalenc.gov/parks-recreation-and-cultural-programs/parks-greenways-and-facilities/knightdale-station-park-2
URL:https://oakcitybrewingcompany.com/event/disc-golf-interest-meeting/
CATEGORIES:Brewery Events,Events,Weekly Events
ATTACH;FMTTYPE=image/png:https://oakcitybrewingcompany.com/wp-content/uploads/2024/10/disc-golf-club-meeting.png
END:VEVENT
BEGIN:VEVENT
DTSTART;TZID=America/Halifax:20241005T160000
DTEND;TZID=America/Halifax:20241005T210000
DTSTAMP:20260420T193357
CREATED:20220830T214644Z
LAST-MODIFIED:20220830T214644Z
UID:19180-1728144000-1728162000@oakcitybrewingcompany.com
SUMMARY:Barone Meatball
DESCRIPTION:
URL:https://oakcitybrewingcompany.com/event/barone-meatball-33-2023-02-04-2024-10-05/
CATEGORIES:Food Trucks
ATTACH;FMTTYPE=image/png:https://oakcitybrewingcompany.com/wp-content/uploads/2022/08/Screen-Shot-2022-12-30-at-10.20.59-AM.png
END:VEVENT
BEGIN:VEVENT
DTSTART;TZID=America/Halifax:20241005T113000
DTEND;TZID=America/Halifax:20241005T123000
DTSTAMP:20260420T193357
CREATED:20230622T143640Z
LAST-MODIFIED:20230622T143640Z
UID:18635-1728127800-1728131400@oakcitybrewingcompany.com
SUMMARY:Beer Run
DESCRIPTION:Join us for a 1.5\, 3\, or 5 mile run or walk through downtown Knightdale\, Knightdale Station Park\, Mingo Creek Trail\, and other areas and landmarks that make our town special with our run club. \nLearn more here: https://oakcitybrewingcompany.com/run-club/ \nRun club meets up at 6:30 pm every Wednesday or 11:30 am every Saturday\, cheers! \n 
URL:https://oakcitybrewingcompany.com/event/beer-run-2-2024-10-05/
CATEGORIES:Brewery Events,Weekly Events
ATTACH;FMTTYPE=image/png:https://oakcitybrewingcompany.com/wp-content/uploads/2023/06/Screen-Shot-2023-06-22-at-10.25.57-AM.png
END:VEVENT
BEGIN:VEVENT
DTSTART;TZID=America/Halifax:20241004T173000
DTEND;TZID=America/Halifax:20241004T203000
DTSTAMP:20260420T193357
CREATED:20240913T141037Z
LAST-MODIFIED:20240913T141037Z
UID:19899-1728063000-1728073800@oakcitybrewingcompany.com
SUMMARY:First Friday w/ Pop-up Pumpkin Patch
DESCRIPTION:Join us Friday\, October 4th from 5:30-8:30 PM for a Pop-Up Pumpkin Patch by Pope Farms\, and to shop local\, enjoy live music\, and indulge in delicious bites from food trucks.\n.\nSupport small businesses while enjoying craft brews and good vibes! ????????????️\n.\nMusic by: Sam Trebing\n.\nFood Trucks: Tombachi\, Not Just Icing & Poblanos Tacos\n.\nAdded fun: Pop-up Pumpkin Patch w/ Pope Farms\nAh! Fairy Hair\nFace Painting by Fantasy Dream Facepaint\n.\nSmall Business Vendors: \nPope Farms\nKree’s Flowers\nWyman’s Chocolates and Smoked Cheese\nWearables by b LLC\nDesigns by Donna\nAlternative Wax\nCarolina Mystic\nBlue Barn Woodcrafts LLC\nCarnelian Owl\nRemedy Cocktail Company\nHemp Generation Wellness\nRoot-Bound Plant Shop\nThe Crafty Olive Boutique\nSow and Glo\nAwaken NC LLC\nOak City Hot Sauce Co\nSweet Nothings bakery\nPup Pastry
URL:https://oakcitybrewingcompany.com/event/first-friday-w-pop-up-pumpkin-patch/
CATEGORIES:Brewery Events,Events,Weekly Events
ATTACH;FMTTYPE=image/png:https://oakcitybrewingcompany.com/wp-content/uploads/2024/09/October-FF.png
END:VEVENT
BEGIN:VEVENT
DTSTART;TZID=America/Halifax:20241004T173000
DTEND;TZID=America/Halifax:20241004T203000
DTSTAMP:20260420T193357
CREATED:20240904T175916Z
LAST-MODIFIED:20240904T175916Z
UID:19895-1728063000-1728073800@oakcitybrewingcompany.com
SUMMARY:Not Just Icing
DESCRIPTION:
URL:https://oakcitybrewingcompany.com/event/not-just-icing/
CATEGORIES:Food Trucks
END:VEVENT
BEGIN:VEVENT
DTSTART;TZID=America/Halifax:20241004T173000
DTEND;TZID=America/Halifax:20241004T203000
DTSTAMP:20260420T193357
CREATED:20240904T174326Z
LAST-MODIFIED:20240904T174326Z
UID:19893-1728063000-1728073800@oakcitybrewingcompany.com
SUMMARY:Poblanos Tacos
DESCRIPTION:
URL:https://oakcitybrewingcompany.com/event/poblanos-tacos-8/
CATEGORIES:Food Trucks
ATTACH;FMTTYPE=image/jpeg:https://oakcitybrewingcompany.com/wp-content/uploads/2022/08/Poblanos.jpeg
END:VEVENT
BEGIN:VEVENT
DTSTART;TZID=America/Halifax:20241004T173000
DTEND;TZID=America/Halifax:20241004T203000
DTSTAMP:20260420T193357
CREATED:20240610T151009Z
LAST-MODIFIED:20240610T151009Z
UID:19750-1728063000-1728073800@oakcitybrewingcompany.com
SUMMARY:Tombachi
DESCRIPTION:Raleigh’s first & only Hibachi Food Truck! Serving The Triangle with Fresh\, Fast & Quality Entrees.
URL:https://oakcitybrewingcompany.com/event/tombachi-2024-10-04/
ATTACH;FMTTYPE=image/png:https://oakcitybrewingcompany.com/wp-content/uploads/2024/06/Screenshot-2024-06-10-at-11.07.58-AM.png
END:VEVENT
BEGIN:VEVENT
DTSTART;TZID=America/Halifax:20241003T173000
DTEND;TZID=America/Halifax:20241003T203000
DTSTAMP:20260420T193357
CREATED:20220824T120403Z
LAST-MODIFIED:20241001T161031Z
UID:19038-1727976600-1727987400@oakcitybrewingcompany.com
SUMMARY:The Flat Drum
DESCRIPTION:
URL:https://oakcitybrewingcompany.com/event/not-just-a-fry-guy-2024-10-03/
CATEGORIES:Food Trucks
ATTACH;FMTTYPE=image/jpeg:https://oakcitybrewingcompany.com/wp-content/uploads/2022/08/237256269_285275650066794_5887269925378650683_n.jpg
END:VEVENT
BEGIN:VEVENT
DTSTART;TZID=America/Halifax:20241002T183000
DTEND;TZID=America/Halifax:20241002T193000
DTSTAMP:20260420T193357
CREATED:20230622T143255Z
LAST-MODIFIED:20230622T143255Z
UID:18713-1727893800-1727897400@oakcitybrewingcompany.com
SUMMARY:Beer Run
DESCRIPTION:Join us for a 1.5\, 3\, or 5 mile run or walk through downtown Knightdale\, Knightdale Station Park\, Mingo Creek Trail\, and other areas and landmarks that make our town special with our run club. \nLearn more here: https://oakcitybrewingcompany.com/run-club/ \nRun club meets up at 6:30 pm every Wednesday or 11:30 am every Saturday\, cheers!
URL:https://oakcitybrewingcompany.com/event/beer-run-2024-10-02/
CATEGORIES:Brewery Events,Weekly Events
ATTACH;FMTTYPE=image/png:https://oakcitybrewingcompany.com/wp-content/uploads/2023/06/Screen-Shot-2023-06-22-at-10.25.57-AM.png
END:VEVENT
BEGIN:VEVENT
DTSTART;TZID=America/Halifax:20241002T173000
DTEND;TZID=America/Halifax:20241002T203000
DTSTAMP:20260420T193357
CREATED:20220825T131329Z
LAST-MODIFIED:20220825T131329Z
UID:18883-1727890200-1727901000@oakcitybrewingcompany.com
SUMMARY:Chirba Chirba Dumpling
DESCRIPTION:Presents mouthwatering Chinese style dumplings. We are excited to bring you an Asian street fare food truck specializing in Chinese dumplings. After years of dumpling studies through extensive tasting\, pleating and learning secret family recipes\, we have developed a menu that we think you’ll love.
URL:https://oakcitybrewingcompany.com/event/chirba-chirba-dumpling-48-2024-10-02/
CATEGORIES:Food Trucks
ATTACH;FMTTYPE=image/jpeg:https://oakcitybrewingcompany.com/wp-content/uploads/2022/08/300415632_7906269056113354_1802728577223783342_n.jpg
END:VEVENT
BEGIN:VEVENT
DTSTART;TZID=America/Halifax:20241001T170000
DTEND;TZID=America/Halifax:20241001T200000
DTSTAMP:20260420T193357
CREATED:20240411T140406Z
LAST-MODIFIED:20240411T140406Z
UID:19713-1727802000-1727812800@oakcitybrewingcompany.com
SUMMARY:Copperheads Craft Burgers
DESCRIPTION:Uniquely crafted burgers!
URL:https://oakcitybrewingcompany.com/event/copperheads-craft-burgers-2024-10-01/
CATEGORIES:Food Trucks
ATTACH;FMTTYPE=image/png:https://oakcitybrewingcompany.com/wp-content/uploads/2024/04/Screenshot-2024-04-11-at-10.01.30-AM.png
END:VEVENT
BEGIN:VEVENT
DTSTART;TZID=America/Halifax:20240929T140000
DTEND;TZID=America/Halifax:20240929T180000
DTSTAMP:20260420T193357
CREATED:20221229T154907Z
LAST-MODIFIED:20240925T162924Z
UID:19512-1727618400-1727632800@oakcitybrewingcompany.com
SUMMARY:Cousins Maine Lobster
DESCRIPTION:Serving wild-caught\, sustainably harvested Maine lobster. As seen on Shark Tank!
URL:https://oakcitybrewingcompany.com/event/cousins-maine-lobster-52-2024-09-29/
CATEGORIES:Food Trucks
ATTACH;FMTTYPE=image/png:https://oakcitybrewingcompany.com/wp-content/uploads/2022/12/Screen-Shot-2022-12-29-at-10.44.01-AM.png
END:VEVENT
BEGIN:VEVENT
DTSTART;TZID=America/Halifax:20240929T140000
DTEND;TZID=America/Halifax:20240929T160000
DTSTAMP:20260420T193357
CREATED:20240901T145036Z
LAST-MODIFIED:20240901T150319Z
UID:19879-1727618400-1727625600@oakcitybrewingcompany.com
SUMMARY:Hammer & Stain Fall Door Signs Workshop
DESCRIPTION:Get ready for a fun-filled fall afternoon of crafts & drafts at the Fall Door Signs Workshop hosted by Hammer & Stain Carolina! \nJoin us on Sunday\, September 29th at 2 PM for an exciting hands-on experience. \nUnleash your inner artist as you design your very own custom fall signature wood round! Choose from a wide range of stain and paint colors to make your project truly unique. Whether you’re a seasoned DIY enthusiast or just looking for a great time with friends\, this workshop is perfect for all skill levels. \nREGISTRATION CLOSES ON SEPTEMBER 15TH:\nhttps://hammerandstaincarolina.com/products/09-29-crafts-drafts-fall-door-signs-at-oak-city-brewing-co
URL:https://oakcitybrewingcompany.com/event/19879/
CATEGORIES:Brewery Events,Events,Weekly Events
ATTACH;FMTTYPE=image/png:https://oakcitybrewingcompany.com/wp-content/uploads/2024/09/Fall-Door-Signs.png
END:VEVENT
BEGIN:VEVENT
DTSTART;TZID=America/Halifax:20240928T160000
DTEND;TZID=America/Halifax:20240928T210000
DTSTAMP:20260420T193357
CREATED:20220816T114537Z
LAST-MODIFIED:20220816T114537Z
UID:19146-1727539200-1727557200@oakcitybrewingcompany.com
SUMMARY:Bertos Chimis
DESCRIPTION:What is a chimi? A Chimi is a sauce-dripping hamburger served throughout the streets of Dominican Republic. An iconic sandwich served from lunch till late night\, that will satisfy your tastebuds day in\, day out.
URL:https://oakcitybrewingcompany.com/event/bertos-chimis-2-2024-09-28/
CATEGORIES:Food Trucks
ATTACH;FMTTYPE=image/jpeg:https://oakcitybrewingcompany.com/wp-content/uploads/2022/08/131890676_207085377570891_5623458210479334688_n.jpg
END:VEVENT
BEGIN:VEVENT
DTSTART;TZID=America/Halifax:20240928T120000
DTEND;TZID=America/Halifax:20240928T150000
DTSTAMP:20260420T193357
CREATED:20230116T152102Z
LAST-MODIFIED:20240927T172554Z
UID:19319-1727524800-1727535600@oakcitybrewingcompany.com
SUMMARY:No Lunch Truck - BYOF
DESCRIPTION:
URL:https://oakcitybrewingcompany.com/event/atlas-nomads-2-2024-09-28/
CATEGORIES:Food Trucks
END:VEVENT
BEGIN:VEVENT
DTSTART;TZID=America/Halifax:20240928T113000
DTEND;TZID=America/Halifax:20240928T123000
DTSTAMP:20260420T193357
CREATED:20230622T143640Z
LAST-MODIFIED:20230622T143640Z
UID:18634-1727523000-1727526600@oakcitybrewingcompany.com
SUMMARY:Beer Run
DESCRIPTION:Join us for a 1.5\, 3\, or 5 mile run or walk through downtown Knightdale\, Knightdale Station Park\, Mingo Creek Trail\, and other areas and landmarks that make our town special with our run club. \nLearn more here: https://oakcitybrewingcompany.com/run-club/ \nRun club meets up at 6:30 pm every Wednesday or 11:30 am every Saturday\, cheers! \n 
URL:https://oakcitybrewingcompany.com/event/beer-run-2-2024-09-28/
CATEGORIES:Brewery Events,Weekly Events
ATTACH;FMTTYPE=image/png:https://oakcitybrewingcompany.com/wp-content/uploads/2023/06/Screen-Shot-2023-06-22-at-10.25.57-AM.png
END:VEVENT
BEGIN:VEVENT
DTSTART;TZID=America/Halifax:20240927T173000
DTEND;TZID=America/Halifax:20240927T203000
DTSTAMP:20260420T193357
CREATED:20220824T113326Z
LAST-MODIFIED:20240425T161254Z
UID:18904-1727458200-1727469000@oakcitybrewingcompany.com
SUMMARY:Chick-N-Que
DESCRIPTION:The best Eastern style BBQ NC has to offer. We also serve 100% NC raised ostrich burgers along with mouth watering sides. Chick-N-Que is a multi mobile food truck & catering business serving Wake County and surrounding areas. With our guarded family recipe\, Chick-N-Que has a unique\, savory taste that stands out as some of the best barbecue around.
URL:https://oakcitybrewingcompany.com/event/chick-n-que-52-2023-01-27-2023-12-18-2024-09-27/
CATEGORIES:Food Trucks
ATTACH;FMTTYPE=image/jpeg:https://oakcitybrewingcompany.com/wp-content/uploads/2019/10/40683703_1781242268659131_3875899713362329600_n.jpg
END:VEVENT
BEGIN:VEVENT
DTSTART;TZID=America/Halifax:20240926T180000
DTEND;TZID=America/Halifax:20240926T190000
DTSTAMP:20260420T193357
CREATED:20240901T151423Z
LAST-MODIFIED:20240901T151423Z
UID:19892-1727373600-1727377200@oakcitybrewingcompany.com
SUMMARY:Brews & Barbells HIIT Class
DESCRIPTION:Join us Thursday\, September 26th for an evening of weights and drinks with Brett and his mobile gym! Class begins at 6 PM. \nPlease be sure to bring a sweat towel (if you prefer) and a water bottle. \nA ticket includes a cold beer after your workout!\nhttps://www.eventeny.com/events/brews-barbells-14357/ \nSee you all there!
URL:https://oakcitybrewingcompany.com/event/brews-barbells-hiit-class-2024-09-26/
CATEGORIES:Brewery Events,Events,Weekly Events
ATTACH;FMTTYPE=image/png:https://oakcitybrewingcompany.com/wp-content/uploads/2024/09/Brews-Sept-26.png
END:VEVENT
BEGIN:VEVENT
DTSTART;TZID=America/Halifax:20240926T173000
DTEND;TZID=America/Halifax:20240926T203000
DTSTAMP:20260420T193357
CREATED:20220816T160505Z
LAST-MODIFIED:20220816T160505Z
UID:18990-1727371800-1727382600@oakcitybrewingcompany.com
SUMMARY:Tacos Neza
DESCRIPTION:
URL:https://oakcitybrewingcompany.com/event/tacos-neza-4-2024-09-26/
CATEGORIES:Food Trucks
ATTACH;FMTTYPE=image/jpeg:https://oakcitybrewingcompany.com/wp-content/uploads/2022/08/288475272_543179494124910_8462946235973782313_n.jpg
END:VEVENT
BEGIN:VEVENT
DTSTART;TZID=America/Halifax:20240925T183000
DTEND;TZID=America/Halifax:20240925T193000
DTSTAMP:20260420T193357
CREATED:20230622T143255Z
LAST-MODIFIED:20230622T143255Z
UID:18712-1727289000-1727292600@oakcitybrewingcompany.com
SUMMARY:Beer Run
DESCRIPTION:Join us for a 1.5\, 3\, or 5 mile run or walk through downtown Knightdale\, Knightdale Station Park\, Mingo Creek Trail\, and other areas and landmarks that make our town special with our run club. \nLearn more here: https://oakcitybrewingcompany.com/run-club/ \nRun club meets up at 6:30 pm every Wednesday or 11:30 am every Saturday\, cheers!
URL:https://oakcitybrewingcompany.com/event/beer-run-2024-09-25/
CATEGORIES:Brewery Events,Weekly Events
ATTACH;FMTTYPE=image/png:https://oakcitybrewingcompany.com/wp-content/uploads/2023/06/Screen-Shot-2023-06-22-at-10.25.57-AM.png
END:VEVENT
BEGIN:VEVENT
DTSTART;TZID=America/Halifax:20240925T173000
DTEND;TZID=America/Halifax:20240925T203000
DTSTAMP:20260420T193357
CREATED:20220830T215212Z
LAST-MODIFIED:20220830T215212Z
UID:19122-1727285400-1727296200@oakcitybrewingcompany.com
SUMMARY:Bulkogi
DESCRIPTION:Authentic Korean BBQ with a yummy twist! Food prepared with love & care that can be felt in each bite. Come hungry & leave with more than just full tummy!
URL:https://oakcitybrewingcompany.com/event/bulkogi-12-2024-09-25/
CATEGORIES:Food Trucks
ATTACH;FMTTYPE=image/jpeg:https://oakcitybrewingcompany.com/wp-content/uploads/2020/01/10336733_570882016365515_5501550790059477710_n.jpg
END:VEVENT
BEGIN:VEVENT
DTSTART;TZID=America/Halifax:20240924T173000
DTEND;TZID=America/Halifax:20240924T173000
DTSTAMP:20260420T193357
CREATED:20240125T163947Z
LAST-MODIFIED:20240125T163947Z
UID:19397-1727199000-1727199000@oakcitybrewingcompany.com
SUMMARY:D's Presto
DESCRIPTION:Committed to deliver my love of cooking that will satisfy your appetite.
URL:https://oakcitybrewingcompany.com/event/ds-presto-2-2024-09-24/
CATEGORIES:Food Trucks
ATTACH;FMTTYPE=image/png:https://oakcitybrewingcompany.com/wp-content/uploads/2024/01/Screenshot-2024-01-23-at-12.46.23-PM.png
END:VEVENT
BEGIN:VEVENT
DTSTART;TZID=America/Halifax:20240922T140000
DTEND;TZID=America/Halifax:20240922T180000
DTSTAMP:20260420T193357
CREATED:20230126T180317Z
LAST-MODIFIED:20240514T140009Z
UID:19074-1727013600-1727028000@oakcitybrewingcompany.com
SUMMARY:Warehouse BBQ
DESCRIPTION:Warehouse BBQ\, where the legacy continues\, and every dish is a testament to the “love” that is infused into every bite.
URL:https://oakcitybrewingcompany.com/event/wild-mojo-2023-12-11-2024-09-22/
CATEGORIES:Food Trucks
ATTACH;FMTTYPE=image/png:https://oakcitybrewingcompany.com/wp-content/uploads/2023/01/Screenshot-2024-05-14-at-9.58.26-AM.png
END:VEVENT
BEGIN:VEVENT
DTSTART;TZID=America/Halifax:20240921T160000
DTEND;TZID=America/Halifax:20240921T210000
DTSTAMP:20260420T193357
CREATED:20220816T150752Z
LAST-MODIFIED:20240510T160915Z
UID:19277-1726934400-1726952400@oakcitybrewingcompany.com
SUMMARY:Dubz Grub
DESCRIPTION:Dubz Grub is more than just a food truck\, it is a dream come true for Robert and Adrienne Wilkinson.  We have over 30 years of experience in the food industry and finally decided to take a risk and follow our passions. Our Mission is to be professional\, reliable and bring delicious\, quality homemade food to your business or catered events.
URL:https://oakcitybrewingcompany.com/event/dubz-grub-3-2023-02-18-2024-09-21/
CATEGORIES:Food Trucks
ATTACH;FMTTYPE=image/png:https://oakcitybrewingcompany.com/wp-content/uploads/2022/08/Snacken-01.png
END:VEVENT
BEGIN:VEVENT
DTSTART;TZID=America/Halifax:20240921T120000
DTEND;TZID=America/Halifax:20240921T150000
DTSTAMP:20260420T193357
CREATED:20220915T101018Z
LAST-MODIFIED:20220915T101018Z
UID:18931-1726920000-1726930800@oakcitybrewingcompany.com
SUMMARY:The Tasty Turkey-Que
DESCRIPTION:Chopped turkey barbecue.
URL:https://oakcitybrewingcompany.com/event/the-tasty-turkey-que-2024-09-21/
CATEGORIES:Food Trucks
ATTACH;FMTTYPE=image/jpeg:https://oakcitybrewingcompany.com/wp-content/uploads/2022/09/216927439_236514948306576_2229485138571803795_n.jpg
END:VEVENT
BEGIN:VEVENT
DTSTART;TZID=America/Halifax:20240921T113000
DTEND;TZID=America/Halifax:20240921T123000
DTSTAMP:20260420T193357
CREATED:20230622T143640Z
LAST-MODIFIED:20230622T143640Z
UID:18633-1726918200-1726921800@oakcitybrewingcompany.com
SUMMARY:Beer Run
DESCRIPTION:Join us for a 1.5\, 3\, or 5 mile run or walk through downtown Knightdale\, Knightdale Station Park\, Mingo Creek Trail\, and other areas and landmarks that make our town special with our run club. \nLearn more here: https://oakcitybrewingcompany.com/run-club/ \nRun club meets up at 6:30 pm every Wednesday or 11:30 am every Saturday\, cheers! \n 
URL:https://oakcitybrewingcompany.com/event/beer-run-2-2024-09-21/
CATEGORIES:Brewery Events,Weekly Events
ATTACH;FMTTYPE=image/png:https://oakcitybrewingcompany.com/wp-content/uploads/2023/06/Screen-Shot-2023-06-22-at-10.25.57-AM.png
END:VEVENT
BEGIN:VEVENT
DTSTART;TZID=America/Halifax:20240920T173000
DTEND;TZID=America/Halifax:20240920T203000
DTSTAMP:20260420T193357
CREATED:20220816T171952Z
LAST-MODIFIED:20220816T171952Z
UID:18943-1726853400-1726864200@oakcitybrewingcompany.com
SUMMARY:The Naked Empanada
DESCRIPTION:The Naked Empanada was the lifelong dream and now passion of Roy Thombs. Roy\, who is better known to friends and family as Fuzzy\, began his culinary journey at fifteen years old in Morganton\, NC. Never shying away from hard work and the opportunity to learn\, Roy worked his way from a dishwasher at Shoney’s to a degree from the prestigious Johnson & Wales University. It was during this time at Johnson & Wales that Roy interned at the highly acclaimed Grove Park Inn in Asheville\, NC. While interning at Grove Park Inn\, Roy’s passion for the culinary arts and a culture of service was truly sparked. From Johnson & Wales\, Roy went on to work for a number of corporate restaurant groups where he transitioned into operations management roles. Eventually\, he moved from operations to administration and served in corporate human resources for a large national chain restaurant\, where he spent fifteen years. \nIt wasn’t until 2013\, when a corporate realignment was pushing for a relocation\, potentially uprooting his family\, that Roy was fully able to rekindle the same ember that was sparked during his time at Johnson & Wales interning at Grove Park Inn. The choice was not easy to leave the comfort of a stable career to pursue the entrepreneurial dream which had been brewing for years\, but it also felt like an opportunity that could not be denied. Through extensive research\, trial and error\, feedback from friends and family\, Roy carefully hand-crafted the concept that launched in 2015 with his food truck offering fresh\, locally sourced and delicious handmade empanadas. It was clear from the start that a lifetime of focus in culinary arts\, customer service and operations had molded itself into a business that was an instant success. \nAs The Naked Empanada continues to grow and thrive\, we know that our success is driven by our customers. That is why we dedicate every day to ensuring that every empanada and every experience with our customers is cared for by each of our team members. This is a labor of love that is fueled by the smiles and enjoyment of every person who bites into the food that we prepare and says\, “Wow\, that’s sooo good!!”
URL:https://oakcitybrewingcompany.com/event/the-naked-empanada-2024-09-20/
CATEGORIES:Food Trucks
ATTACH;FMTTYPE=image/jpeg:https://oakcitybrewingcompany.com/wp-content/uploads/2022/08/277675892_657482668566589_7822163364397964254_n.jpg
END:VEVENT
END:VCALENDAR