BEGIN:VCALENDAR
VERSION:2.0
PRODID:-//Oak City Brewing Company - ECPv6.15.20//NONSGML v1.0//EN
CALSCALE:GREGORIAN
METHOD:PUBLISH
X-WR-CALNAME:Oak City Brewing Company
X-ORIGINAL-URL:https://oakcitybrewingcompany.com
X-WR-CALDESC:Events for Oak City Brewing Company
REFRESH-INTERVAL;VALUE=DURATION:PT1H
X-Robots-Tag:noindex
X-PUBLISHED-TTL:PT1H
BEGIN:VTIMEZONE
TZID:America/Halifax
BEGIN:DAYLIGHT
TZOFFSETFROM:-0400
TZOFFSETTO:-0300
TZNAME:ADT
DTSTART:20230312T060000
END:DAYLIGHT
BEGIN:STANDARD
TZOFFSETFROM:-0300
TZOFFSETTO:-0400
TZNAME:AST
DTSTART:20231105T050000
END:STANDARD
BEGIN:DAYLIGHT
TZOFFSETFROM:-0400
TZOFFSETTO:-0300
TZNAME:ADT
DTSTART:20240310T060000
END:DAYLIGHT
BEGIN:STANDARD
TZOFFSETFROM:-0300
TZOFFSETTO:-0400
TZNAME:AST
DTSTART:20241103T050000
END:STANDARD
BEGIN:DAYLIGHT
TZOFFSETFROM:-0400
TZOFFSETTO:-0300
TZNAME:ADT
DTSTART:20250309T060000
END:DAYLIGHT
BEGIN:STANDARD
TZOFFSETFROM:-0300
TZOFFSETTO:-0400
TZNAME:AST
DTSTART:20251102T050000
END:STANDARD
END:VTIMEZONE
BEGIN:VEVENT
DTSTART;TZID=America/Halifax:20240919T173000
DTEND;TZID=America/Halifax:20240919T203000
DTSTAMP:20260420T232813
CREATED:20220826T145242Z
LAST-MODIFIED:20220826T145242Z
UID:19014-1726767000-1726777800@oakcitybrewingcompany.com
SUMMARY:Carolina's Catch
DESCRIPTION:Bringing Seafood from the Carolina’s Coast to the triangle
URL:https://oakcitybrewingcompany.com/event/carolinas-catch-2-2024-09-19/
CATEGORIES:Food Trucks
ATTACH;FMTTYPE=image/jpeg:https://oakcitybrewingcompany.com/wp-content/uploads/2022/08/294160203_760995485243754_5268186503346739086_n.jpg
END:VEVENT
BEGIN:VEVENT
DTSTART;TZID=America/Halifax:20240918T183000
DTEND;TZID=America/Halifax:20240918T193000
DTSTAMP:20260420T232813
CREATED:20230622T143255Z
LAST-MODIFIED:20230622T143255Z
UID:18711-1726684200-1726687800@oakcitybrewingcompany.com
SUMMARY:Beer Run
DESCRIPTION:Join us for a 1.5\, 3\, or 5 mile run or walk through downtown Knightdale\, Knightdale Station Park\, Mingo Creek Trail\, and other areas and landmarks that make our town special with our run club. \nLearn more here: https://oakcitybrewingcompany.com/run-club/ \nRun club meets up at 6:30 pm every Wednesday or 11:30 am every Saturday\, cheers!
URL:https://oakcitybrewingcompany.com/event/beer-run-2024-09-18/
CATEGORIES:Brewery Events,Weekly Events
ATTACH;FMTTYPE=image/png:https://oakcitybrewingcompany.com/wp-content/uploads/2023/06/Screen-Shot-2023-06-22-at-10.25.57-AM.png
END:VEVENT
BEGIN:VEVENT
DTSTART;TZID=America/Halifax:20240918T173000
DTEND;TZID=America/Halifax:20240918T203000
DTSTAMP:20260420T232813
CREATED:20220916T103300Z
LAST-MODIFIED:20220916T103300Z
UID:19423-1726680600-1726691400@oakcitybrewingcompany.com
SUMMARY:Jessica's Food Truck
DESCRIPTION:
URL:https://oakcitybrewingcompany.com/event/jessicas-food-truck-22-2023-02-25-2024-09-18/
CATEGORIES:Food Trucks
ATTACH;FMTTYPE=image/jpeg:https://oakcitybrewingcompany.com/wp-content/uploads/2022/09/301548167_171520468736524_3664133766732670901_n.jpg
END:VEVENT
BEGIN:VEVENT
DTSTART;TZID=America/Halifax:20240917T173000
DTEND;TZID=America/Halifax:20240917T203000
DTSTAMP:20260420T232813
CREATED:20220816T223305Z
LAST-MODIFIED:20220816T223305Z
UID:18853-1726594200-1726605000@oakcitybrewingcompany.com
SUMMARY:The Greek Goat
DESCRIPTION:Bringing your favorite Greek street food to Raleigh and the surrounding area. Greek Done Right!
URL:https://oakcitybrewingcompany.com/event/the-greek-goat-2024-09-17/
CATEGORIES:Food Trucks
ATTACH;FMTTYPE=image/png:https://oakcitybrewingcompany.com/wp-content/uploads/2022/08/294719080_358949019756141_4432516889414215207_n.png
END:VEVENT
BEGIN:VEVENT
DTSTART;TZID=America/Halifax:20240915T140000
DTEND;TZID=America/Halifax:20240915T180000
DTSTAMP:20260420T232813
CREATED:20220911T152736Z
LAST-MODIFIED:20220911T152736Z
UID:19086-1726408800-1726423200@oakcitybrewingcompany.com
SUMMARY:Moonrunners
DESCRIPTION:
URL:https://oakcitybrewingcompany.com/event/moonrunners-8-2024-09-15/
CATEGORIES:Food Trucks
ATTACH;FMTTYPE=image/jpeg:https://oakcitybrewingcompany.com/wp-content/uploads/2022/09/289540378_1421580884982878_5619351370244390677_n.jpg
END:VEVENT
BEGIN:VEVENT
DTSTART;TZID=America/Halifax:20240914T160000
DTEND;TZID=America/Halifax:20240914T210000
DTSTAMP:20260420T232813
CREATED:20230116T170404Z
LAST-MODIFIED:20230116T170404Z
UID:19166-1726329600-1726347600@oakcitybrewingcompany.com
SUMMARY:Fired Up Pizza & BBQ
DESCRIPTION:Serving wood-fired pizza and bbq. Smokin’ good with Carolina wood.
URL:https://oakcitybrewingcompany.com/event/fired-up-pizza-bbq-2-2024-09-14/
CATEGORIES:Food Trucks
ATTACH;FMTTYPE=image/jpeg:https://oakcitybrewingcompany.com/wp-content/uploads/2023/01/294908699_455773433222203_229099170207648236_n.jpeg
END:VEVENT
BEGIN:VEVENT
DTSTART;TZID=America/Halifax:20240914T140000
DTEND;TZID=America/Halifax:20240914T180000
DTSTAMP:20260420T232813
CREATED:20240309T172341Z
LAST-MODIFIED:20241101T164128Z
UID:19562-1726322400-1726336800@oakcitybrewingcompany.com
SUMMARY:Blood Drive
DESCRIPTION:It’s in your blood to save lives \n.\nEvery drop counts\, come donate blood with @thebloodconnection & receive a $50 in rewards!\n.\nSign up here: https://donate.thebloodconnection.org/…/drive…/225256
URL:https://oakcitybrewingcompany.com/event/blood-drive-9-2024-09-14/
CATEGORIES:Brewery Events,Events,Weekly Events
ATTACH;FMTTYPE=image/jpeg:https://oakcitybrewingcompany.com/wp-content/uploads/2024/03/blood-drive-flyer-.jpeg
END:VEVENT
BEGIN:VEVENT
DTSTART;TZID=America/Halifax:20240914T120000
DTEND;TZID=America/Halifax:20240914T150000
DTSTAMP:20260420T232813
CREATED:20230116T155025Z
LAST-MODIFIED:20230116T155025Z
UID:19298-1726315200-1726326000@oakcitybrewingcompany.com
SUMMARY:Portable Portugy
DESCRIPTION:Chef Shawn Dagnall brings The Portable Portugy\, NC’s first and only source for Portuguese cuisine.
URL:https://oakcitybrewingcompany.com/event/portable-portugy-2024-09-14/
CATEGORIES:Food Trucks
ATTACH;FMTTYPE=image/png:https://oakcitybrewingcompany.com/wp-content/uploads/2023/01/Screen-Shot-2023-01-16-at-10.45.04-AM.png
END:VEVENT
BEGIN:VEVENT
DTSTART;TZID=America/Halifax:20240914T113000
DTEND;TZID=America/Halifax:20240914T123000
DTSTAMP:20260420T232813
CREATED:20230622T143640Z
LAST-MODIFIED:20230622T143640Z
UID:18632-1726313400-1726317000@oakcitybrewingcompany.com
SUMMARY:Beer Run
DESCRIPTION:Join us for a 1.5\, 3\, or 5 mile run or walk through downtown Knightdale\, Knightdale Station Park\, Mingo Creek Trail\, and other areas and landmarks that make our town special with our run club. \nLearn more here: https://oakcitybrewingcompany.com/run-club/ \nRun club meets up at 6:30 pm every Wednesday or 11:30 am every Saturday\, cheers! \n 
URL:https://oakcitybrewingcompany.com/event/beer-run-2-2024-09-14/
CATEGORIES:Brewery Events,Weekly Events
ATTACH;FMTTYPE=image/png:https://oakcitybrewingcompany.com/wp-content/uploads/2023/06/Screen-Shot-2023-06-22-at-10.25.57-AM.png
END:VEVENT
BEGIN:VEVENT
DTSTART;TZID=America/Halifax:20240913T173000
DTEND;TZID=America/Halifax:20240913T203000
DTSTAMP:20260420T232813
CREATED:20220825T141353Z
LAST-MODIFIED:20240827T171145Z
UID:19061-1726248600-1726259400@oakcitybrewingcompany.com
SUMMARY:Caribbean Kicker
DESCRIPTION:We are a Food Truck that sell Caribbean Fusion with a twist. The food is made with love ❤️ and full of flavor.
URL:https://oakcitybrewingcompany.com/event/caribbean-kicker-3-2024-09-13/
CATEGORIES:Food Trucks
ATTACH;FMTTYPE=image/jpeg:https://oakcitybrewingcompany.com/wp-content/uploads/2022/08/279096638_2125417890949808_6612292007969708448_n.jpg
END:VEVENT
BEGIN:VEVENT
DTSTART;TZID=America/Halifax:20240912T180000
DTEND;TZID=America/Halifax:20240912T190000
DTSTAMP:20260420T232813
CREATED:20240901T151423Z
LAST-MODIFIED:20240901T152625Z
UID:19888-1726164000-1726167600@oakcitybrewingcompany.com
SUMMARY:Brews & Barbells HIIT Class
DESCRIPTION:Join us Thursday\, September 26th for an evening of weights and drinks with Brett and his mobile gym! Class begins at 6 PM. \nPlease be sure to bring a sweat towel (if you prefer) and a water bottle. \nA ticket includes a cold beer after your workout!\nhttps://www.eventeny.com/events/brews-barbells-14357/ \nSee you all there!
URL:https://oakcitybrewingcompany.com/event/brews-barbells-hiit-class/
CATEGORIES:Brewery Events,Events,Weekly Events
ATTACH;FMTTYPE=image/png:https://oakcitybrewingcompany.com/wp-content/uploads/2024/09/Brews-Sept-26.png
END:VEVENT
BEGIN:VEVENT
DTSTART;TZID=America/Halifax:20240912T173000
DTEND;TZID=America/Halifax:20240912T203000
DTSTAMP:20260420T232813
CREATED:20221229T165151Z
LAST-MODIFIED:20221229T165151Z
UID:18966-1726162200-1726173000@oakcitybrewingcompany.com
SUMMARY:The Smoke N Jerk
DESCRIPTION:Jvon Williams\, a North Carolina native has become known locally and privately for his unorthodox creations. Raised in the south\, he is making a name for himself by proudly continuing the tradition of “smoking meat” while celebrating down home culinary and Caribbean blended specialties. Williams brings meaning to a Caribbean twist on down home flavors of the south and elevates the heights by offering a unique variety of tastefully infused “Authentic” Jerk rubs incorporating natural local fruit and extractions.
URL:https://oakcitybrewingcompany.com/event/the-smoke-n-jerk-3-2024-09-12/
ATTACH;FMTTYPE=image/jpeg:https://oakcitybrewingcompany.com/wp-content/uploads/2019/12/20840918_1807268802918582_2991818591324802150_n.jpg
END:VEVENT
BEGIN:VEVENT
DTSTART;TZID=America/Halifax:20240911T183000
DTEND;TZID=America/Halifax:20240911T193000
DTSTAMP:20260420T232813
CREATED:20230622T143255Z
LAST-MODIFIED:20230622T143255Z
UID:18710-1726079400-1726083000@oakcitybrewingcompany.com
SUMMARY:Beer Run
DESCRIPTION:Join us for a 1.5\, 3\, or 5 mile run or walk through downtown Knightdale\, Knightdale Station Park\, Mingo Creek Trail\, and other areas and landmarks that make our town special with our run club. \nLearn more here: https://oakcitybrewingcompany.com/run-club/ \nRun club meets up at 6:30 pm every Wednesday or 11:30 am every Saturday\, cheers!
URL:https://oakcitybrewingcompany.com/event/beer-run-2024-09-11/
CATEGORIES:Brewery Events,Weekly Events
ATTACH;FMTTYPE=image/png:https://oakcitybrewingcompany.com/wp-content/uploads/2023/06/Screen-Shot-2023-06-22-at-10.25.57-AM.png
END:VEVENT
BEGIN:VEVENT
DTSTART;TZID=America/Halifax:20240911T173000
DTEND;TZID=America/Halifax:20240911T203000
DTSTAMP:20260420T232813
CREATED:20210826T023650Z
LAST-MODIFIED:20240508T144032Z
UID:19215-1726075800-1726086600@oakcitybrewingcompany.com
SUMMARY:Empanadas RD
DESCRIPTION:
URL:https://oakcitybrewingcompany.com/event/empanadas-rd-3-2024-09-11/
CATEGORIES:Food Trucks
ATTACH;FMTTYPE=image/jpeg:https://oakcitybrewingcompany.com/wp-content/uploads/2021/08/8444bc32-02c8-4a30-8d01-9197dfd80106.jpeg
END:VEVENT
BEGIN:VEVENT
DTSTART;TZID=America/Halifax:20240910T173000
DTEND;TZID=America/Halifax:20240910T203000
DTSTAMP:20260420T232813
CREATED:20231226T154846Z
LAST-MODIFIED:20240514T142225Z
UID:18867-1725989400-1726000200@oakcitybrewingcompany.com
SUMMARY:Big B’s Southern Kitchen
DESCRIPTION:Southern gourmet on the go\, home of the meatloaf melt.
URL:https://oakcitybrewingcompany.com/event/big-bs-southern-kitchen-2024-09-10/
CATEGORIES:Food Trucks
ATTACH;FMTTYPE=image/png:https://oakcitybrewingcompany.com/wp-content/uploads/2023/12/Screenshot-2023-12-26-at-10.42.21-AM.png
END:VEVENT
BEGIN:VEVENT
DTSTART;TZID=America/Halifax:20240909T173000
DTEND;TZID=America/Halifax:20240909T203000
DTSTAMP:20260420T232813
CREATED:20220824T113326Z
LAST-MODIFIED:20240425T161252Z
UID:18903-1725903000-1725913800@oakcitybrewingcompany.com
SUMMARY:Chick-N-Que
DESCRIPTION:The best Eastern style BBQ NC has to offer. We also serve 100% NC raised ostrich burgers along with mouth watering sides. Chick-N-Que is a multi mobile food truck & catering business serving Wake County and surrounding areas. With our guarded family recipe\, Chick-N-Que has a unique\, savory taste that stands out as some of the best barbecue around.
URL:https://oakcitybrewingcompany.com/event/chick-n-que-52-2023-01-27-2023-12-18-2024-09-09/
CATEGORIES:Food Trucks
ATTACH;FMTTYPE=image/jpeg:https://oakcitybrewingcompany.com/wp-content/uploads/2019/10/40683703_1781242268659131_3875899713362329600_n.jpg
END:VEVENT
BEGIN:VEVENT
DTSTART;TZID=America/Halifax:20240908T140000
DTEND;TZID=America/Halifax:20240908T180000
DTSTAMP:20260420T232813
CREATED:20220915T102427Z
LAST-MODIFIED:20220915T102427Z
UID:19110-1725804000-1725818400@oakcitybrewingcompany.com
SUMMARY:Lobster Dogs
DESCRIPTION:Food truck serving the Best Lobster Rolls & Stuffed Avocados in the Carolinas!
URL:https://oakcitybrewingcompany.com/event/lobster-dogs-3-2024-09-08/
CATEGORIES:Food Trucks
ATTACH;FMTTYPE=image/jpeg:https://oakcitybrewingcompany.com/wp-content/uploads/2022/09/300966759_603356964739835_7012982284719119023_n.jpg
END:VEVENT
BEGIN:VEVENT
DTSTART;TZID=America/Halifax:20240907T160000
DTEND;TZID=America/Halifax:20240907T210000
DTSTAMP:20260420T232813
CREATED:20240401T124518Z
LAST-MODIFIED:20240401T124518Z
UID:19526-1725724800-1725742800@oakcitybrewingcompany.com
SUMMARY:Coney Island NC
DESCRIPTION:They sell specialty hot dogs\, hamburgers\, chili\, nachos\, curly fries\, shoe string fries\, tenders\, popcorn chicken\, mozzarella sticks\, and have kids meals.
URL:https://oakcitybrewingcompany.com/event/coney-island-nc-2024-09-07/
CATEGORIES:Food Trucks
END:VEVENT
BEGIN:VEVENT
DTSTART;TZID=America/Halifax:20240907T160000
DTEND;TZID=America/Halifax:20240907T210000
DTSTAMP:20260420T232813
CREATED:20220830T214644Z
LAST-MODIFIED:20220830T214644Z
UID:19179-1725724800-1725742800@oakcitybrewingcompany.com
SUMMARY:Barone Meatball
DESCRIPTION:
URL:https://oakcitybrewingcompany.com/event/barone-meatball-33-2023-02-04-2024-09-07/
CATEGORIES:Food Trucks
ATTACH;FMTTYPE=image/png:https://oakcitybrewingcompany.com/wp-content/uploads/2022/08/Screen-Shot-2022-12-30-at-10.20.59-AM.png
END:VEVENT
BEGIN:VEVENT
DTSTART;TZID=America/Halifax:20240907T113000
DTEND;TZID=America/Halifax:20240907T123000
DTSTAMP:20260420T232813
CREATED:20230622T143640Z
LAST-MODIFIED:20230622T143640Z
UID:18631-1725708600-1725712200@oakcitybrewingcompany.com
SUMMARY:Beer Run
DESCRIPTION:Join us for a 1.5\, 3\, or 5 mile run or walk through downtown Knightdale\, Knightdale Station Park\, Mingo Creek Trail\, and other areas and landmarks that make our town special with our run club. \nLearn more here: https://oakcitybrewingcompany.com/run-club/ \nRun club meets up at 6:30 pm every Wednesday or 11:30 am every Saturday\, cheers! \n 
URL:https://oakcitybrewingcompany.com/event/beer-run-2-2024-09-07/
CATEGORIES:Brewery Events,Weekly Events
ATTACH;FMTTYPE=image/png:https://oakcitybrewingcompany.com/wp-content/uploads/2023/06/Screen-Shot-2023-06-22-at-10.25.57-AM.png
END:VEVENT
BEGIN:VEVENT
DTSTART;TZID=America/Halifax:20240906T173000
DTEND;TZID=America/Halifax:20240906T203000
DTSTAMP:20260420T232813
CREATED:20240715T133030Z
LAST-MODIFIED:20240722T124056Z
UID:19804-1725643800-1725654600@oakcitybrewingcompany.com
SUMMARY:First Friday
DESCRIPTION:Join us Friday\, September 6th from 5:30-8:30 PM to shop local\, enjoy live music\, and indulge in delicious bites from food trucks.\n.\nSupport small businesses while enjoying craft brews and good vibes!\n.\nMusic By: Proton Jones\n.\nFood Trucks: GoldenKdog\, The Flat Drum & Jones Lemonade\n.\nAdded Fun: Ah! Fairy Hair\nFace Painting by Fantasy Dream Facepaint\n.\nSmall Business Vendors:\nTBA
URL:https://oakcitybrewingcompany.com/event/first-friday-13-2024-09-06/
CATEGORIES:Brewery Events,Events,Weekly Events
ATTACH;FMTTYPE=image/png:https://oakcitybrewingcompany.com/wp-content/uploads/2024/07/September-FF.png
END:VEVENT
BEGIN:VEVENT
DTSTART;TZID=America/Halifax:20240906T173000
DTEND;TZID=America/Halifax:20240906T203000
DTSTAMP:20260420T232813
CREATED:20230322T124335Z
LAST-MODIFIED:20230322T124335Z
UID:19434-1725643800-1725654600@oakcitybrewingcompany.com
SUMMARY:GoldenKdog
DESCRIPTION:Raleigh’s first Korean corn dog food truck!
URL:https://oakcitybrewingcompany.com/event/goldenkdog-2024-09-06/
CATEGORIES:Food Trucks
ATTACH;FMTTYPE=image/png:https://oakcitybrewingcompany.com/wp-content/uploads/2023/03/Screen-Shot-2023-03-22-at-8.39.27-AM.png
END:VEVENT
BEGIN:VEVENT
DTSTART;TZID=America/Halifax:20240906T173000
DTEND;TZID=America/Halifax:20240906T203000
DTSTAMP:20260420T232813
CREATED:20220816T032306Z
LAST-MODIFIED:20240715T134204Z
UID:19249-1725643800-1725654600@oakcitybrewingcompany.com
SUMMARY:The Flat Drum
DESCRIPTION:
URL:https://oakcitybrewingcompany.com/event/the-flat-drum-3-2024-09-06/
CATEGORIES:Food Trucks
ATTACH;FMTTYPE=image/jpeg:https://oakcitybrewingcompany.com/wp-content/uploads/2022/08/237256269_285275650066794_5887269925378650683_n.jpg
END:VEVENT
BEGIN:VEVENT
DTSTART;TZID=America/Halifax:20240905T173000
DTEND;TZID=America/Halifax:20240905T203000
DTSTAMP:20260420T232813
CREATED:20220824T120403Z
LAST-MODIFIED:20220824T120403Z
UID:19037-1725557400-1725568200@oakcitybrewingcompany.com
SUMMARY:Not Just A Fry Guy
DESCRIPTION:
URL:https://oakcitybrewingcompany.com/event/not-just-a-fry-guy-2024-09-05/
CATEGORIES:Food Trucks
ATTACH;FMTTYPE=image/jpeg:https://oakcitybrewingcompany.com/wp-content/uploads/2022/08/283540834_555973096053598_4434455661131209924_n.jpg
END:VEVENT
BEGIN:VEVENT
DTSTART;TZID=America/Halifax:20240904T183000
DTEND;TZID=America/Halifax:20240904T193000
DTSTAMP:20260420T232813
CREATED:20230622T143255Z
LAST-MODIFIED:20230622T143255Z
UID:18709-1725474600-1725478200@oakcitybrewingcompany.com
SUMMARY:Beer Run
DESCRIPTION:Join us for a 1.5\, 3\, or 5 mile run or walk through downtown Knightdale\, Knightdale Station Park\, Mingo Creek Trail\, and other areas and landmarks that make our town special with our run club. \nLearn more here: https://oakcitybrewingcompany.com/run-club/ \nRun club meets up at 6:30 pm every Wednesday or 11:30 am every Saturday\, cheers!
URL:https://oakcitybrewingcompany.com/event/beer-run-2024-09-04/
CATEGORIES:Brewery Events,Weekly Events
ATTACH;FMTTYPE=image/png:https://oakcitybrewingcompany.com/wp-content/uploads/2023/06/Screen-Shot-2023-06-22-at-10.25.57-AM.png
END:VEVENT
BEGIN:VEVENT
DTSTART;TZID=America/Halifax:20240904T173000
DTEND;TZID=America/Halifax:20240904T203000
DTSTAMP:20260420T232813
CREATED:20220825T131329Z
LAST-MODIFIED:20220825T131329Z
UID:18882-1725471000-1725481800@oakcitybrewingcompany.com
SUMMARY:Chirba Chirba Dumpling
DESCRIPTION:Presents mouthwatering Chinese style dumplings. We are excited to bring you an Asian street fare food truck specializing in Chinese dumplings. After years of dumpling studies through extensive tasting\, pleating and learning secret family recipes\, we have developed a menu that we think you’ll love.
URL:https://oakcitybrewingcompany.com/event/chirba-chirba-dumpling-48-2024-09-04/
CATEGORIES:Food Trucks
ATTACH;FMTTYPE=image/jpeg:https://oakcitybrewingcompany.com/wp-content/uploads/2022/08/300415632_7906269056113354_1802728577223783342_n.jpg
END:VEVENT
BEGIN:VEVENT
DTSTART;TZID=America/Halifax:20240903T170000
DTEND;TZID=America/Halifax:20240903T200000
DTSTAMP:20260420T232813
CREATED:20240411T140406Z
LAST-MODIFIED:20240411T140406Z
UID:19712-1725382800-1725393600@oakcitybrewingcompany.com
SUMMARY:Copperheads Craft Burgers
DESCRIPTION:Uniquely crafted burgers!
URL:https://oakcitybrewingcompany.com/event/copperheads-craft-burgers-2024-09-03/
CATEGORIES:Food Trucks
ATTACH;FMTTYPE=image/png:https://oakcitybrewingcompany.com/wp-content/uploads/2024/04/Screenshot-2024-04-11-at-10.01.30-AM.png
END:VEVENT
BEGIN:VEVENT
DTSTART;TZID=America/Halifax:20240902T120000
DTEND;TZID=America/Halifax:20240902T220000
DTSTAMP:20260420T232813
CREATED:20240411T135845Z
LAST-MODIFIED:20240827T171105Z
UID:19870-1725278400-1725314400@oakcitybrewingcompany.com
SUMMARY:Extended Labor Day Hours 12-10 PM
DESCRIPTION:Extended Labor Day Hours: 12-10 PM
URL:https://oakcitybrewingcompany.com/event/extended-memorial-day-hours-12-10-pm-2024-09-02/
CATEGORIES:Events,Weekly Events
ATTACH;FMTTYPE=image/png:https://oakcitybrewingcompany.com/wp-content/uploads/2024/04/Labor-Day.png
END:VEVENT
BEGIN:VEVENT
DTSTART;TZID=America/Halifax:20240902T120000
DTEND;TZID=America/Halifax:20240902T180000
DTSTAMP:20260420T232813
CREATED:20220825T141353Z
LAST-MODIFIED:20220825T141353Z
UID:19874-1725278400-1725300000@oakcitybrewingcompany.com
SUMMARY:Caribbean Kicker
DESCRIPTION:We are a Food Truck that sell Caribbean Fusion with a twist. The food is made with love ❤️ and full of flavor.
URL:https://oakcitybrewingcompany.com/event/caribbean-kicker-3-2024-09-02/
CATEGORIES:Food Trucks
ATTACH;FMTTYPE=image/jpeg:https://oakcitybrewingcompany.com/wp-content/uploads/2022/08/279096638_2125417890949808_6612292007969708448_n.jpg
END:VEVENT
BEGIN:VEVENT
DTSTART;TZID=America/Halifax:20240901T140000
DTEND;TZID=America/Halifax:20240901T180000
DTSTAMP:20260420T232813
CREATED:20230309T173542Z
LAST-MODIFIED:20230309T173542Z
UID:19237-1725199200-1725213600@oakcitybrewingcompany.com
SUMMARY:Parker's Hall of Fame Deli & Grill
DESCRIPTION:A local food truck selling burgers\, hotdogs\, sandwiches\, and paninis.
URL:https://oakcitybrewingcompany.com/event/parkers-hall-of-fame-deli-grill-2024-09-01/
CATEGORIES:Food Trucks
ATTACH;FMTTYPE=image/png:https://oakcitybrewingcompany.com/wp-content/uploads/2023/03/Screen-Shot-2023-03-09-at-12.33.28-PM.png
END:VEVENT
END:VCALENDAR