BEGIN:VCALENDAR
VERSION:2.0
PRODID:-//Oak City Brewing Company - ECPv6.15.20//NONSGML v1.0//EN
CALSCALE:GREGORIAN
METHOD:PUBLISH
X-WR-CALNAME:Oak City Brewing Company
X-ORIGINAL-URL:https://oakcitybrewingcompany.com
X-WR-CALDESC:Events for Oak City Brewing Company
REFRESH-INTERVAL;VALUE=DURATION:PT1H
X-Robots-Tag:noindex
X-PUBLISHED-TTL:PT1H
BEGIN:VTIMEZONE
TZID:America/Halifax
BEGIN:DAYLIGHT
TZOFFSETFROM:-0400
TZOFFSETTO:-0300
TZNAME:ADT
DTSTART:20240310T060000
END:DAYLIGHT
BEGIN:STANDARD
TZOFFSETFROM:-0300
TZOFFSETTO:-0400
TZNAME:AST
DTSTART:20241103T050000
END:STANDARD
BEGIN:DAYLIGHT
TZOFFSETFROM:-0400
TZOFFSETTO:-0300
TZNAME:ADT
DTSTART:20250309T060000
END:DAYLIGHT
BEGIN:STANDARD
TZOFFSETFROM:-0300
TZOFFSETTO:-0400
TZNAME:AST
DTSTART:20251102T050000
END:STANDARD
BEGIN:DAYLIGHT
TZOFFSETFROM:-0400
TZOFFSETTO:-0300
TZNAME:ADT
DTSTART:20260308T060000
END:DAYLIGHT
BEGIN:STANDARD
TZOFFSETFROM:-0300
TZOFFSETTO:-0400
TZNAME:AST
DTSTART:20261101T050000
END:STANDARD
END:VTIMEZONE
BEGIN:VEVENT
DTSTART;TZID=America/Halifax:20250301T113000
DTEND;TZID=America/Halifax:20250301T123000
DTSTAMP:20260419T163019
CREATED:20230622T143640Z
LAST-MODIFIED:20241227T170559Z
UID:20452-1740828600-1740832200@oakcitybrewingcompany.com
SUMMARY:Beer Run
DESCRIPTION:Join us for a 1.5\, 3\, or 5 mile run or walk through downtown Knightdale\, Knightdale Station Park\, Mingo Creek Trail\, and other areas and landmarks that make our town special with our run club. \nLearn more here: https://oakcitybrewingcompany.com/run-club/ \nRun club meets up at 6:30 pm every Wednesday or 11:30 am every Saturday\, cheers! \n 
URL:https://oakcitybrewingcompany.com/event/beer-run-2-2024-12-21-2025-03-01/
CATEGORIES:Brewery Events,Weekly Events
ATTACH;FMTTYPE=image/png:https://oakcitybrewingcompany.com/wp-content/uploads/2023/06/Screen-Shot-2023-06-22-at-10.25.57-AM.png
END:VEVENT
BEGIN:VEVENT
DTSTART;TZID=America/Halifax:20250228T173000
DTEND;TZID=America/Halifax:20250228T203000
DTSTAMP:20260419T163019
CREATED:20241227T164348Z
LAST-MODIFIED:20241227T164348Z
UID:20296-1740763800-1740774600@oakcitybrewingcompany.com
SUMMARY:Chick-N-Que
DESCRIPTION:The best chopped chicken bbq around!
URL:https://oakcitybrewingcompany.com/event/chick-n-que-52-2025-02-28/
CATEGORIES:Food Trucks
END:VEVENT
BEGIN:VEVENT
DTSTART;TZID=America/Halifax:20250227T173000
DTEND;TZID=America/Halifax:20250227T203000
DTSTAMP:20260419T163019
CREATED:20241227T163957Z
LAST-MODIFIED:20241227T163957Z
UID:20284-1740677400-1740688200@oakcitybrewingcompany.com
SUMMARY:Mike Nice Empanadas
DESCRIPTION:A family-owned food truck passionate about sharing their love for delicious\, homemade empanadas with our community.
URL:https://oakcitybrewingcompany.com/event/mike-nice-empanadas-2025-02-27/
CATEGORIES:Food Trucks
END:VEVENT
BEGIN:VEVENT
DTSTART;TZID=America/Halifax:20250226T183000
DTEND;TZID=America/Halifax:20250226T193000
DTSTAMP:20260419T163019
CREATED:20230622T143255Z
LAST-MODIFIED:20230622T143255Z
UID:20399-1740594600-1740598200@oakcitybrewingcompany.com
SUMMARY:Beer Run
DESCRIPTION:Join us for a 1.5\, 3\, or 5 mile run or walk through downtown Knightdale\, Knightdale Station Park\, Mingo Creek Trail\, and other areas and landmarks that make our town special with our run club. \nLearn more here: https://oakcitybrewingcompany.com/run-club/ \nRun club meets up at 6:30 pm every Wednesday or 11:30 am every Saturday\, cheers!
URL:https://oakcitybrewingcompany.com/event/beer-run-2024-12-11-2025-02-26/
CATEGORIES:Brewery Events,Weekly Events
ATTACH;FMTTYPE=image/png:https://oakcitybrewingcompany.com/wp-content/uploads/2023/06/Screen-Shot-2023-06-22-at-10.25.57-AM.png
END:VEVENT
BEGIN:VEVENT
DTSTART;TZID=America/Halifax:20250226T173000
DTEND;TZID=America/Halifax:20250226T203000
DTSTAMP:20260419T163019
CREATED:20241227T163127Z
LAST-MODIFIED:20241227T163127Z
UID:20640-1740591000-1740601800@oakcitybrewingcompany.com
SUMMARY:Bulkogi
DESCRIPTION:Authentic Korean BBQ with a yummy twist.
URL:https://oakcitybrewingcompany.com/event/bulkogi-13-2025-02-26/
CATEGORIES:Food Trucks
ATTACH;FMTTYPE=image/png:https://oakcitybrewingcompany.com/wp-content/uploads/2024/12/Screenshot-2024-12-27-at-11.30.44-AM.png
END:VEVENT
BEGIN:VEVENT
DTSTART;TZID=America/Halifax:20250225T170000
DTEND;TZID=America/Halifax:20250225T200000
DTSTAMP:20260419T163019
CREATED:20241227T164805Z
LAST-MODIFIED:20241227T164805Z
UID:20331-1740502800-1740513600@oakcitybrewingcompany.com
SUMMARY:Beef Street & Pig
DESCRIPTION:Delicious loaded nachos\, fries and comfort food.
URL:https://oakcitybrewingcompany.com/event/beef-street-pig-2025-02-25/
CATEGORIES:Food Trucks
END:VEVENT
BEGIN:VEVENT
DTSTART;TZID=America/Halifax:20250225T150000
DTEND;TZID=America/Halifax:20250225T220000
DTSTAMP:20260419T163019
CREATED:20241227T170528Z
LAST-MODIFIED:20241227T170528Z
UID:20512-1740495600-1740520800@oakcitybrewingcompany.com
SUMMARY:Pint Night
DESCRIPTION:$1 off pints every Tuesday here at Oak City!
URL:https://oakcitybrewingcompany.com/event/pint-night-50-2025-02-25/
CATEGORIES:Brewery Events,Events
END:VEVENT
BEGIN:VEVENT
DTSTART;VALUE=DATE:20250224
DTEND;VALUE=DATE:20250225
DTSTAMP:20260419T163019
CREATED:20241227T170652Z
LAST-MODIFIED:20241227T170652Z
UID:20614-1740355200-1740441599@oakcitybrewingcompany.com
SUMMARY:No Food Truck - BYOF
DESCRIPTION:
URL:https://oakcitybrewingcompany.com/event/no-food-truck-byof-30-2025-02-24/
CATEGORIES:Food Trucks
END:VEVENT
BEGIN:VEVENT
DTSTART;TZID=America/Halifax:20250222T160000
DTEND;TZID=America/Halifax:20250222T210000
DTSTAMP:20260419T163019
CREATED:20241227T165213Z
LAST-MODIFIED:20241227T165213Z
UID:20367-1740240000-1740258000@oakcitybrewingcompany.com
SUMMARY:Bertos Chimis
DESCRIPTION:
URL:https://oakcitybrewingcompany.com/event/bertos-chimis-3-2025-02-22/
CATEGORIES:Food Trucks
END:VEVENT
BEGIN:VEVENT
DTSTART;TZID=America/Halifax:20250222T150000
DTEND;TZID=America/Halifax:20250222T230000
DTSTAMP:20260419T163019
CREATED:20250122T154343Z
LAST-MODIFIED:20250211T151415Z
UID:20691-1740236400-1740265200@oakcitybrewingcompany.com
SUMMARY:Girl Scout Cookie Pairing
DESCRIPTION:It’s that time of year again\, beer & Girl Scout Cookies! \nMark your calendars for Saturday\, February 22nd because the sweetest pairing of the year is back! Indulge in Oak City beers perfectly paired with some iconic Girl Scout Cookies for a flavor experience you don’t want to miss. *While supplies last*\n.\nDon’t miss out on this fan-favorite event. Grab your friends\, a pint\, and a box (or three) of cookies with Girl Scout Troop 14281. Cheers to beer\, cookies\, and good times!
URL:https://oakcitybrewingcompany.com/event/girl-scout-cookie-pairing-4/
CATEGORIES:Brewery Events,Events,Weekly Events
ATTACH;FMTTYPE=image/png:https://oakcitybrewingcompany.com/wp-content/uploads/2025/01/Girl-Scout-Cookie-Pairing-Facebook-Event-Cover.png
END:VEVENT
BEGIN:VEVENT
DTSTART;TZID=America/Halifax:20250222T113000
DTEND;TZID=America/Halifax:20250222T123000
DTSTAMP:20260419T163019
CREATED:20230622T143640Z
LAST-MODIFIED:20250122T154438Z
UID:20451-1740223800-1740227400@oakcitybrewingcompany.com
SUMMARY:Beer Run
DESCRIPTION:Join us for a 1.5\, 3\, or 5 mile run or walk through downtown Knightdale\, Knightdale Station Park\, Mingo Creek Trail\, and other areas and landmarks that make our town special with our run club. \nLearn more here: https://oakcitybrewingcompany.com/run-club/ \nRun club meets up at 6:30 pm every Wednesday or 11:30 am every Saturday\, cheers! \n 
URL:https://oakcitybrewingcompany.com/event/beer-run-2-2024-12-21-2025-02-22/
CATEGORIES:Brewery Events,Weekly Events
ATTACH;FMTTYPE=image/png:https://oakcitybrewingcompany.com/wp-content/uploads/2023/06/Screen-Shot-2023-06-22-at-10.25.57-AM.png
END:VEVENT
BEGIN:VEVENT
DTSTART;TZID=America/Halifax:20250221T173000
DTEND;TZID=America/Halifax:20250221T203000
DTSTAMP:20260419T163019
CREATED:20241227T164520Z
LAST-MODIFIED:20241227T164620Z
UID:20308-1740159000-1740169800@oakcitybrewingcompany.com
SUMMARY:The Naked Empanada
DESCRIPTION:Savory and sweet empanadas since 2015!
URL:https://oakcitybrewingcompany.com/event/the-naked-empanada-2-2025-02-21/
CATEGORIES:Food Trucks
END:VEVENT
BEGIN:VEVENT
DTSTART;TZID=America/Halifax:20250220T173000
DTEND;TZID=America/Halifax:20250220T203000
DTSTAMP:20260419T163019
CREATED:20241227T163759Z
LAST-MODIFIED:20241227T163759Z
UID:20272-1740072600-1740083400@oakcitybrewingcompany.com
SUMMARY:Carolina's Catch
DESCRIPTION:Premier seafood food truck of the Triangle.
URL:https://oakcitybrewingcompany.com/event/carolinas-catch-3-2025-02-20/
CATEGORIES:Food Trucks
END:VEVENT
BEGIN:VEVENT
DTSTART;TZID=America/Halifax:20250219T183000
DTEND;TZID=America/Halifax:20250219T193000
DTSTAMP:20260419T163019
CREATED:20230622T143255Z
LAST-MODIFIED:20230622T143255Z
UID:20398-1739989800-1739993400@oakcitybrewingcompany.com
SUMMARY:Beer Run
DESCRIPTION:Join us for a 1.5\, 3\, or 5 mile run or walk through downtown Knightdale\, Knightdale Station Park\, Mingo Creek Trail\, and other areas and landmarks that make our town special with our run club. \nLearn more here: https://oakcitybrewingcompany.com/run-club/ \nRun club meets up at 6:30 pm every Wednesday or 11:30 am every Saturday\, cheers!
URL:https://oakcitybrewingcompany.com/event/beer-run-2024-12-11-2025-02-19/
CATEGORIES:Brewery Events,Weekly Events
ATTACH;FMTTYPE=image/png:https://oakcitybrewingcompany.com/wp-content/uploads/2023/06/Screen-Shot-2023-06-22-at-10.25.57-AM.png
END:VEVENT
BEGIN:VEVENT
DTSTART;TZID=America/Halifax:20250219T173000
DTEND;TZID=America/Halifax:20250219T203000
DTSTAMP:20260419T163019
CREATED:20241227T162236Z
LAST-MODIFIED:20241227T162236Z
UID:20209-1739986200-1739997000@oakcitybrewingcompany.com
SUMMARY:Off the Hog
DESCRIPTION:Off the hog serves good old-fashioned traditionally smoked meats\, using a variety of hardwood and coals.
URL:https://oakcitybrewingcompany.com/event/off-the-hog-2-2025-02-19/
CATEGORIES:Food Trucks
ATTACH;FMTTYPE=image/png:https://oakcitybrewingcompany.com/wp-content/uploads/2023/04/Screen-Shot-2023-04-11-at-10.38.53-AM.png
END:VEVENT
BEGIN:VEVENT
DTSTART;TZID=America/Halifax:20250218T173000
DTEND;TZID=America/Halifax:20250218T203000
DTSTAMP:20260419T163019
CREATED:20241227T163354Z
LAST-MODIFIED:20241227T163354Z
UID:20247-1739899800-1739910600@oakcitybrewingcompany.com
SUMMARY:The Greek Goat
DESCRIPTION:Authentic Greek Street Food experience with all your favorites.
URL:https://oakcitybrewingcompany.com/event/the-greek-goat-2-2025-02-18/
CATEGORIES:Food Trucks
END:VEVENT
BEGIN:VEVENT
DTSTART;TZID=America/Halifax:20250218T150000
DTEND;TZID=America/Halifax:20250218T220000
DTSTAMP:20260419T163019
CREATED:20241227T170528Z
LAST-MODIFIED:20241227T170528Z
UID:20511-1739890800-1739916000@oakcitybrewingcompany.com
SUMMARY:Pint Night
DESCRIPTION:$1 off pints every Tuesday here at Oak City!
URL:https://oakcitybrewingcompany.com/event/pint-night-50-2025-02-18/
CATEGORIES:Brewery Events,Events
END:VEVENT
BEGIN:VEVENT
DTSTART;VALUE=DATE:20250217
DTEND;VALUE=DATE:20250218
DTSTAMP:20260419T163019
CREATED:20241227T170652Z
LAST-MODIFIED:20241227T170652Z
UID:20613-1739750400-1739836799@oakcitybrewingcompany.com
SUMMARY:No Food Truck - BYOF
DESCRIPTION:
URL:https://oakcitybrewingcompany.com/event/no-food-truck-byof-30-2025-02-17/
CATEGORIES:Food Trucks
END:VEVENT
BEGIN:VEVENT
DTSTART;TZID=America/Halifax:20250216T140000
DTEND;TZID=America/Halifax:20250216T180000
DTSTAMP:20260419T163019
CREATED:20241227T165502Z
LAST-MODIFIED:20241227T165502Z
UID:20379-1739714400-1739728800@oakcitybrewingcompany.com
SUMMARY:Captains Gastro
DESCRIPTION:
URL:https://oakcitybrewingcompany.com/event/captains-gastro-2025-02-16/
CATEGORIES:Food Trucks
END:VEVENT
BEGIN:VEVENT
DTSTART;TZID=America/Halifax:20250215T160000
DTEND;TZID=America/Halifax:20250215T210000
DTSTAMP:20260419T163019
CREATED:20241227T165123Z
LAST-MODIFIED:20241227T165123Z
UID:20355-1739635200-1739653200@oakcitybrewingcompany.com
SUMMARY:Dubz Grub
DESCRIPTION:
URL:https://oakcitybrewingcompany.com/event/dubz-grub-3-2025-02-15/
CATEGORIES:Food Trucks
END:VEVENT
BEGIN:VEVENT
DTSTART;TZID=America/Halifax:20250215T113000
DTEND;TZID=America/Halifax:20250215T123000
DTSTAMP:20260419T163019
CREATED:20230622T143640Z
LAST-MODIFIED:20241227T170559Z
UID:20450-1739619000-1739622600@oakcitybrewingcompany.com
SUMMARY:Beer Run
DESCRIPTION:Join us for a 1.5\, 3\, or 5 mile run or walk through downtown Knightdale\, Knightdale Station Park\, Mingo Creek Trail\, and other areas and landmarks that make our town special with our run club. \nLearn more here: https://oakcitybrewingcompany.com/run-club/ \nRun club meets up at 6:30 pm every Wednesday or 11:30 am every Saturday\, cheers! \n 
URL:https://oakcitybrewingcompany.com/event/beer-run-2-2024-12-21-2025-02-15/
CATEGORIES:Brewery Events,Weekly Events
ATTACH;FMTTYPE=image/png:https://oakcitybrewingcompany.com/wp-content/uploads/2023/06/Screen-Shot-2023-06-22-at-10.25.57-AM.png
END:VEVENT
BEGIN:VEVENT
DTSTART;TZID=America/Halifax:20250214T173000
DTEND;TZID=America/Halifax:20250214T203000
DTSTAMP:20260419T163019
CREATED:20241227T161911Z
LAST-MODIFIED:20241227T161911Z
UID:20195-1739554200-1739565000@oakcitybrewingcompany.com
SUMMARY:Caribbean Kicker
DESCRIPTION:Bold flavors meet soulful cooking\, bringing the vibrant taste of the Caribbean to every plate.
URL:https://oakcitybrewingcompany.com/event/caribbean-kicker-4-2025-02-14/
CATEGORIES:Food Trucks
ATTACH;FMTTYPE=image/jpeg:https://oakcitybrewingcompany.com/wp-content/uploads/2022/08/279096638_2125417890949808_6612292007969708448_n.jpg
END:VEVENT
BEGIN:VEVENT
DTSTART;TZID=America/Halifax:20250214T150000
DTEND;TZID=America/Halifax:20250214T230000
DTSTAMP:20260419T163019
CREATED:20250211T150341Z
LAST-MODIFIED:20250211T151350Z
UID:20694-1739545200-1739574000@oakcitybrewingcompany.com
SUMMARY:Valentine’s Day @ Oak City
DESCRIPTION:Bring your Valentine\, your Galentines\, or just yourself—because love (and beer) is always worth celebrating! .Celebrate Valentine’s Day with our Strawberry Bellini Special and a Valentine’s Day flight crafted just for the occasion!Plus\, Wyman’s Chocolates will be here with the perfect sweet treats to pair perfectly with your sips..Caribbean Kicker is serving from 5:30-8:30 PM
URL:https://oakcitybrewingcompany.com/event/valentines-day-oak-city/
CATEGORIES:Brewery Events,Events,Weekly Events
ATTACH;FMTTYPE=image/png:https://oakcitybrewingcompany.com/wp-content/uploads/2025/02/Untitled-design.png
END:VEVENT
BEGIN:VEVENT
DTSTART;TZID=America/Halifax:20250213T173000
DTEND;TZID=America/Halifax:20250213T203000
DTSTAMP:20260419T163019
CREATED:20241227T161236Z
LAST-MODIFIED:20241227T161236Z
UID:20183-1739467800-1739478600@oakcitybrewingcompany.com
SUMMARY:Not Just A Fry Guy
DESCRIPTION:Gourmet\, Loaded\, Fresh Cut Fries. Homemade sauces made w/ fresh ingredients! The whole truck is Gluten Free!
URL:https://oakcitybrewingcompany.com/event/not-just-a-fry-guy-2-2025-02-13/
CATEGORIES:Food Trucks
ATTACH;FMTTYPE=image/png:https://oakcitybrewingcompany.com/wp-content/uploads/2024/12/Screenshot-2024-12-27-at-11.14.31-AM.png
END:VEVENT
BEGIN:VEVENT
DTSTART;TZID=America/Halifax:20250212T183000
DTEND;TZID=America/Halifax:20250212T193000
DTSTAMP:20260419T163019
CREATED:20230622T143255Z
LAST-MODIFIED:20230622T143255Z
UID:20397-1739385000-1739388600@oakcitybrewingcompany.com
SUMMARY:Beer Run
DESCRIPTION:Join us for a 1.5\, 3\, or 5 mile run or walk through downtown Knightdale\, Knightdale Station Park\, Mingo Creek Trail\, and other areas and landmarks that make our town special with our run club. \nLearn more here: https://oakcitybrewingcompany.com/run-club/ \nRun club meets up at 6:30 pm every Wednesday or 11:30 am every Saturday\, cheers!
URL:https://oakcitybrewingcompany.com/event/beer-run-2024-12-11-2025-02-12/
CATEGORIES:Brewery Events,Weekly Events
ATTACH;FMTTYPE=image/png:https://oakcitybrewingcompany.com/wp-content/uploads/2023/06/Screen-Shot-2023-06-22-at-10.25.57-AM.png
END:VEVENT
BEGIN:VEVENT
DTSTART;TZID=America/Halifax:20250212T173000
DTEND;TZID=America/Halifax:20250212T203000
DTSTAMP:20260419T163019
CREATED:20241227T160638Z
LAST-MODIFIED:20241227T160638Z
UID:20220-1739381400-1739392200@oakcitybrewingcompany.com
SUMMARY:The Tasty Turkey Que
DESCRIPTION:The Tasty Turkey-Que is famous for its chopped and seasoned turkey barbecue.
URL:https://oakcitybrewingcompany.com/event/the-tasty-turkey-que-2-2025-02-12/
CATEGORIES:Food Trucks
ATTACH;FMTTYPE=image/jpeg:https://oakcitybrewingcompany.com/wp-content/uploads/2022/09/216927439_236514948306576_2229485138571803795_n.jpg
END:VEVENT
BEGIN:VEVENT
DTSTART;TZID=America/Halifax:20250211T173000
DTEND;TZID=America/Halifax:20250211T203000
DTSTAMP:20260419T163019
CREATED:20250107T183820Z
LAST-MODIFIED:20250107T183949Z
UID:20666-1739295000-1739305800@oakcitybrewingcompany.com
SUMMARY:Pizza Marchese
DESCRIPTION:A mobile pizzeria!
URL:https://oakcitybrewingcompany.com/event/pizza-marchese/
CATEGORIES:Food Trucks
ATTACH;FMTTYPE=image/png:https://oakcitybrewingcompany.com/wp-content/uploads/2025/01/Screenshot-2025-01-07-at-1.37.41-PM.png
END:VEVENT
BEGIN:VEVENT
DTSTART;TZID=America/Halifax:20250211T150000
DTEND;TZID=America/Halifax:20250211T220000
DTSTAMP:20260419T163019
CREATED:20241227T170528Z
LAST-MODIFIED:20241227T170528Z
UID:20510-1739286000-1739311200@oakcitybrewingcompany.com
SUMMARY:Pint Night
DESCRIPTION:$1 off pints every Tuesday here at Oak City!
URL:https://oakcitybrewingcompany.com/event/pint-night-50-2025-02-11/
CATEGORIES:Brewery Events,Events
END:VEVENT
BEGIN:VEVENT
DTSTART;VALUE=DATE:20250210
DTEND;VALUE=DATE:20250211
DTSTAMP:20260419T163019
CREATED:20241227T170652Z
LAST-MODIFIED:20241227T170652Z
UID:20612-1739145600-1739231999@oakcitybrewingcompany.com
SUMMARY:No Food Truck - BYOF
DESCRIPTION:
URL:https://oakcitybrewingcompany.com/event/no-food-truck-byof-30-2025-02-10/
CATEGORIES:Food Trucks
END:VEVENT
BEGIN:VEVENT
DTSTART;TZID=America/Halifax:20250209T120000
DTEND;TZID=America/Halifax:20250209T180000
DTSTAMP:20260419T163019
CREATED:20250107T182459Z
LAST-MODIFIED:20250107T182459Z
UID:20655-1739102400-1739124000@oakcitybrewingcompany.com
SUMMARY:St. Vicent Spanish Cuisine
DESCRIPTION:Spanish food with traditional dishes like croquetas and seafood paella.
URL:https://oakcitybrewingcompany.com/event/st-vicent-spanish-cuisine-2-2025-02-09/
CATEGORIES:Food Trucks
ATTACH;FMTTYPE=image/png:https://oakcitybrewingcompany.com/wp-content/uploads/2025/01/Screenshot-2025-01-07-at-1.23.47-PM.png
END:VEVENT
END:VCALENDAR