BEGIN:VCALENDAR
VERSION:2.0
PRODID:-//Oak City Brewing Company - ECPv6.15.20//NONSGML v1.0//EN
CALSCALE:GREGORIAN
METHOD:PUBLISH
X-WR-CALNAME:Oak City Brewing Company
X-ORIGINAL-URL:https://oakcitybrewingcompany.com
X-WR-CALDESC:Events for Oak City Brewing Company
REFRESH-INTERVAL;VALUE=DURATION:PT1H
X-Robots-Tag:noindex
X-PUBLISHED-TTL:PT1H
BEGIN:VTIMEZONE
TZID:America/Halifax
BEGIN:DAYLIGHT
TZOFFSETFROM:-0400
TZOFFSETTO:-0300
TZNAME:ADT
DTSTART:20230312T060000
END:DAYLIGHT
BEGIN:STANDARD
TZOFFSETFROM:-0300
TZOFFSETTO:-0400
TZNAME:AST
DTSTART:20231105T050000
END:STANDARD
BEGIN:DAYLIGHT
TZOFFSETFROM:-0400
TZOFFSETTO:-0300
TZNAME:ADT
DTSTART:20240310T060000
END:DAYLIGHT
BEGIN:STANDARD
TZOFFSETFROM:-0300
TZOFFSETTO:-0400
TZNAME:AST
DTSTART:20241103T050000
END:STANDARD
BEGIN:DAYLIGHT
TZOFFSETFROM:-0400
TZOFFSETTO:-0300
TZNAME:ADT
DTSTART:20250309T060000
END:DAYLIGHT
BEGIN:STANDARD
TZOFFSETFROM:-0300
TZOFFSETTO:-0400
TZNAME:AST
DTSTART:20251102T050000
END:STANDARD
END:VTIMEZONE
BEGIN:VEVENT
DTSTART;TZID=America/Halifax:20240831T160000
DTEND;TZID=America/Halifax:20240831T210000
DTSTAMP:20260421T033441
CREATED:20240425T161127Z
LAST-MODIFIED:20240425T161127Z
UID:19772-1725120000-1725138000@oakcitybrewingcompany.com
SUMMARY:Captains Gastro
DESCRIPTION:Mediterranean Food Truck & Ephessus Bites
URL:https://oakcitybrewingcompany.com/event/captains-gastro-2024-08-31/
CATEGORIES:Food Trucks
ATTACH;FMTTYPE=image/png:https://oakcitybrewingcompany.com/wp-content/uploads/2024/04/Screenshot-2024-04-25-at-11.58.19-AM.png
END:VEVENT
BEGIN:VEVENT
DTSTART;TZID=America/Halifax:20240831T120000
DTEND;TZID=America/Halifax:20240831T150000
DTSTAMP:20260421T033441
CREATED:20240610T151009Z
LAST-MODIFIED:20240830T190934Z
UID:19749-1725105600-1725116400@oakcitybrewingcompany.com
SUMMARY:All On Top Dogz
DESCRIPTION:
URL:https://oakcitybrewingcompany.com/event/tombachi-2024-08-31/
END:VEVENT
BEGIN:VEVENT
DTSTART;TZID=America/Halifax:20240831T113000
DTEND;TZID=America/Halifax:20240831T123000
DTSTAMP:20260421T033441
CREATED:20230622T143640Z
LAST-MODIFIED:20230622T143640Z
UID:18630-1725103800-1725107400@oakcitybrewingcompany.com
SUMMARY:Beer Run
DESCRIPTION:Join us for a 1.5\, 3\, or 5 mile run or walk through downtown Knightdale\, Knightdale Station Park\, Mingo Creek Trail\, and other areas and landmarks that make our town special with our run club. \nLearn more here: https://oakcitybrewingcompany.com/run-club/ \nRun club meets up at 6:30 pm every Wednesday or 11:30 am every Saturday\, cheers! \n 
URL:https://oakcitybrewingcompany.com/event/beer-run-2-2024-08-31/
CATEGORIES:Brewery Events,Weekly Events
ATTACH;FMTTYPE=image/png:https://oakcitybrewingcompany.com/wp-content/uploads/2023/06/Screen-Shot-2023-06-22-at-10.25.57-AM.png
END:VEVENT
BEGIN:VEVENT
DTSTART;TZID=America/Halifax:20240830T173000
DTEND;TZID=America/Halifax:20240830T203000
DTSTAMP:20260421T033441
CREATED:20240411T135141Z
LAST-MODIFIED:20240411T135141Z
UID:19544-1725039000-1725049800@oakcitybrewingcompany.com
SUMMARY:T-N-T Fish & Chicken
DESCRIPTION:A full family-run operation\, that specializes in Seafood and Comfort food. “Once you try us\, your family forever.”
URL:https://oakcitybrewingcompany.com/event/t-n-t-fish-chicken-2024-08-30/
CATEGORIES:Food Trucks
ATTACH;FMTTYPE=image/png:https://oakcitybrewingcompany.com/wp-content/uploads/2024/04/Screenshot-2024-04-11-at-9.47.22-AM.png
END:VEVENT
BEGIN:VEVENT
DTSTART;TZID=America/Halifax:20240829T173000
DTEND;TZID=America/Halifax:20240829T203000
DTSTAMP:20260421T033441
CREATED:20230411T144336Z
LAST-MODIFIED:20240514T140731Z
UID:19256-1724952600-1724963400@oakcitybrewingcompany.com
SUMMARY:Off the Hog
DESCRIPTION:Off the hog serve good old-fashioned traditional smoked meats using a variety of hardwoods and coals.
URL:https://oakcitybrewingcompany.com/event/off-the-hog-2024-08-29/
CATEGORIES:Food Trucks
ATTACH;FMTTYPE=image/png:https://oakcitybrewingcompany.com/wp-content/uploads/2023/04/Screen-Shot-2023-04-11-at-10.38.53-AM.png
END:VEVENT
BEGIN:VEVENT
DTSTART;TZID=America/Halifax:20240828T183000
DTEND;TZID=America/Halifax:20240828T193000
DTSTAMP:20260421T033441
CREATED:20230622T143255Z
LAST-MODIFIED:20230622T143255Z
UID:18708-1724869800-1724873400@oakcitybrewingcompany.com
SUMMARY:Beer Run
DESCRIPTION:Join us for a 1.5\, 3\, or 5 mile run or walk through downtown Knightdale\, Knightdale Station Park\, Mingo Creek Trail\, and other areas and landmarks that make our town special with our run club. \nLearn more here: https://oakcitybrewingcompany.com/run-club/ \nRun club meets up at 6:30 pm every Wednesday or 11:30 am every Saturday\, cheers!
URL:https://oakcitybrewingcompany.com/event/beer-run-2024-08-28/
CATEGORIES:Brewery Events,Weekly Events
ATTACH;FMTTYPE=image/png:https://oakcitybrewingcompany.com/wp-content/uploads/2023/06/Screen-Shot-2023-06-22-at-10.25.57-AM.png
END:VEVENT
BEGIN:VEVENT
DTSTART;TZID=America/Halifax:20240828T173000
DTEND;TZID=America/Halifax:20240828T203000
DTSTAMP:20260421T033441
CREATED:20220830T215212Z
LAST-MODIFIED:20220830T215212Z
UID:19121-1724866200-1724877000@oakcitybrewingcompany.com
SUMMARY:Bulkogi
DESCRIPTION:Authentic Korean BBQ with a yummy twist! Food prepared with love & care that can be felt in each bite. Come hungry & leave with more than just full tummy!
URL:https://oakcitybrewingcompany.com/event/bulkogi-12-2024-08-28/
CATEGORIES:Food Trucks
ATTACH;FMTTYPE=image/jpeg:https://oakcitybrewingcompany.com/wp-content/uploads/2020/01/10336733_570882016365515_5501550790059477710_n.jpg
END:VEVENT
BEGIN:VEVENT
DTSTART;TZID=America/Halifax:20240827T173000
DTEND;TZID=America/Halifax:20240827T173000
DTSTAMP:20260421T033441
CREATED:20240125T163947Z
LAST-MODIFIED:20240125T163947Z
UID:19396-1724779800-1724779800@oakcitybrewingcompany.com
SUMMARY:D's Presto
DESCRIPTION:Committed to deliver my love of cooking that will satisfy your appetite.
URL:https://oakcitybrewingcompany.com/event/ds-presto-2-2024-08-27/
CATEGORIES:Food Trucks
ATTACH;FMTTYPE=image/png:https://oakcitybrewingcompany.com/wp-content/uploads/2024/01/Screenshot-2024-01-23-at-12.46.23-PM.png
END:VEVENT
BEGIN:VEVENT
DTSTART;TZID=America/Halifax:20240826T173000
DTEND;TZID=America/Halifax:20240826T184500
DTSTAMP:20260421T033441
CREATED:20240611T162722Z
LAST-MODIFIED:20240611T162722Z
UID:19824-1724693400-1724697900@oakcitybrewingcompany.com
SUMMARY:Bootcamp Workout
DESCRIPTION:Come workout with Outside The Box Fitness at Oak City Brewing Company! This is a 60 minute\, bootcamp style workout\, for all fitness levels.\nRegistration Required Here: https://otbfitness.pushpress.com/landing/events/cal-85fa8d87-7152-4647-b940-dbfb/login\n\nClick “See More Details” after registering and submit your current fitness level information so I can partner you with the right group if we have partner work for this workout.\n\nWhen: Monday July 15th\, 2024Show Up Time: 5:30-5:40 PMWorkout Starts: 5:45 PMWorkout Ends: 6:45 PMSocial After: 6:45 PM\n\n*By participating in any of the activities Outside The Box Fitness offers and by submitting this form you recognize the inherit risk with them and release all affiliates\, trainers\, coaches\, participants\, partners and facilities from all liability. You accept ALL liability while participating in any exercises or activities. By registering you also accept the Terms and Conditions\, the Privacy Policy\, and the Photo Release
URL:https://oakcitybrewingcompany.com/event/bootcamp-workout-2024-08-26/
CATEGORIES:Brewery Events,Events,Weekly Events
END:VEVENT
BEGIN:VEVENT
DTSTART;TZID=America/Halifax:20240826T170000
DTEND;TZID=America/Halifax:20240826T200000
DTSTAMP:20260421T033441
CREATED:20240722T123707Z
LAST-MODIFIED:20240722T123707Z
UID:19833-1724691600-1724702400@oakcitybrewingcompany.com
SUMMARY:Mr. Guacs Tacos
DESCRIPTION:Authentic Mexican Food.
URL:https://oakcitybrewingcompany.com/event/mr-guacs-tacos-2024-08-26/
CATEGORIES:Food Trucks
ATTACH;FMTTYPE=image/png:https://oakcitybrewingcompany.com/wp-content/uploads/2024/07/Screenshot-2024-07-22-at-8.35.13-AM.png
END:VEVENT
BEGIN:VEVENT
DTSTART;TZID=America/Halifax:20240825T140000
DTEND;TZID=America/Halifax:20240825T180000
DTSTAMP:20260421T033441
CREATED:20230126T180317Z
LAST-MODIFIED:20240514T140009Z
UID:19073-1724594400-1724608800@oakcitybrewingcompany.com
SUMMARY:Warehouse BBQ
DESCRIPTION:Warehouse BBQ\, where the legacy continues\, and every dish is a testament to the “love” that is infused into every bite.
URL:https://oakcitybrewingcompany.com/event/wild-mojo-2023-12-11-2024-08-25/
CATEGORIES:Food Trucks
ATTACH;FMTTYPE=image/png:https://oakcitybrewingcompany.com/wp-content/uploads/2023/01/Screenshot-2024-05-14-at-9.58.26-AM.png
END:VEVENT
BEGIN:VEVENT
DTSTART;TZID=America/Halifax:20240824T170000
DTEND;TZID=America/Halifax:20240824T200000
DTSTAMP:20260421T033441
CREATED:20240824T151603Z
LAST-MODIFIED:20240824T151603Z
UID:19866-1724518800-1724529600@oakcitybrewingcompany.com
SUMMARY:Creamed NC
DESCRIPTION:A unique twist to premium ice cream with cereal flavors! 
URL:https://oakcitybrewingcompany.com/event/creamed-nc/
CATEGORIES:Food Trucks
ATTACH;FMTTYPE=image/png:https://oakcitybrewingcompany.com/wp-content/uploads/2024/06/Screenshot-2024-06-11-at-10.50.11-AM.png
END:VEVENT
BEGIN:VEVENT
DTSTART;TZID=America/Halifax:20240824T160000
DTEND;TZID=America/Halifax:20240824T210000
DTSTAMP:20260421T033441
CREATED:20220816T114537Z
LAST-MODIFIED:20220816T114537Z
UID:19145-1724515200-1724533200@oakcitybrewingcompany.com
SUMMARY:Bertos Chimis
DESCRIPTION:What is a chimi? A Chimi is a sauce-dripping hamburger served throughout the streets of Dominican Republic. An iconic sandwich served from lunch till late night\, that will satisfy your tastebuds day in\, day out.
URL:https://oakcitybrewingcompany.com/event/bertos-chimis-2-2024-08-24/
CATEGORIES:Food Trucks
ATTACH;FMTTYPE=image/jpeg:https://oakcitybrewingcompany.com/wp-content/uploads/2022/08/131890676_207085377570891_5623458210479334688_n.jpg
END:VEVENT
BEGIN:VEVENT
DTSTART;TZID=America/Halifax:20240824T120000
DTEND;TZID=America/Halifax:20240824T150000
DTSTAMP:20260421T033441
CREATED:20240401T124518Z
LAST-MODIFIED:20240401T124518Z
UID:19525-1724500800-1724511600@oakcitybrewingcompany.com
SUMMARY:Coney Island NC
DESCRIPTION:They sell specialty hot dogs\, hamburgers\, chili\, nachos\, curly fries\, shoe string fries\, tenders\, popcorn chicken\, mozzarella sticks\, and have kids meals.
URL:https://oakcitybrewingcompany.com/event/coney-island-nc-2024-08-24/
CATEGORIES:Food Trucks
END:VEVENT
BEGIN:VEVENT
DTSTART;TZID=America/Halifax:20240824T113000
DTEND;TZID=America/Halifax:20240824T123000
DTSTAMP:20260421T033441
CREATED:20230622T143640Z
LAST-MODIFIED:20240722T125102Z
UID:18629-1724499000-1724502600@oakcitybrewingcompany.com
SUMMARY:Beer Run
DESCRIPTION:Join us for a 1.5\, 3\, or 5 mile run or walk through downtown Knightdale\, Knightdale Station Park\, Mingo Creek Trail\, and other areas and landmarks that make our town special with our run club. \nLearn more here: https://oakcitybrewingcompany.com/run-club/ \nRun club meets up at 6:30 pm every Wednesday or 11:30 am every Saturday\, cheers! \n 
URL:https://oakcitybrewingcompany.com/event/beer-run-2-2024-08-24/
CATEGORIES:Brewery Events,Weekly Events
ATTACH;FMTTYPE=image/png:https://oakcitybrewingcompany.com/wp-content/uploads/2023/06/Screen-Shot-2023-06-22-at-10.25.57-AM.png
END:VEVENT
BEGIN:VEVENT
DTSTART;VALUE=DATE:20240824
DTEND;VALUE=DATE:20240825
DTSTAMP:20260421T033441
CREATED:20240722T124723Z
LAST-MODIFIED:20240724T134450Z
UID:19836-1724457600-1724543999@oakcitybrewingcompany.com
SUMMARY:Hops for Hope Beer Release Party
DESCRIPTION:Join us and our friends over at Veradigm on August 24th from 5-8 PM and try our specially curated Cherry Limeade Sour\, enjoy live music\, and help raise money for #HopsForHope and #ChildrensFlightofHope! \n. \nThis brew will go on tap at 5 PM\, so get ready! OCBC will donate $1 per Sugar Rush sold plus\, Veradigm is also matching every donation made: https://benevityapp.page.link/TmTihjujeu6fLCDv9 \n. \nNew Beer: Specialty release @ 5 PM \nMusic: TBA \nFood Trucks: Bertos & Creamed \n. \nChildren’s Flight of Hope (CFOH) provides flights to specialized medical care for children in need. Check out the links below for more ways to donate and get involved. \nLearn more: https://www.childrensflightofhope.org/events/hops-for-hope
URL:https://oakcitybrewingcompany.com/event/hops-for-hope-beer-release-party/
CATEGORIES:Brewery Events,Events,Weekly Events
ATTACH;FMTTYPE=image/png:https://oakcitybrewingcompany.com/wp-content/uploads/2024/07/H4H-Event-Flyer.png
END:VEVENT
BEGIN:VEVENT
DTSTART;TZID=America/Halifax:20240823T173000
DTEND;TZID=America/Halifax:20240823T203000
DTSTAMP:20260421T033441
CREATED:20220824T113326Z
LAST-MODIFIED:20240425T161252Z
UID:18902-1724434200-1724445000@oakcitybrewingcompany.com
SUMMARY:Chick-N-Que
DESCRIPTION:The best Eastern style BBQ NC has to offer. We also serve 100% NC raised ostrich burgers along with mouth watering sides. Chick-N-Que is a multi mobile food truck & catering business serving Wake County and surrounding areas. With our guarded family recipe\, Chick-N-Que has a unique\, savory taste that stands out as some of the best barbecue around.
URL:https://oakcitybrewingcompany.com/event/chick-n-que-52-2023-01-27-2023-12-18-2024-08-23/
CATEGORIES:Food Trucks
ATTACH;FMTTYPE=image/jpeg:https://oakcitybrewingcompany.com/wp-content/uploads/2019/10/40683703_1781242268659131_3875899713362329600_n.jpg
END:VEVENT
BEGIN:VEVENT
DTSTART;TZID=America/Halifax:20240822T173000
DTEND;TZID=America/Halifax:20240822T203000
DTSTAMP:20260421T033441
CREATED:20220816T160505Z
LAST-MODIFIED:20220816T160505Z
UID:18989-1724347800-1724358600@oakcitybrewingcompany.com
SUMMARY:Tacos Neza
DESCRIPTION:
URL:https://oakcitybrewingcompany.com/event/tacos-neza-4-2024-08-22/
CATEGORIES:Food Trucks
ATTACH;FMTTYPE=image/jpeg:https://oakcitybrewingcompany.com/wp-content/uploads/2022/08/288475272_543179494124910_8462946235973782313_n.jpg
END:VEVENT
BEGIN:VEVENT
DTSTART;TZID=America/Halifax:20240821T183000
DTEND;TZID=America/Halifax:20240821T193000
DTSTAMP:20260421T033441
CREATED:20230622T143255Z
LAST-MODIFIED:20230622T143255Z
UID:18707-1724265000-1724268600@oakcitybrewingcompany.com
SUMMARY:Beer Run
DESCRIPTION:Join us for a 1.5\, 3\, or 5 mile run or walk through downtown Knightdale\, Knightdale Station Park\, Mingo Creek Trail\, and other areas and landmarks that make our town special with our run club. \nLearn more here: https://oakcitybrewingcompany.com/run-club/ \nRun club meets up at 6:30 pm every Wednesday or 11:30 am every Saturday\, cheers!
URL:https://oakcitybrewingcompany.com/event/beer-run-2024-08-21/
CATEGORIES:Brewery Events,Weekly Events
ATTACH;FMTTYPE=image/png:https://oakcitybrewingcompany.com/wp-content/uploads/2023/06/Screen-Shot-2023-06-22-at-10.25.57-AM.png
END:VEVENT
BEGIN:VEVENT
DTSTART;TZID=America/Halifax:20240821T173000
DTEND;TZID=America/Halifax:20240821T203000
DTSTAMP:20260421T033441
CREATED:20220916T103300Z
LAST-MODIFIED:20220916T103300Z
UID:19422-1724261400-1724272200@oakcitybrewingcompany.com
SUMMARY:Jessica's Food Truck
DESCRIPTION:
URL:https://oakcitybrewingcompany.com/event/jessicas-food-truck-22-2023-02-25-2024-08-21/
CATEGORIES:Food Trucks
ATTACH;FMTTYPE=image/jpeg:https://oakcitybrewingcompany.com/wp-content/uploads/2022/09/301548167_171520468736524_3664133766732670901_n.jpg
END:VEVENT
BEGIN:VEVENT
DTSTART;TZID=America/Halifax:20240820T173000
DTEND;TZID=America/Halifax:20240820T203000
DTSTAMP:20260421T033441
CREATED:20220816T223305Z
LAST-MODIFIED:20220816T223305Z
UID:18852-1724175000-1724185800@oakcitybrewingcompany.com
SUMMARY:The Greek Goat
DESCRIPTION:Bringing your favorite Greek street food to Raleigh and the surrounding area. Greek Done Right!
URL:https://oakcitybrewingcompany.com/event/the-greek-goat-2024-08-20/
CATEGORIES:Food Trucks
ATTACH;FMTTYPE=image/png:https://oakcitybrewingcompany.com/wp-content/uploads/2022/08/294719080_358949019756141_4432516889414215207_n.png
END:VEVENT
BEGIN:VEVENT
DTSTART;TZID=America/Halifax:20240819T080000
DTEND;TZID=America/Halifax:20240819T170000
DTSTAMP:20260421T033441
CREATED:20240722T123821Z
LAST-MODIFIED:20240722T123821Z
UID:19832-1724054400-1724086800@oakcitybrewingcompany.com
SUMMARY:No Food Truck - BYOF
DESCRIPTION:
URL:https://oakcitybrewingcompany.com/event/no-food-truck-byof-26-2024-08-19/
CATEGORIES:Food Trucks
END:VEVENT
BEGIN:VEVENT
DTSTART;TZID=America/Halifax:20240818T140000
DTEND;TZID=America/Halifax:20240818T180000
DTSTAMP:20260421T033441
CREATED:20220911T152736Z
LAST-MODIFIED:20220911T152736Z
UID:19085-1723989600-1724004000@oakcitybrewingcompany.com
SUMMARY:Moonrunners
DESCRIPTION:
URL:https://oakcitybrewingcompany.com/event/moonrunners-8-2024-08-18/
CATEGORIES:Food Trucks
ATTACH;FMTTYPE=image/jpeg:https://oakcitybrewingcompany.com/wp-content/uploads/2022/09/289540378_1421580884982878_5619351370244390677_n.jpg
END:VEVENT
BEGIN:VEVENT
DTSTART;TZID=America/Halifax:20240817T160000
DTEND;TZID=America/Halifax:20240817T210000
DTSTAMP:20260421T033441
CREATED:20220816T150752Z
LAST-MODIFIED:20240510T160915Z
UID:19276-1723910400-1723928400@oakcitybrewingcompany.com
SUMMARY:Dubz Grub
DESCRIPTION:Dubz Grub is more than just a food truck\, it is a dream come true for Robert and Adrienne Wilkinson.  We have over 30 years of experience in the food industry and finally decided to take a risk and follow our passions. Our Mission is to be professional\, reliable and bring delicious\, quality homemade food to your business or catered events.
URL:https://oakcitybrewingcompany.com/event/dubz-grub-3-2023-02-18-2024-08-17/
CATEGORIES:Food Trucks
ATTACH;FMTTYPE=image/png:https://oakcitybrewingcompany.com/wp-content/uploads/2022/08/Snacken-01.png
END:VEVENT
BEGIN:VEVENT
DTSTART;TZID=America/Halifax:20240817T120000
DTEND;TZID=America/Halifax:20240817T150000
DTSTAMP:20260421T033441
CREATED:20220915T101018Z
LAST-MODIFIED:20220915T101018Z
UID:18930-1723896000-1723906800@oakcitybrewingcompany.com
SUMMARY:The Tasty Turkey-Que
DESCRIPTION:Chopped turkey barbecue.
URL:https://oakcitybrewingcompany.com/event/the-tasty-turkey-que-2024-08-17/
CATEGORIES:Food Trucks
ATTACH;FMTTYPE=image/jpeg:https://oakcitybrewingcompany.com/wp-content/uploads/2022/09/216927439_236514948306576_2229485138571803795_n.jpg
END:VEVENT
BEGIN:VEVENT
DTSTART;TZID=America/Halifax:20240817T113000
DTEND;TZID=America/Halifax:20240817T123000
DTSTAMP:20260421T033441
CREATED:20230622T143640Z
LAST-MODIFIED:20230622T143640Z
UID:18628-1723894200-1723897800@oakcitybrewingcompany.com
SUMMARY:Beer Run
DESCRIPTION:Join us for a 1.5\, 3\, or 5 mile run or walk through downtown Knightdale\, Knightdale Station Park\, Mingo Creek Trail\, and other areas and landmarks that make our town special with our run club. \nLearn more here: https://oakcitybrewingcompany.com/run-club/ \nRun club meets up at 6:30 pm every Wednesday or 11:30 am every Saturday\, cheers! \n 
URL:https://oakcitybrewingcompany.com/event/beer-run-2-2024-08-17/
CATEGORIES:Brewery Events,Weekly Events
ATTACH;FMTTYPE=image/png:https://oakcitybrewingcompany.com/wp-content/uploads/2023/06/Screen-Shot-2023-06-22-at-10.25.57-AM.png
END:VEVENT
BEGIN:VEVENT
DTSTART;TZID=America/Halifax:20240816T173000
DTEND;TZID=America/Halifax:20240816T203000
DTSTAMP:20260421T033441
CREATED:20220816T171952Z
LAST-MODIFIED:20220816T171952Z
UID:18942-1723829400-1723840200@oakcitybrewingcompany.com
SUMMARY:The Naked Empanada
DESCRIPTION:The Naked Empanada was the lifelong dream and now passion of Roy Thombs. Roy\, who is better known to friends and family as Fuzzy\, began his culinary journey at fifteen years old in Morganton\, NC. Never shying away from hard work and the opportunity to learn\, Roy worked his way from a dishwasher at Shoney’s to a degree from the prestigious Johnson & Wales University. It was during this time at Johnson & Wales that Roy interned at the highly acclaimed Grove Park Inn in Asheville\, NC. While interning at Grove Park Inn\, Roy’s passion for the culinary arts and a culture of service was truly sparked. From Johnson & Wales\, Roy went on to work for a number of corporate restaurant groups where he transitioned into operations management roles. Eventually\, he moved from operations to administration and served in corporate human resources for a large national chain restaurant\, where he spent fifteen years. \nIt wasn’t until 2013\, when a corporate realignment was pushing for a relocation\, potentially uprooting his family\, that Roy was fully able to rekindle the same ember that was sparked during his time at Johnson & Wales interning at Grove Park Inn. The choice was not easy to leave the comfort of a stable career to pursue the entrepreneurial dream which had been brewing for years\, but it also felt like an opportunity that could not be denied. Through extensive research\, trial and error\, feedback from friends and family\, Roy carefully hand-crafted the concept that launched in 2015 with his food truck offering fresh\, locally sourced and delicious handmade empanadas. It was clear from the start that a lifetime of focus in culinary arts\, customer service and operations had molded itself into a business that was an instant success. \nAs The Naked Empanada continues to grow and thrive\, we know that our success is driven by our customers. That is why we dedicate every day to ensuring that every empanada and every experience with our customers is cared for by each of our team members. This is a labor of love that is fueled by the smiles and enjoyment of every person who bites into the food that we prepare and says\, “Wow\, that’s sooo good!!”
URL:https://oakcitybrewingcompany.com/event/the-naked-empanada-2024-08-16/
CATEGORIES:Food Trucks
ATTACH;FMTTYPE=image/jpeg:https://oakcitybrewingcompany.com/wp-content/uploads/2022/08/277675892_657482668566589_7822163364397964254_n.jpg
END:VEVENT
BEGIN:VEVENT
DTSTART;TZID=America/Halifax:20240815T173000
DTEND;TZID=America/Halifax:20240815T203000
DTSTAMP:20260421T033441
CREATED:20220826T145242Z
LAST-MODIFIED:20220826T145242Z
UID:19013-1723743000-1723753800@oakcitybrewingcompany.com
SUMMARY:Carolina's Catch
DESCRIPTION:Bringing Seafood from the Carolina’s Coast to the triangle
URL:https://oakcitybrewingcompany.com/event/carolinas-catch-2-2024-08-15/
CATEGORIES:Food Trucks
ATTACH;FMTTYPE=image/jpeg:https://oakcitybrewingcompany.com/wp-content/uploads/2022/08/294160203_760995485243754_5268186503346739086_n.jpg
END:VEVENT
BEGIN:VEVENT
DTSTART;TZID=America/Halifax:20240814T183000
DTEND;TZID=America/Halifax:20240814T193000
DTSTAMP:20260421T033441
CREATED:20230622T143255Z
LAST-MODIFIED:20230622T143255Z
UID:18706-1723660200-1723663800@oakcitybrewingcompany.com
SUMMARY:Beer Run
DESCRIPTION:Join us for a 1.5\, 3\, or 5 mile run or walk through downtown Knightdale\, Knightdale Station Park\, Mingo Creek Trail\, and other areas and landmarks that make our town special with our run club. \nLearn more here: https://oakcitybrewingcompany.com/run-club/ \nRun club meets up at 6:30 pm every Wednesday or 11:30 am every Saturday\, cheers!
URL:https://oakcitybrewingcompany.com/event/beer-run-2024-08-14/
CATEGORIES:Brewery Events,Weekly Events
ATTACH;FMTTYPE=image/png:https://oakcitybrewingcompany.com/wp-content/uploads/2023/06/Screen-Shot-2023-06-22-at-10.25.57-AM.png
END:VEVENT
BEGIN:VEVENT
DTSTART;TZID=America/Halifax:20240814T173000
DTEND;TZID=America/Halifax:20240814T203000
DTSTAMP:20260421T033441
CREATED:20210826T023650Z
LAST-MODIFIED:20240508T144032Z
UID:19214-1723656600-1723667400@oakcitybrewingcompany.com
SUMMARY:Empanadas RD
DESCRIPTION:
URL:https://oakcitybrewingcompany.com/event/empanadas-rd-3-2024-08-14/
CATEGORIES:Food Trucks
ATTACH;FMTTYPE=image/jpeg:https://oakcitybrewingcompany.com/wp-content/uploads/2021/08/8444bc32-02c8-4a30-8d01-9197dfd80106.jpeg
END:VEVENT
END:VCALENDAR