BEGIN:VCALENDAR
VERSION:2.0
PRODID:-//Oak City Brewing Company - ECPv6.15.20//NONSGML v1.0//EN
CALSCALE:GREGORIAN
METHOD:PUBLISH
X-WR-CALNAME:Oak City Brewing Company
X-ORIGINAL-URL:https://oakcitybrewingcompany.com
X-WR-CALDESC:Events for Oak City Brewing Company
REFRESH-INTERVAL;VALUE=DURATION:PT1H
X-Robots-Tag:noindex
X-PUBLISHED-TTL:PT1H
BEGIN:VTIMEZONE
TZID:America/Halifax
BEGIN:DAYLIGHT
TZOFFSETFROM:-0400
TZOFFSETTO:-0300
TZNAME:ADT
DTSTART:20230312T060000
END:DAYLIGHT
BEGIN:STANDARD
TZOFFSETFROM:-0300
TZOFFSETTO:-0400
TZNAME:AST
DTSTART:20231105T050000
END:STANDARD
BEGIN:DAYLIGHT
TZOFFSETFROM:-0400
TZOFFSETTO:-0300
TZNAME:ADT
DTSTART:20240310T060000
END:DAYLIGHT
BEGIN:STANDARD
TZOFFSETFROM:-0300
TZOFFSETTO:-0400
TZNAME:AST
DTSTART:20241103T050000
END:STANDARD
BEGIN:DAYLIGHT
TZOFFSETFROM:-0400
TZOFFSETTO:-0300
TZNAME:ADT
DTSTART:20250309T060000
END:DAYLIGHT
BEGIN:STANDARD
TZOFFSETFROM:-0300
TZOFFSETTO:-0400
TZNAME:AST
DTSTART:20251102T050000
END:STANDARD
END:VTIMEZONE
BEGIN:VEVENT
DTSTART;TZID=America/Halifax:20240820T173000
DTEND;TZID=America/Halifax:20240820T203000
DTSTAMP:20260421T061559
CREATED:20220816T223305Z
LAST-MODIFIED:20220816T223305Z
UID:18852-1724175000-1724185800@oakcitybrewingcompany.com
SUMMARY:The Greek Goat
DESCRIPTION:Bringing your favorite Greek street food to Raleigh and the surrounding area. Greek Done Right!
URL:https://oakcitybrewingcompany.com/event/the-greek-goat-2024-08-20/
CATEGORIES:Food Trucks
ATTACH;FMTTYPE=image/png:https://oakcitybrewingcompany.com/wp-content/uploads/2022/08/294719080_358949019756141_4432516889414215207_n.png
END:VEVENT
BEGIN:VEVENT
DTSTART;TZID=America/Halifax:20240819T080000
DTEND;TZID=America/Halifax:20240819T170000
DTSTAMP:20260421T061559
CREATED:20240722T123821Z
LAST-MODIFIED:20240722T123821Z
UID:19832-1724054400-1724086800@oakcitybrewingcompany.com
SUMMARY:No Food Truck - BYOF
DESCRIPTION:
URL:https://oakcitybrewingcompany.com/event/no-food-truck-byof-26-2024-08-19/
CATEGORIES:Food Trucks
END:VEVENT
BEGIN:VEVENT
DTSTART;TZID=America/Halifax:20240818T140000
DTEND;TZID=America/Halifax:20240818T180000
DTSTAMP:20260421T061559
CREATED:20220911T152736Z
LAST-MODIFIED:20220911T152736Z
UID:19085-1723989600-1724004000@oakcitybrewingcompany.com
SUMMARY:Moonrunners
DESCRIPTION:
URL:https://oakcitybrewingcompany.com/event/moonrunners-8-2024-08-18/
CATEGORIES:Food Trucks
ATTACH;FMTTYPE=image/jpeg:https://oakcitybrewingcompany.com/wp-content/uploads/2022/09/289540378_1421580884982878_5619351370244390677_n.jpg
END:VEVENT
BEGIN:VEVENT
DTSTART;TZID=America/Halifax:20240817T160000
DTEND;TZID=America/Halifax:20240817T210000
DTSTAMP:20260421T061559
CREATED:20220816T150752Z
LAST-MODIFIED:20240510T160915Z
UID:19276-1723910400-1723928400@oakcitybrewingcompany.com
SUMMARY:Dubz Grub
DESCRIPTION:Dubz Grub is more than just a food truck\, it is a dream come true for Robert and Adrienne Wilkinson.  We have over 30 years of experience in the food industry and finally decided to take a risk and follow our passions. Our Mission is to be professional\, reliable and bring delicious\, quality homemade food to your business or catered events.
URL:https://oakcitybrewingcompany.com/event/dubz-grub-3-2023-02-18-2024-08-17/
CATEGORIES:Food Trucks
ATTACH;FMTTYPE=image/png:https://oakcitybrewingcompany.com/wp-content/uploads/2022/08/Snacken-01.png
END:VEVENT
BEGIN:VEVENT
DTSTART;TZID=America/Halifax:20240817T120000
DTEND;TZID=America/Halifax:20240817T150000
DTSTAMP:20260421T061559
CREATED:20220915T101018Z
LAST-MODIFIED:20220915T101018Z
UID:18930-1723896000-1723906800@oakcitybrewingcompany.com
SUMMARY:The Tasty Turkey-Que
DESCRIPTION:Chopped turkey barbecue.
URL:https://oakcitybrewingcompany.com/event/the-tasty-turkey-que-2024-08-17/
CATEGORIES:Food Trucks
ATTACH;FMTTYPE=image/jpeg:https://oakcitybrewingcompany.com/wp-content/uploads/2022/09/216927439_236514948306576_2229485138571803795_n.jpg
END:VEVENT
BEGIN:VEVENT
DTSTART;TZID=America/Halifax:20240817T113000
DTEND;TZID=America/Halifax:20240817T123000
DTSTAMP:20260421T061559
CREATED:20230622T143640Z
LAST-MODIFIED:20230622T143640Z
UID:18628-1723894200-1723897800@oakcitybrewingcompany.com
SUMMARY:Beer Run
DESCRIPTION:Join us for a 1.5\, 3\, or 5 mile run or walk through downtown Knightdale\, Knightdale Station Park\, Mingo Creek Trail\, and other areas and landmarks that make our town special with our run club. \nLearn more here: https://oakcitybrewingcompany.com/run-club/ \nRun club meets up at 6:30 pm every Wednesday or 11:30 am every Saturday\, cheers! \n 
URL:https://oakcitybrewingcompany.com/event/beer-run-2-2024-08-17/
CATEGORIES:Brewery Events,Weekly Events
ATTACH;FMTTYPE=image/png:https://oakcitybrewingcompany.com/wp-content/uploads/2023/06/Screen-Shot-2023-06-22-at-10.25.57-AM.png
END:VEVENT
BEGIN:VEVENT
DTSTART;TZID=America/Halifax:20240816T173000
DTEND;TZID=America/Halifax:20240816T203000
DTSTAMP:20260421T061559
CREATED:20220816T171952Z
LAST-MODIFIED:20220816T171952Z
UID:18942-1723829400-1723840200@oakcitybrewingcompany.com
SUMMARY:The Naked Empanada
DESCRIPTION:The Naked Empanada was the lifelong dream and now passion of Roy Thombs. Roy\, who is better known to friends and family as Fuzzy\, began his culinary journey at fifteen years old in Morganton\, NC. Never shying away from hard work and the opportunity to learn\, Roy worked his way from a dishwasher at Shoney’s to a degree from the prestigious Johnson & Wales University. It was during this time at Johnson & Wales that Roy interned at the highly acclaimed Grove Park Inn in Asheville\, NC. While interning at Grove Park Inn\, Roy’s passion for the culinary arts and a culture of service was truly sparked. From Johnson & Wales\, Roy went on to work for a number of corporate restaurant groups where he transitioned into operations management roles. Eventually\, he moved from operations to administration and served in corporate human resources for a large national chain restaurant\, where he spent fifteen years. \nIt wasn’t until 2013\, when a corporate realignment was pushing for a relocation\, potentially uprooting his family\, that Roy was fully able to rekindle the same ember that was sparked during his time at Johnson & Wales interning at Grove Park Inn. The choice was not easy to leave the comfort of a stable career to pursue the entrepreneurial dream which had been brewing for years\, but it also felt like an opportunity that could not be denied. Through extensive research\, trial and error\, feedback from friends and family\, Roy carefully hand-crafted the concept that launched in 2015 with his food truck offering fresh\, locally sourced and delicious handmade empanadas. It was clear from the start that a lifetime of focus in culinary arts\, customer service and operations had molded itself into a business that was an instant success. \nAs The Naked Empanada continues to grow and thrive\, we know that our success is driven by our customers. That is why we dedicate every day to ensuring that every empanada and every experience with our customers is cared for by each of our team members. This is a labor of love that is fueled by the smiles and enjoyment of every person who bites into the food that we prepare and says\, “Wow\, that’s sooo good!!”
URL:https://oakcitybrewingcompany.com/event/the-naked-empanada-2024-08-16/
CATEGORIES:Food Trucks
ATTACH;FMTTYPE=image/jpeg:https://oakcitybrewingcompany.com/wp-content/uploads/2022/08/277675892_657482668566589_7822163364397964254_n.jpg
END:VEVENT
BEGIN:VEVENT
DTSTART;TZID=America/Halifax:20240815T173000
DTEND;TZID=America/Halifax:20240815T203000
DTSTAMP:20260421T061559
CREATED:20220826T145242Z
LAST-MODIFIED:20220826T145242Z
UID:19013-1723743000-1723753800@oakcitybrewingcompany.com
SUMMARY:Carolina's Catch
DESCRIPTION:Bringing Seafood from the Carolina’s Coast to the triangle
URL:https://oakcitybrewingcompany.com/event/carolinas-catch-2-2024-08-15/
CATEGORIES:Food Trucks
ATTACH;FMTTYPE=image/jpeg:https://oakcitybrewingcompany.com/wp-content/uploads/2022/08/294160203_760995485243754_5268186503346739086_n.jpg
END:VEVENT
BEGIN:VEVENT
DTSTART;TZID=America/Halifax:20240814T183000
DTEND;TZID=America/Halifax:20240814T193000
DTSTAMP:20260421T061559
CREATED:20230622T143255Z
LAST-MODIFIED:20230622T143255Z
UID:18706-1723660200-1723663800@oakcitybrewingcompany.com
SUMMARY:Beer Run
DESCRIPTION:Join us for a 1.5\, 3\, or 5 mile run or walk through downtown Knightdale\, Knightdale Station Park\, Mingo Creek Trail\, and other areas and landmarks that make our town special with our run club. \nLearn more here: https://oakcitybrewingcompany.com/run-club/ \nRun club meets up at 6:30 pm every Wednesday or 11:30 am every Saturday\, cheers!
URL:https://oakcitybrewingcompany.com/event/beer-run-2024-08-14/
CATEGORIES:Brewery Events,Weekly Events
ATTACH;FMTTYPE=image/png:https://oakcitybrewingcompany.com/wp-content/uploads/2023/06/Screen-Shot-2023-06-22-at-10.25.57-AM.png
END:VEVENT
BEGIN:VEVENT
DTSTART;TZID=America/Halifax:20240814T173000
DTEND;TZID=America/Halifax:20240814T203000
DTSTAMP:20260421T061559
CREATED:20210826T023650Z
LAST-MODIFIED:20240508T144032Z
UID:19214-1723656600-1723667400@oakcitybrewingcompany.com
SUMMARY:Empanadas RD
DESCRIPTION:
URL:https://oakcitybrewingcompany.com/event/empanadas-rd-3-2024-08-14/
CATEGORIES:Food Trucks
ATTACH;FMTTYPE=image/jpeg:https://oakcitybrewingcompany.com/wp-content/uploads/2021/08/8444bc32-02c8-4a30-8d01-9197dfd80106.jpeg
END:VEVENT
BEGIN:VEVENT
DTSTART;TZID=America/Halifax:20240813T173000
DTEND;TZID=America/Halifax:20240813T203000
DTSTAMP:20260421T061559
CREATED:20231226T154846Z
LAST-MODIFIED:20240514T142225Z
UID:18866-1723570200-1723581000@oakcitybrewingcompany.com
SUMMARY:Big B’s Southern Kitchen
DESCRIPTION:Southern gourmet on the go\, home of the meatloaf melt.
URL:https://oakcitybrewingcompany.com/event/big-bs-southern-kitchen-2024-08-13/
CATEGORIES:Food Trucks
ATTACH;FMTTYPE=image/png:https://oakcitybrewingcompany.com/wp-content/uploads/2023/12/Screenshot-2023-12-26-at-10.42.21-AM.png
END:VEVENT
BEGIN:VEVENT
DTSTART;TZID=America/Halifax:20240812T180000
DTEND;TZID=America/Halifax:20240812T184500
DTSTAMP:20260421T061559
CREATED:20240722T123134Z
LAST-MODIFIED:20240722T123134Z
UID:19821-1723485600-1723488300@oakcitybrewingcompany.com
SUMMARY:Burn Bootcamp Knightdale Pop-up Class
DESCRIPTION:Join us for a FREE Burn Boot Camp Knightdale Pop-Up Class on August 12th! .Experience a challenging 45-minute workout that builds strength and confidence with a social afterward! Sign up here: https://forms.gle/6AKPrhg6CKf9zesn9.Don’t miss out\, bring a mat and water!
URL:https://oakcitybrewingcompany.com/event/burn-bootcamp-knightdale-pop-up-class/
CATEGORIES:Brewery Events,Events,Weekly Events
ATTACH;FMTTYPE=image/png:https://oakcitybrewingcompany.com/wp-content/uploads/2024/07/Burn-Boot-Camp-Knightdale.png
END:VEVENT
BEGIN:VEVENT
DTSTART;TZID=America/Halifax:20240812T173000
DTEND;TZID=America/Halifax:20240812T203000
DTSTAMP:20260421T061559
CREATED:20220824T113326Z
LAST-MODIFIED:20240425T161252Z
UID:18901-1723483800-1723494600@oakcitybrewingcompany.com
SUMMARY:Chick-N-Que
DESCRIPTION:The best Eastern style BBQ NC has to offer. We also serve 100% NC raised ostrich burgers along with mouth watering sides. Chick-N-Que is a multi mobile food truck & catering business serving Wake County and surrounding areas. With our guarded family recipe\, Chick-N-Que has a unique\, savory taste that stands out as some of the best barbecue around.
URL:https://oakcitybrewingcompany.com/event/chick-n-que-52-2023-01-27-2023-12-18-2024-08-12/
CATEGORIES:Food Trucks
ATTACH;FMTTYPE=image/jpeg:https://oakcitybrewingcompany.com/wp-content/uploads/2019/10/40683703_1781242268659131_3875899713362329600_n.jpg
END:VEVENT
BEGIN:VEVENT
DTSTART;TZID=America/Halifax:20240811T140000
DTEND;TZID=America/Halifax:20240811T180000
DTSTAMP:20260421T061559
CREATED:20220915T102427Z
LAST-MODIFIED:20220915T102427Z
UID:19109-1723384800-1723399200@oakcitybrewingcompany.com
SUMMARY:Lobster Dogs
DESCRIPTION:Food truck serving the Best Lobster Rolls & Stuffed Avocados in the Carolinas!
URL:https://oakcitybrewingcompany.com/event/lobster-dogs-3-2024-08-11/
CATEGORIES:Food Trucks
ATTACH;FMTTYPE=image/jpeg:https://oakcitybrewingcompany.com/wp-content/uploads/2022/09/300966759_603356964739835_7012982284719119023_n.jpg
END:VEVENT
BEGIN:VEVENT
DTSTART;TZID=America/Halifax:20240811T140000
DTEND;TZID=America/Halifax:20240811T170000
DTSTAMP:20260421T061559
CREATED:20240531T144238Z
LAST-MODIFIED:20240801T144351Z
UID:19849-1723384800-1723395600@oakcitybrewingcompany.com
SUMMARY:Hammer & Grow: Succulent Bar
DESCRIPTION:Join us for another Sunday Funday on August 11th at 2 PM for our Hammer & Grow: Succulent Bar for a fun planting experience! \nOur succulent bar is an a la carte style\, allowing you to customize your creation. Choose your own pots and select from a variety of beautiful succulents. Once you’ve made your selection\, fill your pots with soil\, rocks\, or pebbles\, and add a personal touch with a topper of your choosing. \nDrop-ins are welcome\, pre-registered participants will receive a $10 credit for permanent jewelry! \nWhether you’re a seasoned plant enthusiast or a curious beginner\, this event promises fun and creativity for everyone. Don’t miss out on this opportunity to craft your own little green masterpiece!
URL:https://oakcitybrewingcompany.com/event/hammer-grow-succulent-bar-2024-08-11/
CATEGORIES:Events,Weekly Events
ATTACH;FMTTYPE=image/png:https://oakcitybrewingcompany.com/wp-content/uploads/2024/05/Hammer-Stain-Class-1.png
END:VEVENT
BEGIN:VEVENT
DTSTART;TZID=America/Halifax:20240810T160000
DTEND;TZID=America/Halifax:20240810T210000
DTSTAMP:20260421T061559
CREATED:20230116T170404Z
LAST-MODIFIED:20230116T170404Z
UID:19165-1723305600-1723323600@oakcitybrewingcompany.com
SUMMARY:Fired Up Pizza & BBQ
DESCRIPTION:Serving wood-fired pizza and bbq. Smokin’ good with Carolina wood.
URL:https://oakcitybrewingcompany.com/event/fired-up-pizza-bbq-2-2024-08-10/
CATEGORIES:Food Trucks
ATTACH;FMTTYPE=image/jpeg:https://oakcitybrewingcompany.com/wp-content/uploads/2023/01/294908699_455773433222203_229099170207648236_n.jpeg
END:VEVENT
BEGIN:VEVENT
DTSTART;TZID=America/Halifax:20240810T120000
DTEND;TZID=America/Halifax:20240810T150000
DTSTAMP:20260421T061559
CREATED:20230116T155025Z
LAST-MODIFIED:20230116T155025Z
UID:19297-1723291200-1723302000@oakcitybrewingcompany.com
SUMMARY:Portable Portugy
DESCRIPTION:Chef Shawn Dagnall brings The Portable Portugy\, NC’s first and only source for Portuguese cuisine.
URL:https://oakcitybrewingcompany.com/event/portable-portugy-2024-08-10/
CATEGORIES:Food Trucks
ATTACH;FMTTYPE=image/png:https://oakcitybrewingcompany.com/wp-content/uploads/2023/01/Screen-Shot-2023-01-16-at-10.45.04-AM.png
END:VEVENT
BEGIN:VEVENT
DTSTART;TZID=America/Halifax:20240810T113000
DTEND;TZID=America/Halifax:20240810T123000
DTSTAMP:20260421T061559
CREATED:20230622T143640Z
LAST-MODIFIED:20230622T143640Z
UID:18627-1723289400-1723293000@oakcitybrewingcompany.com
SUMMARY:Beer Run
DESCRIPTION:Join us for a 1.5\, 3\, or 5 mile run or walk through downtown Knightdale\, Knightdale Station Park\, Mingo Creek Trail\, and other areas and landmarks that make our town special with our run club. \nLearn more here: https://oakcitybrewingcompany.com/run-club/ \nRun club meets up at 6:30 pm every Wednesday or 11:30 am every Saturday\, cheers! \n 
URL:https://oakcitybrewingcompany.com/event/beer-run-2-2024-08-10/
CATEGORIES:Brewery Events,Weekly Events
ATTACH;FMTTYPE=image/png:https://oakcitybrewingcompany.com/wp-content/uploads/2023/06/Screen-Shot-2023-06-22-at-10.25.57-AM.png
END:VEVENT
BEGIN:VEVENT
DTSTART;TZID=America/Halifax:20240809T173000
DTEND;TZID=America/Halifax:20240809T203000
DTSTAMP:20260421T061559
CREATED:20220825T141353Z
LAST-MODIFIED:20240504T133629Z
UID:19060-1723224600-1723235400@oakcitybrewingcompany.com
SUMMARY:Caribbean Kicker
DESCRIPTION:We are a Food Truck that sell Caribbean Fusion with a twist. The food is made with love ❤️ and full of flavor.
URL:https://oakcitybrewingcompany.com/event/caribbean-kicker-3-2024-08-09/
CATEGORIES:Food Trucks
ATTACH;FMTTYPE=image/jpeg:https://oakcitybrewingcompany.com/wp-content/uploads/2022/08/279096638_2125417890949808_6612292007969708448_n.jpg
END:VEVENT
BEGIN:VEVENT
DTSTART;VALUE=DATE:20240808
DTEND;VALUE=DATE:20240809
DTSTAMP:20260421T061559
CREATED:20240808T122827Z
LAST-MODIFIED:20240808T122828Z
UID:19855-1723075200-1723161599@oakcitybrewingcompany.com
SUMMARY:Closed Tonight Due To Severe Weather!
DESCRIPTION:ATTN: We are closed tonight due to severe weather! \n\n\n.\n\n\nWe’ll see you tomorrow\, cheers!
URL:https://oakcitybrewingcompany.com/event/closed-tonight-due-to-severe-weather/
ATTACH;FMTTYPE=image/png:https://oakcitybrewingcompany.com/wp-content/uploads/2024/08/Closed-for-Severe-Weather-1.png
END:VEVENT
BEGIN:VEVENT
DTSTART;TZID=America/Halifax:20240807T183000
DTEND;TZID=America/Halifax:20240807T193000
DTSTAMP:20260421T061559
CREATED:20230622T143255Z
LAST-MODIFIED:20230622T143255Z
UID:18705-1723055400-1723059000@oakcitybrewingcompany.com
SUMMARY:Beer Run
DESCRIPTION:Join us for a 1.5\, 3\, or 5 mile run or walk through downtown Knightdale\, Knightdale Station Park\, Mingo Creek Trail\, and other areas and landmarks that make our town special with our run club. \nLearn more here: https://oakcitybrewingcompany.com/run-club/ \nRun club meets up at 6:30 pm every Wednesday or 11:30 am every Saturday\, cheers!
URL:https://oakcitybrewingcompany.com/event/beer-run-2024-08-07/
CATEGORIES:Brewery Events,Weekly Events
ATTACH;FMTTYPE=image/png:https://oakcitybrewingcompany.com/wp-content/uploads/2023/06/Screen-Shot-2023-06-22-at-10.25.57-AM.png
END:VEVENT
BEGIN:VEVENT
DTSTART;TZID=America/Halifax:20240807T173000
DTEND;TZID=America/Halifax:20240807T203000
DTSTAMP:20260421T061559
CREATED:20220825T131329Z
LAST-MODIFIED:20220825T131329Z
UID:18881-1723051800-1723062600@oakcitybrewingcompany.com
SUMMARY:Chirba Chirba Dumpling
DESCRIPTION:Presents mouthwatering Chinese style dumplings. We are excited to bring you an Asian street fare food truck specializing in Chinese dumplings. After years of dumpling studies through extensive tasting\, pleating and learning secret family recipes\, we have developed a menu that we think you’ll love.
URL:https://oakcitybrewingcompany.com/event/chirba-chirba-dumpling-48-2024-08-07/
CATEGORIES:Food Trucks
ATTACH;FMTTYPE=image/jpeg:https://oakcitybrewingcompany.com/wp-content/uploads/2022/08/300415632_7906269056113354_1802728577223783342_n.jpg
END:VEVENT
BEGIN:VEVENT
DTSTART;TZID=America/Halifax:20240806T170000
DTEND;TZID=America/Halifax:20240806T200000
DTSTAMP:20260421T061559
CREATED:20240411T140406Z
LAST-MODIFIED:20240411T140406Z
UID:19711-1722963600-1722974400@oakcitybrewingcompany.com
SUMMARY:Copperheads Craft Burgers
DESCRIPTION:Uniquely crafted burgers!
URL:https://oakcitybrewingcompany.com/event/copperheads-craft-burgers-2024-08-06/
CATEGORIES:Food Trucks
ATTACH;FMTTYPE=image/png:https://oakcitybrewingcompany.com/wp-content/uploads/2024/04/Screenshot-2024-04-11-at-10.01.30-AM.png
END:VEVENT
BEGIN:VEVENT
DTSTART;TZID=America/Halifax:20240805T080000
DTEND;TZID=America/Halifax:20240805T170000
DTSTAMP:20260421T061559
CREATED:20240722T123821Z
LAST-MODIFIED:20240722T123821Z
UID:19831-1722844800-1722877200@oakcitybrewingcompany.com
SUMMARY:No Food Truck - BYOF
DESCRIPTION:
URL:https://oakcitybrewingcompany.com/event/no-food-truck-byof-26-2024-08-05/
CATEGORIES:Food Trucks
END:VEVENT
BEGIN:VEVENT
DTSTART;TZID=America/Halifax:20240804T140000
DTEND;TZID=America/Halifax:20240804T180000
DTSTAMP:20260421T061559
CREATED:20230309T173542Z
LAST-MODIFIED:20230309T173542Z
UID:19236-1722780000-1722794400@oakcitybrewingcompany.com
SUMMARY:Parker's Hall of Fame Deli & Grill
DESCRIPTION:A local food truck selling burgers\, hotdogs\, sandwiches\, and paninis.
URL:https://oakcitybrewingcompany.com/event/parkers-hall-of-fame-deli-grill-2024-08-04/
CATEGORIES:Food Trucks
ATTACH;FMTTYPE=image/png:https://oakcitybrewingcompany.com/wp-content/uploads/2023/03/Screen-Shot-2023-03-09-at-12.33.28-PM.png
END:VEVENT
BEGIN:VEVENT
DTSTART;TZID=America/Halifax:20240803T160000
DTEND;TZID=America/Halifax:20240803T210000
DTSTAMP:20260421T061559
CREATED:20220830T214644Z
LAST-MODIFIED:20220830T214644Z
UID:19178-1722700800-1722718800@oakcitybrewingcompany.com
SUMMARY:Barone Meatball
DESCRIPTION:
URL:https://oakcitybrewingcompany.com/event/barone-meatball-33-2023-02-04-2024-08-03/
CATEGORIES:Food Trucks
ATTACH;FMTTYPE=image/png:https://oakcitybrewingcompany.com/wp-content/uploads/2022/08/Screen-Shot-2022-12-30-at-10.20.59-AM.png
END:VEVENT
BEGIN:VEVENT
DTSTART;TZID=America/Halifax:20240803T120000
DTEND;TZID=America/Halifax:20240803T150000
DTSTAMP:20260421T061559
CREATED:20240610T151009Z
LAST-MODIFIED:20240610T151009Z
UID:19748-1722686400-1722697200@oakcitybrewingcompany.com
SUMMARY:Tombachi
DESCRIPTION:Raleigh’s first & only Hibachi Food Truck! Serving The Triangle with Fresh\, Fast & Quality Entrees.
URL:https://oakcitybrewingcompany.com/event/tombachi-2024-08-03/
ATTACH;FMTTYPE=image/png:https://oakcitybrewingcompany.com/wp-content/uploads/2024/06/Screenshot-2024-06-10-at-11.07.58-AM.png
END:VEVENT
BEGIN:VEVENT
DTSTART;TZID=America/Halifax:20240803T113000
DTEND;TZID=America/Halifax:20240803T123000
DTSTAMP:20260421T061559
CREATED:20230622T143640Z
LAST-MODIFIED:20230622T143640Z
UID:18626-1722684600-1722688200@oakcitybrewingcompany.com
SUMMARY:Beer Run
DESCRIPTION:Join us for a 1.5\, 3\, or 5 mile run or walk through downtown Knightdale\, Knightdale Station Park\, Mingo Creek Trail\, and other areas and landmarks that make our town special with our run club. \nLearn more here: https://oakcitybrewingcompany.com/run-club/ \nRun club meets up at 6:30 pm every Wednesday or 11:30 am every Saturday\, cheers! \n 
URL:https://oakcitybrewingcompany.com/event/beer-run-2-2024-08-03/
CATEGORIES:Brewery Events,Weekly Events
ATTACH;FMTTYPE=image/png:https://oakcitybrewingcompany.com/wp-content/uploads/2023/06/Screen-Shot-2023-06-22-at-10.25.57-AM.png
END:VEVENT
BEGIN:VEVENT
DTSTART;TZID=America/Halifax:20240802T173000
DTEND;TZID=America/Halifax:20240802T203000
DTSTAMP:20260421T061559
CREATED:20240715T133030Z
LAST-MODIFIED:20240722T124128Z
UID:19801-1722619800-1722630600@oakcitybrewingcompany.com
SUMMARY:First Friday
DESCRIPTION:And we’re back…!\n.\nJoin us Friday\, August 2nd from 5:30-8:30 PM to shop local\, enjoy live music\, and indulge in delicious bites from food trucks.\n.\nSupport small businesses while enjoying craft brews and good vibes!\n.\nMusic By: Adam Pitts\n.\nFood Trucks: Caribbean Kicker\, Not Just Icing & Souls Kitchen\n.\nAdded Fun: Ah! Fairy Hair\nFace Painting by Fantasy Dream Facepaint\n.\nSmall Business Vendors:\nKree’s Flowers\nAlternative Wax\nWyman’s Chocolates and Smoked Cheese\nDesigns by Donna\nSweet Nothings bakery\nAwaken NC LLC\nBlue Barn Woodcrafts LLC\nLunae\nOak City Hot Sauce Co\nPup Pastry\nKelsey O’Brien Designs\nNeva Scanlon Design\nHill Hippie Goods&Farm
URL:https://oakcitybrewingcompany.com/event/first-friday-13/
CATEGORIES:Brewery Events,Events,Weekly Events
ATTACH;FMTTYPE=image/png:https://oakcitybrewingcompany.com/wp-content/uploads/2024/07/August-FF-1.png
END:VEVENT
BEGIN:VEVENT
DTSTART;TZID=America/Halifax:20240802T173000
DTEND;TZID=America/Halifax:20240802T203000
DTSTAMP:20260421T061559
CREATED:20220816T032306Z
LAST-MODIFIED:20240729T131545Z
UID:19248-1722619800-1722630600@oakcitybrewingcompany.com
SUMMARY:Caribbean Kicker\, Not Just Icing & The Tasty Turkey-Que
DESCRIPTION:
URL:https://oakcitybrewingcompany.com/event/the-flat-drum-3-2024-08-02/
CATEGORIES:Food Trucks
END:VEVENT
END:VCALENDAR