BEGIN:VCALENDAR
VERSION:2.0
PRODID:-//Oak City Brewing Company - ECPv6.15.20//NONSGML v1.0//EN
CALSCALE:GREGORIAN
METHOD:PUBLISH
X-WR-CALNAME:Oak City Brewing Company
X-ORIGINAL-URL:https://oakcitybrewingcompany.com
X-WR-CALDESC:Events for Oak City Brewing Company
REFRESH-INTERVAL;VALUE=DURATION:PT1H
X-Robots-Tag:noindex
X-PUBLISHED-TTL:PT1H
BEGIN:VTIMEZONE
TZID:America/Halifax
BEGIN:DAYLIGHT
TZOFFSETFROM:-0400
TZOFFSETTO:-0300
TZNAME:ADT
DTSTART:20230312T060000
END:DAYLIGHT
BEGIN:STANDARD
TZOFFSETFROM:-0300
TZOFFSETTO:-0400
TZNAME:AST
DTSTART:20231105T050000
END:STANDARD
BEGIN:DAYLIGHT
TZOFFSETFROM:-0400
TZOFFSETTO:-0300
TZNAME:ADT
DTSTART:20240310T060000
END:DAYLIGHT
BEGIN:STANDARD
TZOFFSETFROM:-0300
TZOFFSETTO:-0400
TZNAME:AST
DTSTART:20241103T050000
END:STANDARD
BEGIN:DAYLIGHT
TZOFFSETFROM:-0400
TZOFFSETTO:-0300
TZNAME:ADT
DTSTART:20250309T060000
END:DAYLIGHT
BEGIN:STANDARD
TZOFFSETFROM:-0300
TZOFFSETTO:-0400
TZNAME:AST
DTSTART:20251102T050000
END:STANDARD
END:VTIMEZONE
BEGIN:VEVENT
DTSTART;TZID=America/Halifax:20240801T173000
DTEND;TZID=America/Halifax:20240801T203000
DTSTAMP:20260423T081943
CREATED:20220824T120403Z
LAST-MODIFIED:20220824T120403Z
UID:19036-1722533400-1722544200@oakcitybrewingcompany.com
SUMMARY:Not Just A Fry Guy
DESCRIPTION:
URL:https://oakcitybrewingcompany.com/event/not-just-a-fry-guy-2024-08-01/
CATEGORIES:Food Trucks
ATTACH;FMTTYPE=image/jpeg:https://oakcitybrewingcompany.com/wp-content/uploads/2022/08/283540834_555973096053598_4434455661131209924_n.jpg
END:VEVENT
BEGIN:VEVENT
DTSTART;TZID=America/Halifax:20240731T183000
DTEND;TZID=America/Halifax:20240731T193000
DTSTAMP:20260423T081943
CREATED:20230622T143255Z
LAST-MODIFIED:20230622T143255Z
UID:18704-1722450600-1722454200@oakcitybrewingcompany.com
SUMMARY:Beer Run
DESCRIPTION:Join us for a 1.5\, 3\, or 5 mile run or walk through downtown Knightdale\, Knightdale Station Park\, Mingo Creek Trail\, and other areas and landmarks that make our town special with our run club. \nLearn more here: https://oakcitybrewingcompany.com/run-club/ \nRun club meets up at 6:30 pm every Wednesday or 11:30 am every Saturday\, cheers!
URL:https://oakcitybrewingcompany.com/event/beer-run-2024-07-31/
CATEGORIES:Brewery Events,Weekly Events
ATTACH;FMTTYPE=image/png:https://oakcitybrewingcompany.com/wp-content/uploads/2023/06/Screen-Shot-2023-06-22-at-10.25.57-AM.png
END:VEVENT
BEGIN:VEVENT
DTSTART;TZID=America/Halifax:20240731T173000
DTEND;TZID=America/Halifax:20240731T203000
DTSTAMP:20260423T081943
CREATED:20220916T103300Z
LAST-MODIFIED:20240130T150724Z
UID:19311-1722447000-1722457800@oakcitybrewingcompany.com
SUMMARY:Jessica's Food Truck
DESCRIPTION:
URL:https://oakcitybrewingcompany.com/event/jessicas-food-truck-22-2023-02-25-2024-07-31/
CATEGORIES:Food Trucks
ATTACH;FMTTYPE=image/jpeg:https://oakcitybrewingcompany.com/wp-content/uploads/2022/09/301548167_171520468736524_3664133766732670901_n.jpg
END:VEVENT
BEGIN:VEVENT
DTSTART;TZID=America/Halifax:20240730T173000
DTEND;TZID=America/Halifax:20240730T203000
DTSTAMP:20260423T081943
CREATED:20210127T193129Z
LAST-MODIFIED:20210127T193129Z
UID:19705-1722360600-1722371400@oakcitybrewingcompany.com
SUMMARY:La Katrina Tacos
DESCRIPTION:
URL:https://oakcitybrewingcompany.com/event/umami-2021-12-11-2024-07-30/
CATEGORIES:Food Trucks
END:VEVENT
BEGIN:VEVENT
DTSTART;TZID=America/Halifax:20240729T080000
DTEND;TZID=America/Halifax:20240729T170000
DTSTAMP:20260423T081943
CREATED:20240722T123821Z
LAST-MODIFIED:20240722T123821Z
UID:19830-1722240000-1722272400@oakcitybrewingcompany.com
SUMMARY:No Food Truck - BYOF
DESCRIPTION:
URL:https://oakcitybrewingcompany.com/event/no-food-truck-byof-26-2024-07-29/
CATEGORIES:Food Trucks
END:VEVENT
BEGIN:VEVENT
DTSTART;TZID=America/Halifax:20240728T140000
DTEND;TZID=America/Halifax:20240728T180000
DTSTAMP:20260423T081943
CREATED:20230126T180317Z
LAST-MODIFIED:20240514T140007Z
UID:19072-1722175200-1722189600@oakcitybrewingcompany.com
SUMMARY:Warehouse BBQ
DESCRIPTION:Warehouse BBQ\, where the legacy continues\, and every dish is a testament to the “love” that is infused into every bite.
URL:https://oakcitybrewingcompany.com/event/wild-mojo-2023-12-11-2024-07-28/
CATEGORIES:Food Trucks
ATTACH;FMTTYPE=image/png:https://oakcitybrewingcompany.com/wp-content/uploads/2023/01/Screenshot-2024-05-14-at-9.58.26-AM.png
END:VEVENT
BEGIN:VEVENT
DTSTART;TZID=America/Halifax:20240727T170000
DTEND;TZID=America/Halifax:20240727T200000
DTSTAMP:20260423T081943
CREATED:20240624T130815Z
LAST-MODIFIED:20240624T131029Z
UID:19790-1722099600-1722110400@oakcitybrewingcompany.com
SUMMARY:Live & Local July Patio Series
DESCRIPTION:Come hang out with us every Saturday night in July for our new July Patio Series!\n.\nWe’ll have live music on the patio\, tasty bites from a sweet and savory food truck\, and all the chill summer vibes you need.\n.\nGrab your friends\, grab a drink\, and enjoy perfect summer nights with us. See you there!\n. \n7.6 from 5-8 PM w/ Zach Burrus\n7.13 from 5-8 PM w/ Bobby Frith\n7.20 from 5-8 PM w/ Sterling Scott\n7.27 from 5-8 PM w/ Kevin Flinn
URL:https://oakcitybrewingcompany.com/event/live-local-july-patio-series-2024-07-27/
CATEGORIES:Events,Weekly Events
ATTACH;FMTTYPE=image/png:https://oakcitybrewingcompany.com/wp-content/uploads/2024/06/July-Music-Flyers.png
END:VEVENT
BEGIN:VEVENT
DTSTART;TZID=America/Halifax:20240727T170000
DTEND;TZID=America/Halifax:20240727T200000
DTSTAMP:20260423T081943
CREATED:20240611T145159Z
LAST-MODIFIED:20240611T145159Z
UID:19763-1722099600-1722110400@oakcitybrewingcompany.com
SUMMARY:CREAMED
DESCRIPTION:RDU’s First Cereal Infused Ice Cream Bar.
URL:https://oakcitybrewingcompany.com/event/creamed/
CATEGORIES:Food Trucks
ATTACH;FMTTYPE=image/png:https://oakcitybrewingcompany.com/wp-content/uploads/2024/06/Screenshot-2024-06-11-at-10.50.11-AM.png
END:VEVENT
BEGIN:VEVENT
DTSTART;TZID=America/Halifax:20240727T160000
DTEND;TZID=America/Halifax:20240727T210000
DTSTAMP:20260423T081943
CREATED:20220816T114537Z
LAST-MODIFIED:20240722T170705Z
UID:19144-1722096000-1722114000@oakcitybrewingcompany.com
SUMMARY:High Top Burger
DESCRIPTION:Smash Burger Pop-up food truck!
URL:https://oakcitybrewingcompany.com/event/bertos-chimis-2-2024-07-27/
CATEGORIES:Food Trucks
ATTACH;FMTTYPE=image/png:https://oakcitybrewingcompany.com/wp-content/uploads/2022/08/Screenshot-2024-07-22-at-1.05.45-PM.png
END:VEVENT
BEGIN:VEVENT
DTSTART;TZID=America/Halifax:20240727T120000
DTEND;TZID=America/Halifax:20240727T150000
DTSTAMP:20260423T081943
CREATED:20230116T152102Z
LAST-MODIFIED:20230116T152102Z
UID:19318-1722081600-1722092400@oakcitybrewingcompany.com
SUMMARY:Atlas Nomads
DESCRIPTION:Atlas Nomads is a Mediterranean food truck. The name of Atlas Nomads is inspired by people traveling from place to place in Morocco’s Atlas Mountains\, searching for pasture and food. Our food is made with fresh produce and halal meat.
URL:https://oakcitybrewingcompany.com/event/atlas-nomads-2-2024-07-27/
CATEGORIES:Food Trucks
ATTACH;FMTTYPE=image/png:https://oakcitybrewingcompany.com/wp-content/uploads/2023/01/Screen-Shot-2023-01-14-at-9.58.18-AM.png
END:VEVENT
BEGIN:VEVENT
DTSTART;TZID=America/Halifax:20240727T113000
DTEND;TZID=America/Halifax:20240727T123000
DTSTAMP:20260423T081943
CREATED:20230622T143640Z
LAST-MODIFIED:20240624T130943Z
UID:18625-1722079800-1722083400@oakcitybrewingcompany.com
SUMMARY:Beer Run
DESCRIPTION:Join us for a 1.5\, 3\, or 5 mile run or walk through downtown Knightdale\, Knightdale Station Park\, Mingo Creek Trail\, and other areas and landmarks that make our town special with our run club. \nLearn more here: https://oakcitybrewingcompany.com/run-club/ \nRun club meets up at 6:30 pm every Wednesday or 11:30 am every Saturday\, cheers! \n 
URL:https://oakcitybrewingcompany.com/event/beer-run-2-2024-07-27/
CATEGORIES:Brewery Events,Weekly Events
ATTACH;FMTTYPE=image/png:https://oakcitybrewingcompany.com/wp-content/uploads/2023/06/Screen-Shot-2023-06-22-at-10.25.57-AM.png
END:VEVENT
BEGIN:VEVENT
DTSTART;TZID=America/Halifax:20240726T173000
DTEND;TZID=America/Halifax:20240726T203000
DTSTAMP:20260423T081943
CREATED:20220824T113326Z
LAST-MODIFIED:20240425T161252Z
UID:18900-1722015000-1722025800@oakcitybrewingcompany.com
SUMMARY:Chick-N-Que
DESCRIPTION:The best Eastern style BBQ NC has to offer. We also serve 100% NC raised ostrich burgers along with mouth watering sides. Chick-N-Que is a multi mobile food truck & catering business serving Wake County and surrounding areas. With our guarded family recipe\, Chick-N-Que has a unique\, savory taste that stands out as some of the best barbecue around.
URL:https://oakcitybrewingcompany.com/event/chick-n-que-52-2023-01-27-2023-12-18-2024-07-26/
CATEGORIES:Food Trucks
ATTACH;FMTTYPE=image/jpeg:https://oakcitybrewingcompany.com/wp-content/uploads/2019/10/40683703_1781242268659131_3875899713362329600_n.jpg
END:VEVENT
BEGIN:VEVENT
DTSTART;TZID=America/Halifax:20240725T173000
DTEND;TZID=America/Halifax:20240725T203000
DTSTAMP:20260423T081943
CREATED:20220816T160505Z
LAST-MODIFIED:20220816T160505Z
UID:18988-1721928600-1721939400@oakcitybrewingcompany.com
SUMMARY:Tacos Neza
DESCRIPTION:
URL:https://oakcitybrewingcompany.com/event/tacos-neza-4-2024-07-25/
CATEGORIES:Food Trucks
ATTACH;FMTTYPE=image/jpeg:https://oakcitybrewingcompany.com/wp-content/uploads/2022/08/288475272_543179494124910_8462946235973782313_n.jpg
END:VEVENT
BEGIN:VEVENT
DTSTART;TZID=America/Halifax:20240724T183000
DTEND;TZID=America/Halifax:20240724T193000
DTSTAMP:20260423T081943
CREATED:20230622T143255Z
LAST-MODIFIED:20230622T143255Z
UID:18703-1721845800-1721849400@oakcitybrewingcompany.com
SUMMARY:Beer Run
DESCRIPTION:Join us for a 1.5\, 3\, or 5 mile run or walk through downtown Knightdale\, Knightdale Station Park\, Mingo Creek Trail\, and other areas and landmarks that make our town special with our run club. \nLearn more here: https://oakcitybrewingcompany.com/run-club/ \nRun club meets up at 6:30 pm every Wednesday or 11:30 am every Saturday\, cheers!
URL:https://oakcitybrewingcompany.com/event/beer-run-2024-07-24/
CATEGORIES:Brewery Events,Weekly Events
ATTACH;FMTTYPE=image/png:https://oakcitybrewingcompany.com/wp-content/uploads/2023/06/Screen-Shot-2023-06-22-at-10.25.57-AM.png
END:VEVENT
BEGIN:VEVENT
DTSTART;TZID=America/Halifax:20240724T173000
DTEND;TZID=America/Halifax:20240724T203000
DTSTAMP:20260423T081943
CREATED:20220830T215212Z
LAST-MODIFIED:20220830T215212Z
UID:19120-1721842200-1721853000@oakcitybrewingcompany.com
SUMMARY:Bulkogi
DESCRIPTION:Authentic Korean BBQ with a yummy twist! Food prepared with love & care that can be felt in each bite. Come hungry & leave with more than just full tummy!
URL:https://oakcitybrewingcompany.com/event/bulkogi-12-2024-07-24/
CATEGORIES:Food Trucks
ATTACH;FMTTYPE=image/jpeg:https://oakcitybrewingcompany.com/wp-content/uploads/2020/01/10336733_570882016365515_5501550790059477710_n.jpg
END:VEVENT
BEGIN:VEVENT
DTSTART;TZID=America/Halifax:20240723T173000
DTEND;TZID=America/Halifax:20240723T173000
DTSTAMP:20260423T081943
CREATED:20240125T163947Z
LAST-MODIFIED:20240125T163947Z
UID:19395-1721755800-1721755800@oakcitybrewingcompany.com
SUMMARY:D's Presto
DESCRIPTION:Committed to deliver my love of cooking that will satisfy your appetite.
URL:https://oakcitybrewingcompany.com/event/ds-presto-2-2024-07-23/
CATEGORIES:Food Trucks
ATTACH;FMTTYPE=image/png:https://oakcitybrewingcompany.com/wp-content/uploads/2024/01/Screenshot-2024-01-23-at-12.46.23-PM.png
END:VEVENT
BEGIN:VEVENT
DTSTART;TZID=America/Halifax:20240722T080000
DTEND;TZID=America/Halifax:20240722T170000
DTSTAMP:20260423T081943
CREATED:20240722T123821Z
LAST-MODIFIED:20240722T123821Z
UID:19828-1721635200-1721667600@oakcitybrewingcompany.com
SUMMARY:No Food Truck - BYOF
DESCRIPTION:
URL:https://oakcitybrewingcompany.com/event/no-food-truck-byof-26/
CATEGORIES:Food Trucks
END:VEVENT
BEGIN:VEVENT
DTSTART;TZID=America/Halifax:20240721T140000
DTEND;TZID=America/Halifax:20240721T180000
DTSTAMP:20260423T081943
CREATED:20220911T152736Z
LAST-MODIFIED:20220911T152736Z
UID:19084-1721570400-1721584800@oakcitybrewingcompany.com
SUMMARY:Moonrunners
DESCRIPTION:
URL:https://oakcitybrewingcompany.com/event/moonrunners-8-2024-07-21/
CATEGORIES:Food Trucks
ATTACH;FMTTYPE=image/jpeg:https://oakcitybrewingcompany.com/wp-content/uploads/2022/09/289540378_1421580884982878_5619351370244390677_n.jpg
END:VEVENT
BEGIN:VEVENT
DTSTART;TZID=America/Halifax:20240720T170000
DTEND;TZID=America/Halifax:20240720T200000
DTSTAMP:20260423T081943
CREATED:20240624T130815Z
LAST-MODIFIED:20240624T131028Z
UID:19789-1721494800-1721505600@oakcitybrewingcompany.com
SUMMARY:Live & Local July Patio Series
DESCRIPTION:Come hang out with us every Saturday night in July for our new July Patio Series!\n.\nWe’ll have live music on the patio\, tasty bites from a sweet and savory food truck\, and all the chill summer vibes you need.\n.\nGrab your friends\, grab a drink\, and enjoy perfect summer nights with us. See you there!\n. \n7.6 from 5-8 PM w/ Zach Burrus\n7.13 from 5-8 PM w/ Bobby Frith\n7.20 from 5-8 PM w/ Sterling Scott\n7.27 from 5-8 PM w/ Kevin Flinn
URL:https://oakcitybrewingcompany.com/event/live-local-july-patio-series-2024-07-20/
CATEGORIES:Events,Weekly Events
ATTACH;FMTTYPE=image/png:https://oakcitybrewingcompany.com/wp-content/uploads/2024/06/July-Music-Flyers.png
END:VEVENT
BEGIN:VEVENT
DTSTART;TZID=America/Halifax:20240720T170000
DTEND;TZID=America/Halifax:20240720T200000
DTSTAMP:20260423T081943
CREATED:20240611T144837Z
LAST-MODIFIED:20240611T144837Z
UID:19760-1721494800-1721505600@oakcitybrewingcompany.com
SUMMARY:Dippin' Dots
DESCRIPTION:An unconventional ice cream treat that’s remarkably fresh and flavorful\, introducing the world to beaded ice cream
URL:https://oakcitybrewingcompany.com/event/dippin-dots-2/
CATEGORIES:Food Trucks
ATTACH;FMTTYPE=image/png:https://oakcitybrewingcompany.com/wp-content/uploads/2024/06/Screenshot-2024-06-11-at-10.44.16-AM.png
END:VEVENT
BEGIN:VEVENT
DTSTART;TZID=America/Halifax:20240720T160000
DTEND;TZID=America/Halifax:20240720T210000
DTSTAMP:20260423T081943
CREATED:20220816T150752Z
LAST-MODIFIED:20240510T160915Z
UID:19275-1721491200-1721509200@oakcitybrewingcompany.com
SUMMARY:Dubz Grub
DESCRIPTION:Dubz Grub is more than just a food truck\, it is a dream come true for Robert and Adrienne Wilkinson.  We have over 30 years of experience in the food industry and finally decided to take a risk and follow our passions. Our Mission is to be professional\, reliable and bring delicious\, quality homemade food to your business or catered events.
URL:https://oakcitybrewingcompany.com/event/dubz-grub-3-2023-02-18-2024-07-20/
CATEGORIES:Food Trucks
ATTACH;FMTTYPE=image/png:https://oakcitybrewingcompany.com/wp-content/uploads/2022/08/Snacken-01.png
END:VEVENT
BEGIN:VEVENT
DTSTART;TZID=America/Halifax:20240720T120000
DTEND;TZID=America/Halifax:20240720T150000
DTSTAMP:20260423T081943
CREATED:20220915T101018Z
LAST-MODIFIED:20220915T101018Z
UID:18929-1721476800-1721487600@oakcitybrewingcompany.com
SUMMARY:The Tasty Turkey-Que
DESCRIPTION:Chopped turkey barbecue.
URL:https://oakcitybrewingcompany.com/event/the-tasty-turkey-que-2024-07-20/
CATEGORIES:Food Trucks
ATTACH;FMTTYPE=image/jpeg:https://oakcitybrewingcompany.com/wp-content/uploads/2022/09/216927439_236514948306576_2229485138571803795_n.jpg
END:VEVENT
BEGIN:VEVENT
DTSTART;TZID=America/Halifax:20240720T113000
DTEND;TZID=America/Halifax:20240720T123000
DTSTAMP:20260423T081943
CREATED:20230622T143640Z
LAST-MODIFIED:20240624T130935Z
UID:18624-1721475000-1721478600@oakcitybrewingcompany.com
SUMMARY:Beer Run
DESCRIPTION:Join us for a 1.5\, 3\, or 5 mile run or walk through downtown Knightdale\, Knightdale Station Park\, Mingo Creek Trail\, and other areas and landmarks that make our town special with our run club. \nLearn more here: https://oakcitybrewingcompany.com/run-club/ \nRun club meets up at 6:30 pm every Wednesday or 11:30 am every Saturday\, cheers! \n 
URL:https://oakcitybrewingcompany.com/event/beer-run-2-2024-07-20/
CATEGORIES:Brewery Events,Weekly Events
ATTACH;FMTTYPE=image/png:https://oakcitybrewingcompany.com/wp-content/uploads/2023/06/Screen-Shot-2023-06-22-at-10.25.57-AM.png
END:VEVENT
BEGIN:VEVENT
DTSTART;TZID=America/Halifax:20240719T173000
DTEND;TZID=America/Halifax:20240719T203000
DTSTAMP:20260423T081943
CREATED:20220816T171952Z
LAST-MODIFIED:20220816T171952Z
UID:18941-1721410200-1721421000@oakcitybrewingcompany.com
SUMMARY:The Naked Empanada
DESCRIPTION:The Naked Empanada was the lifelong dream and now passion of Roy Thombs. Roy\, who is better known to friends and family as Fuzzy\, began his culinary journey at fifteen years old in Morganton\, NC. Never shying away from hard work and the opportunity to learn\, Roy worked his way from a dishwasher at Shoney’s to a degree from the prestigious Johnson & Wales University. It was during this time at Johnson & Wales that Roy interned at the highly acclaimed Grove Park Inn in Asheville\, NC. While interning at Grove Park Inn\, Roy’s passion for the culinary arts and a culture of service was truly sparked. From Johnson & Wales\, Roy went on to work for a number of corporate restaurant groups where he transitioned into operations management roles. Eventually\, he moved from operations to administration and served in corporate human resources for a large national chain restaurant\, where he spent fifteen years. \nIt wasn’t until 2013\, when a corporate realignment was pushing for a relocation\, potentially uprooting his family\, that Roy was fully able to rekindle the same ember that was sparked during his time at Johnson & Wales interning at Grove Park Inn. The choice was not easy to leave the comfort of a stable career to pursue the entrepreneurial dream which had been brewing for years\, but it also felt like an opportunity that could not be denied. Through extensive research\, trial and error\, feedback from friends and family\, Roy carefully hand-crafted the concept that launched in 2015 with his food truck offering fresh\, locally sourced and delicious handmade empanadas. It was clear from the start that a lifetime of focus in culinary arts\, customer service and operations had molded itself into a business that was an instant success. \nAs The Naked Empanada continues to grow and thrive\, we know that our success is driven by our customers. That is why we dedicate every day to ensuring that every empanada and every experience with our customers is cared for by each of our team members. This is a labor of love that is fueled by the smiles and enjoyment of every person who bites into the food that we prepare and says\, “Wow\, that’s sooo good!!”
URL:https://oakcitybrewingcompany.com/event/the-naked-empanada-2024-07-19/
CATEGORIES:Food Trucks
ATTACH;FMTTYPE=image/jpeg:https://oakcitybrewingcompany.com/wp-content/uploads/2022/08/277675892_657482668566589_7822163364397964254_n.jpg
END:VEVENT
BEGIN:VEVENT
DTSTART;TZID=America/Halifax:20240718T173000
DTEND;TZID=America/Halifax:20240718T203000
DTSTAMP:20260423T081943
CREATED:20220826T145242Z
LAST-MODIFIED:20220826T145242Z
UID:19012-1721323800-1721334600@oakcitybrewingcompany.com
SUMMARY:Carolina's Catch
DESCRIPTION:Bringing Seafood from the Carolina’s Coast to the triangle
URL:https://oakcitybrewingcompany.com/event/carolinas-catch-2-2024-07-18/
CATEGORIES:Food Trucks
ATTACH;FMTTYPE=image/jpeg:https://oakcitybrewingcompany.com/wp-content/uploads/2022/08/294160203_760995485243754_5268186503346739086_n.jpg
END:VEVENT
BEGIN:VEVENT
DTSTART;TZID=America/Halifax:20240717T183000
DTEND;TZID=America/Halifax:20240717T193000
DTSTAMP:20260423T081943
CREATED:20230622T143255Z
LAST-MODIFIED:20230622T143255Z
UID:18702-1721241000-1721244600@oakcitybrewingcompany.com
SUMMARY:Beer Run
DESCRIPTION:Join us for a 1.5\, 3\, or 5 mile run or walk through downtown Knightdale\, Knightdale Station Park\, Mingo Creek Trail\, and other areas and landmarks that make our town special with our run club. \nLearn more here: https://oakcitybrewingcompany.com/run-club/ \nRun club meets up at 6:30 pm every Wednesday or 11:30 am every Saturday\, cheers!
URL:https://oakcitybrewingcompany.com/event/beer-run-2024-07-17/
CATEGORIES:Brewery Events,Weekly Events
ATTACH;FMTTYPE=image/png:https://oakcitybrewingcompany.com/wp-content/uploads/2023/06/Screen-Shot-2023-06-22-at-10.25.57-AM.png
END:VEVENT
BEGIN:VEVENT
DTSTART;TZID=America/Halifax:20240717T173000
DTEND;TZID=America/Halifax:20240717T203000
DTSTAMP:20260423T081943
CREATED:20220916T103300Z
LAST-MODIFIED:20220916T103300Z
UID:19421-1721237400-1721248200@oakcitybrewingcompany.com
SUMMARY:Jessica's Food Truck
DESCRIPTION:
URL:https://oakcitybrewingcompany.com/event/jessicas-food-truck-22-2023-02-25-2024-07-17/
CATEGORIES:Food Trucks
ATTACH;FMTTYPE=image/jpeg:https://oakcitybrewingcompany.com/wp-content/uploads/2022/09/301548167_171520468736524_3664133766732670901_n.jpg
END:VEVENT
BEGIN:VEVENT
DTSTART;TZID=America/Halifax:20240716T173000
DTEND;TZID=America/Halifax:20240716T203000
DTSTAMP:20260423T081943
CREATED:20220816T223305Z
LAST-MODIFIED:20220816T223305Z
UID:18851-1721151000-1721161800@oakcitybrewingcompany.com
SUMMARY:The Greek Goat
DESCRIPTION:Bringing your favorite Greek street food to Raleigh and the surrounding area. Greek Done Right!
URL:https://oakcitybrewingcompany.com/event/the-greek-goat-2024-07-16/
CATEGORIES:Food Trucks
ATTACH;FMTTYPE=image/png:https://oakcitybrewingcompany.com/wp-content/uploads/2022/08/294719080_358949019756141_4432516889414215207_n.png
END:VEVENT
BEGIN:VEVENT
DTSTART;TZID=America/Halifax:20240715T173000
DTEND;TZID=America/Halifax:20240715T184500
DTSTAMP:20260423T081943
CREATED:20240611T162722Z
LAST-MODIFIED:20240722T123256Z
UID:19769-1721064600-1721069100@oakcitybrewingcompany.com
SUMMARY:Bootcamp Workout
DESCRIPTION:Come workout with Outside The Box Fitness at Oak City Brewing Company! This is a 60 minute\, bootcamp style workout\, for all fitness levels.\nRegistration Required Here: https://otbfitness.pushpress.com/landing/events/cal-85fa8d87-7152-4647-b940-dbfb/login\n\nClick “See More Details” after registering and submit your current fitness level information so I can partner you with the right group if we have partner work for this workout.\n\nWhen: Monday July 15th\, 2024Show Up Time: 5:30-5:40 PMWorkout Starts: 5:45 PMWorkout Ends: 6:45 PMSocial After: 6:45 PM\n\n*By participating in any of the activities Outside The Box Fitness offers and by submitting this form you recognize the inherit risk with them and release all affiliates\, trainers\, coaches\, participants\, partners and facilities from all liability. You accept ALL liability while participating in any exercises or activities. By registering you also accept the Terms and Conditions\, the Privacy Policy\, and the Photo Release
URL:https://oakcitybrewingcompany.com/event/bootcamp-workout/
CATEGORIES:Brewery Events,Events,Weekly Events
END:VEVENT
BEGIN:VEVENT
DTSTART;TZID=America/Halifax:20240715T170000
DTEND;TZID=America/Halifax:20240715T200000
DTSTAMP:20260423T081943
CREATED:20240722T123707Z
LAST-MODIFIED:20240722T123931Z
UID:19825-1721062800-1721073600@oakcitybrewingcompany.com
SUMMARY:Mr. Guacs Tacos
DESCRIPTION:Authentic Mexican Food.
URL:https://oakcitybrewingcompany.com/event/mr-guacs-tacos/
CATEGORIES:Food Trucks
ATTACH;FMTTYPE=image/png:https://oakcitybrewingcompany.com/wp-content/uploads/2024/07/Screenshot-2024-07-22-at-8.35.13-AM.png
END:VEVENT
END:VCALENDAR