BEGIN:VCALENDAR
VERSION:2.0
PRODID:-//Oak City Brewing Company - ECPv6.15.20//NONSGML v1.0//EN
CALSCALE:GREGORIAN
METHOD:PUBLISH
X-WR-CALNAME:Oak City Brewing Company
X-ORIGINAL-URL:https://oakcitybrewingcompany.com
X-WR-CALDESC:Events for Oak City Brewing Company
REFRESH-INTERVAL;VALUE=DURATION:PT1H
X-Robots-Tag:noindex
X-PUBLISHED-TTL:PT1H
BEGIN:VTIMEZONE
TZID:America/Halifax
BEGIN:DAYLIGHT
TZOFFSETFROM:-0400
TZOFFSETTO:-0300
TZNAME:ADT
DTSTART:20240310T060000
END:DAYLIGHT
BEGIN:STANDARD
TZOFFSETFROM:-0300
TZOFFSETTO:-0400
TZNAME:AST
DTSTART:20241103T050000
END:STANDARD
BEGIN:DAYLIGHT
TZOFFSETFROM:-0400
TZOFFSETTO:-0300
TZNAME:ADT
DTSTART:20250309T060000
END:DAYLIGHT
BEGIN:STANDARD
TZOFFSETFROM:-0300
TZOFFSETTO:-0400
TZNAME:AST
DTSTART:20251102T050000
END:STANDARD
BEGIN:DAYLIGHT
TZOFFSETFROM:-0400
TZOFFSETTO:-0300
TZNAME:ADT
DTSTART:20260308T060000
END:DAYLIGHT
BEGIN:STANDARD
TZOFFSETFROM:-0300
TZOFFSETTO:-0400
TZNAME:AST
DTSTART:20261101T050000
END:STANDARD
END:VTIMEZONE
BEGIN:VEVENT
DTSTART;TZID=America/Halifax:20250403T173000
DTEND;TZID=America/Halifax:20250403T203000
DTSTAMP:20260419T150137
CREATED:20241227T155130Z
LAST-MODIFIED:20241227T155130Z
UID:20097-1743701400-1743712200@oakcitybrewingcompany.com
SUMMARY:La Katrina Tacos
DESCRIPTION:Mexican street food.
URL:https://oakcitybrewingcompany.com/event/la-katrina-tacos-2025-04-03/
CATEGORIES:Food Trucks
ATTACH;FMTTYPE=image/png:https://oakcitybrewingcompany.com/wp-content/uploads/2024/12/Screenshot-2024-12-27-at-10.50.09-AM.png
END:VEVENT
BEGIN:VEVENT
DTSTART;TZID=America/Halifax:20250404T173000
DTEND;TZID=America/Halifax:20250404T203000
DTSTAMP:20260419T150137
CREATED:20241227T155550Z
LAST-MODIFIED:20250402T175821Z
UID:20116-1743787800-1743798600@oakcitybrewingcompany.com
SUMMARY:The Flat Drum\, GoldenKdog & Louie & Co Ice Cream
DESCRIPTION:Food trucks for our April First Friday event.
URL:https://oakcitybrewingcompany.com/event/the-flat-drum-4-2025-04-04/
CATEGORIES:Food Trucks
END:VEVENT
BEGIN:VEVENT
DTSTART;TZID=America/Halifax:20250404T173000
DTEND;TZID=America/Halifax:20250404T203000
DTSTAMP:20260419T150137
CREATED:20250224T143141Z
LAST-MODIFIED:20250224T143141Z
UID:20706-1743787800-1743798600@oakcitybrewingcompany.com
SUMMARY:April First Friday
DESCRIPTION:First Fridays at Oak City – Your weekend starts here! \nKick off the season with us on Friday\, April 4th\, from 5:30-8:30 PM! \nCome shop with local vendors\, vibe to live music\, and indulge in delicious eats from your favorite food trucks! \nWhether you’re here for the brews\, the beats\, or the shopping\, First Friday is the place to be! Grab your crew\, sip something delicious! \nMusic: Sterling Scott \nFood Trucks: The Flat Drum\, GoldenKdog & Sprinkled With Love Cakery \nApril First Friday: Formosity Das Letterhaus Kree’s Flowers The Christened Collection The Crafty Olive Boutique Pup Pastry The Marley Market Alternative Wax Rugged Studios Awaken NC LLC Plant Bar Blue Barn Woodcrafts LLC Photons and Stitches MaMaDy’s homemade soaps
URL:https://oakcitybrewingcompany.com/event/april-first-friday/
CATEGORIES:Brewery Events,Events,Weekly Events
ATTACH;FMTTYPE=image/png:https://oakcitybrewingcompany.com/wp-content/uploads/2025/02/April-First-Friday-Market.png
END:VEVENT
BEGIN:VEVENT
DTSTART;TZID=America/Halifax:20250405T113000
DTEND;TZID=America/Halifax:20250405T123000
DTSTAMP:20260419T150137
CREATED:20230622T143640Z
LAST-MODIFIED:20241227T170559Z
UID:20457-1743852600-1743856200@oakcitybrewingcompany.com
SUMMARY:Beer Run
DESCRIPTION:Join us for a 1.5\, 3\, or 5 mile run or walk through downtown Knightdale\, Knightdale Station Park\, Mingo Creek Trail\, and other areas and landmarks that make our town special with our run club. \nLearn more here: https://oakcitybrewingcompany.com/run-club/ \nRun club meets up at 6:30 pm every Wednesday or 11:30 am every Saturday\, cheers! \n 
URL:https://oakcitybrewingcompany.com/event/beer-run-2-2024-12-21-2025-04-05/
CATEGORIES:Brewery Events,Weekly Events
ATTACH;FMTTYPE=image/png:https://oakcitybrewingcompany.com/wp-content/uploads/2023/06/Screen-Shot-2023-06-22-at-10.25.57-AM.png
END:VEVENT
BEGIN:VEVENT
DTSTART;TZID=America/Halifax:20250405T120000
DTEND;TZID=America/Halifax:20250405T150000
DTSTAMP:20260419T150137
CREATED:20250313T155831Z
LAST-MODIFIED:20250313T155831Z
UID:20746-1743854400-1743865200@oakcitybrewingcompany.com
SUMMARY:Big B’s Southern Kitchen
DESCRIPTION:
URL:https://oakcitybrewingcompany.com/event/big-bs-southern-kitchen-2/
CATEGORIES:Food Trucks
END:VEVENT
BEGIN:VEVENT
DTSTART;TZID=America/Halifax:20250405T160000
DTEND;TZID=America/Halifax:20250405T210000
DTSTAMP:20260419T150137
CREATED:20250313T155903Z
LAST-MODIFIED:20250313T155903Z
UID:20748-1743868800-1743886800@oakcitybrewingcompany.com
SUMMARY:Barone Italian Grille
DESCRIPTION:
URL:https://oakcitybrewingcompany.com/event/barone-italian-grille/
CATEGORIES:Food Trucks
END:VEVENT
BEGIN:VEVENT
DTSTART;TZID=America/Halifax:20250406T140000
DTEND;TZID=America/Halifax:20250406T180000
DTSTAMP:20260419T150137
CREATED:20250313T160211Z
LAST-MODIFIED:20250313T160211Z
UID:20752-1743948000-1743962400@oakcitybrewingcompany.com
SUMMARY:Oink and Moo by Two Brothers
DESCRIPTION:
URL:https://oakcitybrewingcompany.com/event/oink-and-moo-by-two-brothers-2/
CATEGORIES:Food Trucks
END:VEVENT
BEGIN:VEVENT
DTSTART;TZID=America/Halifax:20250408T150000
DTEND;TZID=America/Halifax:20250408T220000
DTSTAMP:20260419T150137
CREATED:20241227T170528Z
LAST-MODIFIED:20241227T170528Z
UID:20518-1744124400-1744149600@oakcitybrewingcompany.com
SUMMARY:Pint Night
DESCRIPTION:$1 off pints every Tuesday here at Oak City!
URL:https://oakcitybrewingcompany.com/event/pint-night-50-2025-04-08/
CATEGORIES:Brewery Events,Events
END:VEVENT
BEGIN:VEVENT
DTSTART;TZID=America/Halifax:20250408T173000
DTEND;TZID=America/Halifax:20250408T203000
DTSTAMP:20260419T150137
CREATED:20250107T183820Z
LAST-MODIFIED:20250107T183820Z
UID:20670-1744133400-1744144200@oakcitybrewingcompany.com
SUMMARY:Pizza Marchese
DESCRIPTION:A mobile pizzeria!
URL:https://oakcitybrewingcompany.com/event/pizza-marchese-2025-04-08/
CATEGORIES:Food Trucks
ATTACH;FMTTYPE=image/png:https://oakcitybrewingcompany.com/wp-content/uploads/2025/01/Screenshot-2025-01-07-at-1.37.41-PM.png
END:VEVENT
BEGIN:VEVENT
DTSTART;TZID=America/Halifax:20250409T173000
DTEND;TZID=America/Halifax:20250409T203000
DTSTAMP:20260419T150137
CREATED:20241227T160638Z
LAST-MODIFIED:20241227T160638Z
UID:20222-1744219800-1744230600@oakcitybrewingcompany.com
SUMMARY:The Tasty Turkey Que
DESCRIPTION:The Tasty Turkey-Que is famous for its chopped and seasoned turkey barbecue.
URL:https://oakcitybrewingcompany.com/event/the-tasty-turkey-que-2-2025-04-09/
CATEGORIES:Food Trucks
ATTACH;FMTTYPE=image/jpeg:https://oakcitybrewingcompany.com/wp-content/uploads/2022/09/216927439_236514948306576_2229485138571803795_n.jpg
END:VEVENT
BEGIN:VEVENT
DTSTART;TZID=America/Halifax:20250409T183000
DTEND;TZID=America/Halifax:20250409T193000
DTSTAMP:20260419T150137
CREATED:20230622T143255Z
LAST-MODIFIED:20230622T143255Z
UID:20405-1744223400-1744227000@oakcitybrewingcompany.com
SUMMARY:Beer Run
DESCRIPTION:Join us for a 1.5\, 3\, or 5 mile run or walk through downtown Knightdale\, Knightdale Station Park\, Mingo Creek Trail\, and other areas and landmarks that make our town special with our run club. \nLearn more here: https://oakcitybrewingcompany.com/run-club/ \nRun club meets up at 6:30 pm every Wednesday or 11:30 am every Saturday\, cheers!
URL:https://oakcitybrewingcompany.com/event/beer-run-2024-12-11-2025-04-09/
CATEGORIES:Brewery Events,Weekly Events
ATTACH;FMTTYPE=image/png:https://oakcitybrewingcompany.com/wp-content/uploads/2023/06/Screen-Shot-2023-06-22-at-10.25.57-AM.png
END:VEVENT
BEGIN:VEVENT
DTSTART;TZID=America/Halifax:20250410T173000
DTEND;TZID=America/Halifax:20250410T203000
DTSTAMP:20260419T150137
CREATED:20241227T161236Z
LAST-MODIFIED:20241227T161236Z
UID:20185-1744306200-1744317000@oakcitybrewingcompany.com
SUMMARY:Not Just A Fry Guy
DESCRIPTION:Gourmet\, Loaded\, Fresh Cut Fries. Homemade sauces made w/ fresh ingredients! The whole truck is Gluten Free!
URL:https://oakcitybrewingcompany.com/event/not-just-a-fry-guy-2-2025-04-10/
CATEGORIES:Food Trucks
ATTACH;FMTTYPE=image/png:https://oakcitybrewingcompany.com/wp-content/uploads/2024/12/Screenshot-2024-12-27-at-11.14.31-AM.png
END:VEVENT
BEGIN:VEVENT
DTSTART;TZID=America/Halifax:20250411T173000
DTEND;TZID=America/Halifax:20250411T203000
DTSTAMP:20260419T150137
CREATED:20241227T161911Z
LAST-MODIFIED:20241227T161911Z
UID:20197-1744392600-1744403400@oakcitybrewingcompany.com
SUMMARY:Caribbean Kicker
DESCRIPTION:Bold flavors meet soulful cooking\, bringing the vibrant taste of the Caribbean to every plate.
URL:https://oakcitybrewingcompany.com/event/caribbean-kicker-4-2025-04-11/
CATEGORIES:Food Trucks
ATTACH;FMTTYPE=image/jpeg:https://oakcitybrewingcompany.com/wp-content/uploads/2022/08/279096638_2125417890949808_6612292007969708448_n.jpg
END:VEVENT
BEGIN:VEVENT
DTSTART;TZID=America/Halifax:20250412T113000
DTEND;TZID=America/Halifax:20250412T123000
DTSTAMP:20260419T150137
CREATED:20230622T143640Z
LAST-MODIFIED:20250227T173622Z
UID:20458-1744457400-1744461000@oakcitybrewingcompany.com
SUMMARY:Beer Run
DESCRIPTION:Join us for a 1.5\, 3\, or 5 mile run or walk through downtown Knightdale\, Knightdale Station Park\, Mingo Creek Trail\, and other areas and landmarks that make our town special with our run club. \nLearn more here: https://oakcitybrewingcompany.com/run-club/ \nRun club meets up at 6:30 pm every Wednesday or 11:30 am every Saturday\, cheers! \n 
URL:https://oakcitybrewingcompany.com/event/beer-run-2-2024-12-21-2025-04-12/
CATEGORIES:Brewery Events,Weekly Events
ATTACH;FMTTYPE=image/png:https://oakcitybrewingcompany.com/wp-content/uploads/2023/06/Screen-Shot-2023-06-22-at-10.25.57-AM.png
END:VEVENT
BEGIN:VEVENT
DTSTART;TZID=America/Halifax:20250412T130000
DTEND;TZID=America/Halifax:20250412T160000
DTSTAMP:20260419T150137
CREATED:20250227T173536Z
LAST-MODIFIED:20250227T173536Z
UID:20709-1744462800-1744473600@oakcitybrewingcompany.com
SUMMARY:Oak City Goes Bald
DESCRIPTION:Sip\, shave\, and show your support! .Join us on April 12th for Oak City Goes Bald to help raise money and fund cures for kids with cancer. Join us and together let’s #GiveKidsALifetime \nWe’ll have live music and food trucks! .Oak City will donate $1 per beer sold for the entire day!.???????????????????? 2 ???????????????????????????? ???? ???????????????????? ???????? ???????????????????????????????????? ???????????????? ????????????????????????. ???????????????? ???????? ???????????????? ???????????? ???????????????????????????????? ???????????????? ???????????????? ???????????????? ???????????????????? ????????????????????!We have an ambitious goal of $125\,000 so join us to have some fun – and be a hero for kids with cancer!.How can YOU help? – Share the event– Donate today: https://www.stbaldricks.org/events/OakCityGoesBald2025– Register as a participant to raise funds– Register as a shavee(follow the event link for more info).@StBaldricks #StBaldricks #ConquerKidsCancer #RockTheBald #GiveKidsALifetime #ResearchIsHope
URL:https://oakcitybrewingcompany.com/event/oak-city-goes-bald/
CATEGORIES:Brewery Events,Events
ATTACH;FMTTYPE=image/png:https://oakcitybrewingcompany.com/wp-content/uploads/2025/02/St.-Baldricks-2025.png
END:VEVENT
BEGIN:VEVENT
DTSTART;TZID=America/Halifax:20250412T160000
DTEND;TZID=America/Halifax:20250412T210000
DTSTAMP:20260419T150137
CREATED:20241227T164931Z
LAST-MODIFIED:20241227T164931Z
UID:20345-1744473600-1744491600@oakcitybrewingcompany.com
SUMMARY:Fired Up Pizza & BBQ
DESCRIPTION:Serving wood fired pizza and bbq.
URL:https://oakcitybrewingcompany.com/event/fired-up-pizza-bbq-3-2025-04-12/
CATEGORIES:Food Trucks
END:VEVENT
BEGIN:VEVENT
DTSTART;TZID=America/Halifax:20250413T110000
DTEND;TZID=America/Halifax:20250413T140000
DTSTAMP:20260419T150137
CREATED:20250213T182802Z
LAST-MODIFIED:20250213T182802Z
UID:20700-1744542000-1744552800@oakcitybrewingcompany.com
SUMMARY:Farmers Market
DESCRIPTION:Fresh vibes\, local finds!\n.\nJoin us for our first-ever Farmers Market on Sunday\, April 13th at Oak City Brewing from 11 AM – 2 PM!\n.\nSip\, shop\, and support local farms and businesses—because fresh produce pairs perfectly with fresh beer. \nVendors TBA\n.\nNext date: Mother’s Day May 11th from 11 AM – 2 PM.
URL:https://oakcitybrewingcompany.com/event/farmers-market/
CATEGORIES:Brewery Events,Events,Weekly Events
ATTACH;FMTTYPE=image/png:https://oakcitybrewingcompany.com/wp-content/uploads/2025/02/Farmers-Market-Flyer.png
END:VEVENT
BEGIN:VEVENT
DTSTART;TZID=America/Halifax:20250413T120000
DTEND;TZID=America/Halifax:20250413T180000
DTSTAMP:20260419T150137
CREATED:20250107T182459Z
LAST-MODIFIED:20250107T182459Z
UID:20657-1744545600-1744567200@oakcitybrewingcompany.com
SUMMARY:St. Vicent Spanish Cuisine
DESCRIPTION:Spanish food with traditional dishes like croquetas and seafood paella.
URL:https://oakcitybrewingcompany.com/event/st-vicent-spanish-cuisine-2-2025-04-13/
CATEGORIES:Food Trucks
ATTACH;FMTTYPE=image/png:https://oakcitybrewingcompany.com/wp-content/uploads/2025/01/Screenshot-2025-01-07-at-1.23.47-PM.png
END:VEVENT
BEGIN:VEVENT
DTSTART;TZID=America/Halifax:20250415T150000
DTEND;TZID=America/Halifax:20250415T220000
DTSTAMP:20260419T150137
CREATED:20241227T170528Z
LAST-MODIFIED:20241227T170528Z
UID:20519-1744729200-1744754400@oakcitybrewingcompany.com
SUMMARY:Pint Night
DESCRIPTION:$1 off pints every Tuesday here at Oak City!
URL:https://oakcitybrewingcompany.com/event/pint-night-50-2025-04-15/
CATEGORIES:Brewery Events,Events
END:VEVENT
BEGIN:VEVENT
DTSTART;TZID=America/Halifax:20250415T173000
DTEND;TZID=America/Halifax:20250415T203000
DTSTAMP:20260419T150137
CREATED:20241227T163354Z
LAST-MODIFIED:20241227T163354Z
UID:20249-1744738200-1744749000@oakcitybrewingcompany.com
SUMMARY:The Greek Goat
DESCRIPTION:Authentic Greek Street Food experience with all your favorites.
URL:https://oakcitybrewingcompany.com/event/the-greek-goat-2-2025-04-15/
CATEGORIES:Food Trucks
END:VEVENT
BEGIN:VEVENT
DTSTART;TZID=America/Halifax:20250416T173000
DTEND;TZID=America/Halifax:20250416T203000
DTSTAMP:20260419T150137
CREATED:20241227T162236Z
LAST-MODIFIED:20250313T161214Z
UID:20211-1744824600-1744835400@oakcitybrewingcompany.com
SUMMARY:Carolina Fish Fry and Grill
DESCRIPTION:
URL:https://oakcitybrewingcompany.com/event/off-the-hog-2-2025-04-16/
CATEGORIES:Food Trucks
END:VEVENT
BEGIN:VEVENT
DTSTART;TZID=America/Halifax:20250416T183000
DTEND;TZID=America/Halifax:20250416T193000
DTSTAMP:20260419T150137
CREATED:20230622T143255Z
LAST-MODIFIED:20230622T143255Z
UID:20406-1744828200-1744831800@oakcitybrewingcompany.com
SUMMARY:Beer Run
DESCRIPTION:Join us for a 1.5\, 3\, or 5 mile run or walk through downtown Knightdale\, Knightdale Station Park\, Mingo Creek Trail\, and other areas and landmarks that make our town special with our run club. \nLearn more here: https://oakcitybrewingcompany.com/run-club/ \nRun club meets up at 6:30 pm every Wednesday or 11:30 am every Saturday\, cheers!
URL:https://oakcitybrewingcompany.com/event/beer-run-2024-12-11-2025-04-16/
CATEGORIES:Brewery Events,Weekly Events
ATTACH;FMTTYPE=image/png:https://oakcitybrewingcompany.com/wp-content/uploads/2023/06/Screen-Shot-2023-06-22-at-10.25.57-AM.png
END:VEVENT
BEGIN:VEVENT
DTSTART;VALUE=DATE:20250417
DTEND;VALUE=DATE:20250418
DTSTAMP:20260419T150137
CREATED:20250415T181909Z
LAST-MODIFIED:20250415T181909Z
UID:20785-1744848000-1744934399@oakcitybrewingcompany.com
SUMMARY:Offsite Event: Harper Park w/ The Town Of Knightdale
DESCRIPTION:Join The Town of Knightdale for a fun-filled afternoon out at Harper Park! Bring your friends and family to enjoy great food\, friendly competition\, cold drinks from Oak City Brewing\, and live music from Helena Redman that’ll keep you grooving from 5:30 to 7:30 PM. It’s the perfect way to kick back\, relax\, and make some memories. See you there! \n  \nLearn more here: \nFacebook event – https://www.facebook.com/share/16PunGTuEM/ \nTown of Knightdale website – https://www.knightdalenc.gov/event/harper-hour#:~:text=Join%20us%20for%20a%20fun\,relax%2C%20and%20make%20some%20memories.
URL:https://oakcitybrewingcompany.com/event/offsite-event-harper-park-w-the-town-of-knightdale/
CATEGORIES:Events
ATTACH;FMTTYPE=image/png:https://oakcitybrewingcompany.com/wp-content/uploads/2025/04/Screenshot-2025-04-15-at-2.15.38-PM.png
END:VEVENT
BEGIN:VEVENT
DTSTART;TZID=America/Halifax:20250417T173000
DTEND;TZID=America/Halifax:20250417T203000
DTSTAMP:20260419T150137
CREATED:20241227T163759Z
LAST-MODIFIED:20241227T163759Z
UID:20274-1744911000-1744921800@oakcitybrewingcompany.com
SUMMARY:Carolina's Catch
DESCRIPTION:Premier seafood food truck of the Triangle.
URL:https://oakcitybrewingcompany.com/event/carolinas-catch-3-2025-04-17/
CATEGORIES:Food Trucks
END:VEVENT
BEGIN:VEVENT
DTSTART;TZID=America/Halifax:20250418T173000
DTEND;TZID=America/Halifax:20250418T203000
DTSTAMP:20260419T150137
CREATED:20241227T164520Z
LAST-MODIFIED:20241227T164620Z
UID:20310-1744997400-1745008200@oakcitybrewingcompany.com
SUMMARY:The Naked Empanada
DESCRIPTION:Savory and sweet empanadas since 2015!
URL:https://oakcitybrewingcompany.com/event/the-naked-empanada-2-2025-04-18/
CATEGORIES:Food Trucks
END:VEVENT
BEGIN:VEVENT
DTSTART;TZID=America/Halifax:20250419T113000
DTEND;TZID=America/Halifax:20250419T123000
DTSTAMP:20260419T150137
CREATED:20230622T143640Z
LAST-MODIFIED:20241227T170559Z
UID:20459-1745062200-1745065800@oakcitybrewingcompany.com
SUMMARY:Beer Run
DESCRIPTION:Join us for a 1.5\, 3\, or 5 mile run or walk through downtown Knightdale\, Knightdale Station Park\, Mingo Creek Trail\, and other areas and landmarks that make our town special with our run club. \nLearn more here: https://oakcitybrewingcompany.com/run-club/ \nRun club meets up at 6:30 pm every Wednesday or 11:30 am every Saturday\, cheers! \n 
URL:https://oakcitybrewingcompany.com/event/beer-run-2-2024-12-21-2025-04-19/
CATEGORIES:Brewery Events,Weekly Events
ATTACH;FMTTYPE=image/png:https://oakcitybrewingcompany.com/wp-content/uploads/2023/06/Screen-Shot-2023-06-22-at-10.25.57-AM.png
END:VEVENT
BEGIN:VEVENT
DTSTART;TZID=America/Halifax:20250419T160000
DTEND;TZID=America/Halifax:20250419T210000
DTSTAMP:20260419T150137
CREATED:20241227T165123Z
LAST-MODIFIED:20241227T165123Z
UID:20357-1745078400-1745096400@oakcitybrewingcompany.com
SUMMARY:Dubz Grub
DESCRIPTION:
URL:https://oakcitybrewingcompany.com/event/dubz-grub-3-2025-04-19/
CATEGORIES:Food Trucks
END:VEVENT
BEGIN:VEVENT
DTSTART;TZID=America/Halifax:20250420T140000
DTEND;TZID=America/Halifax:20250420T180000
DTSTAMP:20260419T150137
CREATED:20241227T165502Z
LAST-MODIFIED:20241227T165502Z
UID:20381-1745157600-1745172000@oakcitybrewingcompany.com
SUMMARY:Captains Gastro
DESCRIPTION:
URL:https://oakcitybrewingcompany.com/event/captains-gastro-2025-04-20/
CATEGORIES:Food Trucks
END:VEVENT
BEGIN:VEVENT
DTSTART;TZID=America/Halifax:20250422T150000
DTEND;TZID=America/Halifax:20250422T220000
DTSTAMP:20260419T150137
CREATED:20241227T170528Z
LAST-MODIFIED:20241227T170528Z
UID:20520-1745334000-1745359200@oakcitybrewingcompany.com
SUMMARY:Pint Night
DESCRIPTION:$1 off pints every Tuesday here at Oak City!
URL:https://oakcitybrewingcompany.com/event/pint-night-50-2025-04-22/
CATEGORIES:Brewery Events,Events
END:VEVENT
BEGIN:VEVENT
DTSTART;TZID=America/Halifax:20250422T170000
DTEND;TZID=America/Halifax:20250422T200000
DTSTAMP:20260419T150137
CREATED:20241227T164805Z
LAST-MODIFIED:20241227T164805Z
UID:20333-1745341200-1745352000@oakcitybrewingcompany.com
SUMMARY:Beef Street & Pig
DESCRIPTION:Delicious loaded nachos\, fries and comfort food.
URL:https://oakcitybrewingcompany.com/event/beef-street-pig-2025-04-22/
CATEGORIES:Food Trucks
END:VEVENT
END:VCALENDAR