BEGIN:VCALENDAR
VERSION:2.0
PRODID:-//Oak City Brewing Company - ECPv6.15.20//NONSGML v1.0//EN
CALSCALE:GREGORIAN
METHOD:PUBLISH
X-WR-CALNAME:Oak City Brewing Company
X-ORIGINAL-URL:https://oakcitybrewingcompany.com
X-WR-CALDESC:Events for Oak City Brewing Company
REFRESH-INTERVAL;VALUE=DURATION:PT1H
X-Robots-Tag:noindex
X-PUBLISHED-TTL:PT1H
BEGIN:VTIMEZONE
TZID:America/Halifax
BEGIN:DAYLIGHT
TZOFFSETFROM:-0400
TZOFFSETTO:-0300
TZNAME:ADT
DTSTART:20250309T060000
END:DAYLIGHT
BEGIN:STANDARD
TZOFFSETFROM:-0300
TZOFFSETTO:-0400
TZNAME:AST
DTSTART:20251102T050000
END:STANDARD
BEGIN:DAYLIGHT
TZOFFSETFROM:-0400
TZOFFSETTO:-0300
TZNAME:ADT
DTSTART:20260308T060000
END:DAYLIGHT
BEGIN:STANDARD
TZOFFSETFROM:-0300
TZOFFSETTO:-0400
TZNAME:AST
DTSTART:20261101T050000
END:STANDARD
BEGIN:DAYLIGHT
TZOFFSETFROM:-0400
TZOFFSETTO:-0300
TZNAME:ADT
DTSTART:20270314T060000
END:DAYLIGHT
BEGIN:STANDARD
TZOFFSETFROM:-0300
TZOFFSETTO:-0400
TZNAME:AST
DTSTART:20271107T050000
END:STANDARD
END:VTIMEZONE
BEGIN:VEVENT
DTSTART;TZID=America/Halifax:20260501T173000
DTEND;TZID=America/Halifax:20260501T203000
DTSTAMP:20260419T162815
CREATED:20260417T162544Z
LAST-MODIFIED:20260417T162545Z
UID:21918-1777656600-1777667400@oakcitybrewingcompany.com
SUMMARY:First Friday
DESCRIPTION:First Fridays at Oak City – Your weekend starts here! \n\nJoin us on Friday\, May 1st\, from 5:30-8:30 PM to shop with local vendors\, vibe to live music\, and indulge in delicious eats from your favorite food trucks!\nWhether you’re here for the brews\, the beats\, or the shopping\, First Friday is the place to be!\n\nGrab your crew\, sip something delicious! \n\nMusic: Proton Jones\nFood Trucks: Tombachi\, Bowl of Dough & Poblanos Tacos
URL:https://oakcitybrewingcompany.com/event/first-friday-16/
ATTACH;FMTTYPE=image/png:https://oakcitybrewingcompany.com/wp-content/uploads/2026/04/May-First-Friday.png
END:VEVENT
BEGIN:VEVENT
DTSTART;TZID=America/Halifax:20260501T173000
DTEND;TZID=America/Halifax:20260501T203000
DTSTAMP:20260419T162815
CREATED:20260417T162616Z
LAST-MODIFIED:20260417T162616Z
UID:21921-1777656600-1777667400@oakcitybrewingcompany.com
SUMMARY:Tombachi\, Bowl of Dough & Poblanos Tacos
DESCRIPTION:First Friday food trucks
URL:https://oakcitybrewingcompany.com/event/tombachi-bowl-of-dough-poblanos-tacos/
END:VEVENT
BEGIN:VEVENT
DTSTART;TZID=America/Halifax:20260502T150000
DTEND;TZID=America/Halifax:20260502T200000
DTSTAMP:20260419T162815
CREATED:20260417T162645Z
LAST-MODIFIED:20260417T162645Z
UID:21923-1777734000-1777752000@oakcitybrewingcompany.com
SUMMARY:The Flat Drum
DESCRIPTION:
URL:https://oakcitybrewingcompany.com/event/the-flat-drum-12/
END:VEVENT
BEGIN:VEVENT
DTSTART;TZID=America/Halifax:20260503T140000
DTEND;TZID=America/Halifax:20260503T160000
DTSTAMP:20260419T162815
CREATED:20260417T165820Z
LAST-MODIFIED:20260417T165820Z
UID:21928-1777816800-1777824000@oakcitybrewingcompany.com
SUMMARY:Mother’s Day Sip & Pour: A Candle Making Workshop w/ Everglow Candle Co.
DESCRIPTION:Mother’s Day Sip & Pour: A Candle Making Workshop\n\nCelebrate Mother’s Day with a relaxing afternoon filled with creativity\, laughter\, and great drinks at Oak City Brewing on May 3rd from 2 to 4 pm! Join us for a Mother’s Day Sip & Pour Candle Making Workshop\, perfect for moms\, daughters\, friends\, or anyone looking to enjoy a thoughtful and hands-on experience together. Sip your favorite brew\, slow down\, and create a candle that’s as special as the memories you’ll make \n\nMake this Mother’s Day extra special with quality time\, creativity\, and candles \n\n You’ll Learn:\n The Magic of the Flame How to Distinguish Scent Notes Trimming & Finishing Candle Safety & Care\n\n What’s Included:\n• 1 Tumbler Candle with Bamboo Lid• Choose from 3 Curated Scents• Fun\, fun\, fun\n\n Must be 16+ to participate Event is rain or shine All purchases are final\n***Advanced Registration Required***\n\nSign up here: https://www.everglowcandleco.com/product/candle-making-workshop-oak-city-brewery-mothers-day-/HXNYTTMGIDBCZO4H4MAVDOVM?cp=true&sa=true&sbp=false&q=false&fbclid=IwY2xjawRPRbRleHRuA2FlbQIxMABicmlkETEwR1RVcHhDVWNkUUNEbkFWc3J0YwZhcHBfaWQQMjIyMDM5MTc4ODIwMDg5MgABHvKI1Sla1ZZKRcz_MfsIKGwqlsRocQ0CMP_02c0I-Kvf1mMVu7TQDpxpnoE-_aem_fGei57RYmSvyG-uYpXCi7g
URL:https://oakcitybrewingcompany.com/event/mothers-day-sip-pour-a-candle-making-workshop-w-everglow-candle-co/
ATTACH;FMTTYPE=image/jpeg:https://oakcitybrewingcompany.com/wp-content/uploads/2026/04/SipPour-w-Everglow-Candle-Co.jpg
END:VEVENT
BEGIN:VEVENT
DTSTART;TZID=America/Halifax:20260503T140000
DTEND;TZID=America/Halifax:20260503T180000
DTSTAMP:20260419T162815
CREATED:20260417T165528Z
LAST-MODIFIED:20260417T165528Z
UID:21926-1777816800-1777831200@oakcitybrewingcompany.com
SUMMARY:Copperheads Burgers
DESCRIPTION:
URL:https://oakcitybrewingcompany.com/event/copperheads-burgers-6/
END:VEVENT
BEGIN:VEVENT
DTSTART;TZID=America/Halifax:20260506T173000
DTEND;TZID=America/Halifax:20260506T203000
DTSTAMP:20260419T162815
CREATED:20260417T165852Z
LAST-MODIFIED:20260417T165852Z
UID:21931-1778088600-1778099400@oakcitybrewingcompany.com
SUMMARY:Chirba Chirba Dumpling
DESCRIPTION:
URL:https://oakcitybrewingcompany.com/event/chirba-chirba-dumpling-54/
END:VEVENT
BEGIN:VEVENT
DTSTART;TZID=America/Halifax:20260507T173000
DTEND;TZID=America/Halifax:20260507T203000
DTSTAMP:20260419T162815
CREATED:20260417T165937Z
LAST-MODIFIED:20260417T165937Z
UID:21933-1778175000-1778185800@oakcitybrewingcompany.com
SUMMARY:Oink and Moo by Two Brothers
DESCRIPTION:
URL:https://oakcitybrewingcompany.com/event/oink-and-moo-by-two-brothers-13/
CATEGORIES:Food Trucks
END:VEVENT
BEGIN:VEVENT
DTSTART;TZID=America/Halifax:20260507T180000
DTEND;TZID=America/Halifax:20260507T200000
DTSTAMP:20260419T162815
CREATED:20260417T170044Z
LAST-MODIFIED:20260417T170044Z
UID:21935-1778176800-1778184000@oakcitybrewingcompany.com
SUMMARY:Pints & Paws Yappy Hour
DESCRIPTION:Pints\, pups & wagging tails!\n\nBring your pup\, grab a beer\, hang out\, and learn more about the Neuse River Golden Retriever Rescue.\n\nLeashes required. Good times encouraged.
URL:https://oakcitybrewingcompany.com/event/pints-paws-yappy-hour-3/
ATTACH;FMTTYPE=image/png:https://oakcitybrewingcompany.com/wp-content/uploads/2026/04/Pints-Pups-Yappy-Hour-5.png
END:VEVENT
BEGIN:VEVENT
DTSTART;TZID=America/Halifax:20260508T173000
DTEND;TZID=America/Halifax:20260508T203000
DTSTAMP:20260419T162815
CREATED:20260417T170112Z
LAST-MODIFIED:20260417T170112Z
UID:21938-1778261400-1778272200@oakcitybrewingcompany.com
SUMMARY:Not Just A Fry Guy
DESCRIPTION:
URL:https://oakcitybrewingcompany.com/event/not-just-a-fry-guy-6/
CATEGORIES:Food Trucks
END:VEVENT
BEGIN:VEVENT
DTSTART;TZID=America/Halifax:20260509T150000
DTEND;TZID=America/Halifax:20260509T200000
DTSTAMP:20260419T162815
CREATED:20260417T170139Z
LAST-MODIFIED:20260417T170139Z
UID:21940-1778338800-1778356800@oakcitybrewingcompany.com
SUMMARY:Fired Up Pizza & BBQ
DESCRIPTION:
URL:https://oakcitybrewingcompany.com/event/fired-up-pizza-bbq-7/
CATEGORIES:Food Trucks
END:VEVENT
BEGIN:VEVENT
DTSTART;TZID=America/Halifax:20260510T110000
DTEND;TZID=America/Halifax:20260510T140000
DTSTAMP:20260419T162815
CREATED:20260417T170207Z
LAST-MODIFIED:20260417T170207Z
UID:21942-1778410800-1778421600@oakcitybrewingcompany.com
SUMMARY:Good Mornings NC
DESCRIPTION:
URL:https://oakcitybrewingcompany.com/event/good-mornings-nc/
CATEGORIES:Food Trucks
END:VEVENT
BEGIN:VEVENT
DTSTART;TZID=America/Halifax:20260510T110000
DTEND;TZID=America/Halifax:20260510T140000
DTSTAMP:20260419T162815
CREATED:20260417T170344Z
LAST-MODIFIED:20260417T170344Z
UID:21944-1778410800-1778421600@oakcitybrewingcompany.com
SUMMARY:Mother's Day Farmers Market
DESCRIPTION:Fresh vibes\, local finds — Mother’s Day Edition! \n\nJoin us for our Mother’s Day Farmers Market on Sunday\, May 10th at Oak City Brewing from 11 AM – 2 PM!\n\nSip\, shop\, enjoy live music\, and support local farms and businesses—because fresh produce pairs perfectly with fresh beer. 
URL:https://oakcitybrewingcompany.com/event/mothers-day-farmers-market/
ATTACH;FMTTYPE=image/png:https://oakcitybrewingcompany.com/wp-content/uploads/2026/04/May-Farmers-Market.png
END:VEVENT
BEGIN:VEVENT
DTSTART;TZID=America/Halifax:20260512T170000
DTEND;TZID=America/Halifax:20260512T200000
DTSTAMP:20260419T162815
CREATED:20260417T172406Z
LAST-MODIFIED:20260417T172406Z
UID:21961-1778605200-1778616000@oakcitybrewingcompany.com
SUMMARY:Melty
DESCRIPTION:
URL:https://oakcitybrewingcompany.com/event/melty-9/
CATEGORIES:Food Trucks
END:VEVENT
BEGIN:VEVENT
DTSTART;TZID=America/Halifax:20260513T173000
DTEND;TZID=America/Halifax:20260513T203000
DTSTAMP:20260419T162815
CREATED:20260417T172502Z
LAST-MODIFIED:20260417T172502Z
UID:21963-1778693400-1778704200@oakcitybrewingcompany.com
SUMMARY:Beef Street & Pig
DESCRIPTION:
URL:https://oakcitybrewingcompany.com/event/beef-street-pig-8/
CATEGORIES:Food Trucks
END:VEVENT
BEGIN:VEVENT
DTSTART;TZID=America/Halifax:20260514T173000
DTEND;TZID=America/Halifax:20260514T203000
DTSTAMP:20260419T162815
CREATED:20260417T172527Z
LAST-MODIFIED:20260417T172527Z
UID:21965-1778779800-1778790600@oakcitybrewingcompany.com
SUMMARY:The Tasty Turkey Que
DESCRIPTION:
URL:https://oakcitybrewingcompany.com/event/the-tasty-turkey-que-6/
CATEGORIES:Food Trucks
END:VEVENT
BEGIN:VEVENT
DTSTART;TZID=America/Halifax:20260515T173000
DTEND;TZID=America/Halifax:20260515T203000
DTSTAMP:20260419T162815
CREATED:20260417T172550Z
LAST-MODIFIED:20260417T172550Z
UID:21967-1778866200-1778877000@oakcitybrewingcompany.com
SUMMARY:The Naked Empanada
DESCRIPTION:
URL:https://oakcitybrewingcompany.com/event/the-naked-empanada-7/
CATEGORIES:Food Trucks
END:VEVENT
BEGIN:VEVENT
DTSTART;TZID=America/Halifax:20260516T120000
DTEND;TZID=America/Halifax:20260516T160000
DTSTAMP:20260419T162815
CREATED:20260417T170508Z
LAST-MODIFIED:20260417T170508Z
UID:21947-1778932800-1778947200@oakcitybrewingcompany.com
SUMMARY:Spring Makers Market
DESCRIPTION:We  supporting small businesses!\n\nJoin us May 16th from 12–4 PM for our Spring Makers Market: 40+ local vendors\, live music by Kevin Lee\, and tasty food trucks.\n\nGrab a drink\, take a lap\, and see what you find \n\nVendors TBA
URL:https://oakcitybrewingcompany.com/event/spring-makers-market-5/
ATTACH;FMTTYPE=image/png:https://oakcitybrewingcompany.com/wp-content/uploads/2026/04/2026-Makers-Markets.png
END:VEVENT
BEGIN:VEVENT
DTSTART;TZID=America/Halifax:20260516T120000
DTEND;TZID=America/Halifax:20260516T160000
DTSTAMP:20260419T162815
CREATED:20260417T172714Z
LAST-MODIFIED:20260417T172714Z
UID:21971-1778932800-1778947200@oakcitybrewingcompany.com
SUMMARY:Nova Dough & True North Poutine
DESCRIPTION:Spring Makers Market food trucks
URL:https://oakcitybrewingcompany.com/event/nova-dough-true-north-poutine/
CATEGORIES:Food Trucks
END:VEVENT
BEGIN:VEVENT
DTSTART;TZID=America/Halifax:20260516T120000
DTEND;TZID=America/Halifax:20260516T200000
DTSTAMP:20260419T162815
CREATED:20260417T172616Z
LAST-MODIFIED:20260417T172616Z
UID:21969-1778932800-1778961600@oakcitybrewingcompany.com
SUMMARY:Barone Italian Grille
DESCRIPTION:
URL:https://oakcitybrewingcompany.com/event/barone-italian-grille-13/
END:VEVENT
BEGIN:VEVENT
DTSTART;TZID=America/Halifax:20260517T140000
DTEND;TZID=America/Halifax:20260517T150000
DTSTAMP:20260419T162815
CREATED:20260417T170545Z
LAST-MODIFIED:20260417T170545Z
UID:21950-1779026400-1779030000@oakcitybrewingcompany.com
SUMMARY:Plant Bingo Pop-Up
DESCRIPTION:Details TBA
URL:https://oakcitybrewingcompany.com/event/plant-bingo-pop-up/
END:VEVENT
BEGIN:VEVENT
DTSTART;TZID=America/Halifax:20260517T140000
DTEND;TZID=America/Halifax:20260517T180000
DTSTAMP:20260419T162815
CREATED:20260417T172738Z
LAST-MODIFIED:20260417T172738Z
UID:21973-1779026400-1779040800@oakcitybrewingcompany.com
SUMMARY:Hi! Bachi
DESCRIPTION:
URL:https://oakcitybrewingcompany.com/event/hi-bachi-6/
CATEGORIES:Food Trucks
END:VEVENT
BEGIN:VEVENT
DTSTART;TZID=America/Halifax:20260520T173000
DTEND;TZID=America/Halifax:20260520T203000
DTSTAMP:20260419T162815
CREATED:20260417T173021Z
LAST-MODIFIED:20260417T173021Z
UID:21975-1779298200-1779309000@oakcitybrewingcompany.com
SUMMARY:Arepa Culture
DESCRIPTION:
URL:https://oakcitybrewingcompany.com/event/arepa-culture-9/
CATEGORIES:Food Trucks
END:VEVENT
BEGIN:VEVENT
DTSTART;TZID=America/Halifax:20260522T170000
DTEND;TZID=America/Halifax:20260522T200000
DTSTAMP:20260419T162815
CREATED:20260417T171103Z
LAST-MODIFIED:20260417T171103Z
UID:21952-1779469200-1779480000@oakcitybrewingcompany.com
SUMMARY:Live Music on the Patio
DESCRIPTION:Kick back on a warm spring night under the patio lights and enjoy live music with us \n\nFriday\, May 22nd Music: Drew Holgate from 5-8 PM\n\nCome kick back with friends for a laid-back night of good tunes and great company.
URL:https://oakcitybrewingcompany.com/event/live-music-on-the-patio-4/
ATTACH;FMTTYPE=image/png:https://oakcitybrewingcompany.com/wp-content/uploads/2026/04/Live-Music-on-the-Patio-3.png
END:VEVENT
BEGIN:VEVENT
DTSTART;TZID=America/Halifax:20260522T173000
DTEND;TZID=America/Halifax:20260522T203000
DTSTAMP:20260419T162815
CREATED:20260417T173113Z
LAST-MODIFIED:20260417T173113Z
UID:21979-1779471000-1779481800@oakcitybrewingcompany.com
SUMMARY:Chick-N-Que
DESCRIPTION:
URL:https://oakcitybrewingcompany.com/event/chick-n-que-59/
CATEGORIES:Food Trucks
END:VEVENT
BEGIN:VEVENT
DTSTART;TZID=America/Halifax:20260523T150000
DTEND;TZID=America/Halifax:20260523T200000
DTSTAMP:20260419T162815
CREATED:20260417T173050Z
LAST-MODIFIED:20260417T173050Z
UID:21977-1779548400-1779566400@oakcitybrewingcompany.com
SUMMARY:Savor Bowls
DESCRIPTION:
URL:https://oakcitybrewingcompany.com/event/savor-bowls-4/
CATEGORIES:Food Trucks
END:VEVENT
BEGIN:VEVENT
DTSTART;TZID=America/Halifax:20260524T140000
DTEND;TZID=America/Halifax:20260524T180000
DTSTAMP:20260419T162815
CREATED:20260417T173139Z
LAST-MODIFIED:20260417T173139Z
UID:21981-1779631200-1779645600@oakcitybrewingcompany.com
SUMMARY:Warehouse BBQ
DESCRIPTION:
URL:https://oakcitybrewingcompany.com/event/warehouse-bbq-12/
CATEGORIES:Food Trucks
END:VEVENT
BEGIN:VEVENT
DTSTART;TZID=America/Halifax:20260525T110000
DTEND;TZID=America/Halifax:20260525T120000
DTSTAMP:20260419T162815
CREATED:20260417T171354Z
LAST-MODIFIED:20260417T171354Z
UID:21955-1779706800-1779710400@oakcitybrewingcompany.com
SUMMARY:Memorial Day Bootcamp Workout w/ Outside the Box Fitness
DESCRIPTION:Registration Required! Use the ticket link: https://otbfitness.pushpress.com/landing/events/cal-87a339f55de14be1b2d9255f76ec/message?fbclid=IwY2xjawRPSUhleHRuA2FlbQIxMABicmlkETEwR1RVcHhDVWNkUUNEbkFWc3J0YwZhcHBfaWQQMjIyMDM5MTc4ODIwMDg5MgABHimaoyV439sanrs7gL4uOpWVJTGv3EoSjFVx0lx4SEHp-wU0s0C7pp9ZGSmL_aem_5P_Mo1z2Gfk79IxA_6Dugg\n\nCome workout with Outside The Box Fitness at Oak City Brewing Company! This is an outdoor\, bootcamp style workout for ALL fitness levels led by a personal trainer. The 60 minute workout utilizes various types of equipment\, and focuses on functional\, full body movements. Strength\, endurance\, and interval style training is incorporated into almost every workout. Individual\, partner\, and team training concepts are combined to make this workout a unique experience for everyone. Bring a friend\, get an awesome workout in\, and meet some new amazing people!\n\nClick “See More Details” after registering and submit your current fitness level information so I can partner you with the right group if we have partner work for this workout.\n\nWhen: Monday May 25th\, 2026Show Up Time: 10:45-10:55 AMWorkout Stats: 11:00 AMWorkout Ends: 12:00 PMSocial After: 12:00 PM\n\n*By participating in any of the activities Outside The Box Fitness offers and by submitting this form you recognize the inherit risk with them and release all affiliates\, trainers\, coaches\, participants\, partners and facilities from all liability. You accept ALL liability while participating in any exercises or activities. By registering you also accept the Terms and Conditions\, the Privacy Policy\, and the Photo Release.
URL:https://oakcitybrewingcompany.com/event/memorial-day-bootcamp-workout-w-outside-the-box-fitness/
ATTACH;FMTTYPE=image/png:https://oakcitybrewingcompany.com/wp-content/uploads/2026/04/Screenshot-2026-04-17-at-1.12.18-PM-scaled.png
END:VEVENT
BEGIN:VEVENT
DTSTART;TZID=America/Halifax:20260525T120000
DTEND;TZID=America/Halifax:20260525T170000
DTSTAMP:20260419T162815
CREATED:20260417T173229Z
LAST-MODIFIED:20260417T173229Z
UID:21985-1779710400-1779728400@oakcitybrewingcompany.com
SUMMARY:The Flat Drum
DESCRIPTION:
URL:https://oakcitybrewingcompany.com/event/the-flat-drum-13/
CATEGORIES:Food Trucks
END:VEVENT
BEGIN:VEVENT
DTSTART;TZID=America/Halifax:20260526T170000
DTEND;TZID=America/Halifax:20260526T200000
DTSTAMP:20260419T162815
CREATED:20260417T173252Z
LAST-MODIFIED:20260417T173252Z
UID:21987-1779814800-1779825600@oakcitybrewingcompany.com
SUMMARY:Moonrunners
DESCRIPTION:
URL:https://oakcitybrewingcompany.com/event/moonrunners-10/
CATEGORIES:Food Trucks
END:VEVENT
BEGIN:VEVENT
DTSTART;TZID=America/Halifax:20260527T173000
DTEND;TZID=America/Halifax:20260527T203000
DTSTAMP:20260419T162815
CREATED:20260417T173313Z
LAST-MODIFIED:20260417T173313Z
UID:21989-1779903000-1779913800@oakcitybrewingcompany.com
SUMMARY:Bulkogi
DESCRIPTION:
URL:https://oakcitybrewingcompany.com/event/bulkogi-19/
CATEGORIES:Food Trucks
END:VEVENT
END:VCALENDAR