BEGIN:VCALENDAR
VERSION:2.0
PRODID:-//Oak City Brewing Company - ECPv6.15.20//NONSGML v1.0//EN
CALSCALE:GREGORIAN
METHOD:PUBLISH
X-WR-CALNAME:Oak City Brewing Company
X-ORIGINAL-URL:https://oakcitybrewingcompany.com
X-WR-CALDESC:Events for Oak City Brewing Company
REFRESH-INTERVAL;VALUE=DURATION:PT1H
X-Robots-Tag:noindex
X-PUBLISHED-TTL:PT1H
BEGIN:VTIMEZONE
TZID:America/Halifax
BEGIN:DAYLIGHT
TZOFFSETFROM:-0400
TZOFFSETTO:-0300
TZNAME:ADT
DTSTART:20250309T060000
END:DAYLIGHT
BEGIN:STANDARD
TZOFFSETFROM:-0300
TZOFFSETTO:-0400
TZNAME:AST
DTSTART:20251102T050000
END:STANDARD
BEGIN:DAYLIGHT
TZOFFSETFROM:-0400
TZOFFSETTO:-0300
TZNAME:ADT
DTSTART:20260308T060000
END:DAYLIGHT
BEGIN:STANDARD
TZOFFSETFROM:-0300
TZOFFSETTO:-0400
TZNAME:AST
DTSTART:20261101T050000
END:STANDARD
BEGIN:DAYLIGHT
TZOFFSETFROM:-0400
TZOFFSETTO:-0300
TZNAME:ADT
DTSTART:20270314T060000
END:DAYLIGHT
BEGIN:STANDARD
TZOFFSETFROM:-0300
TZOFFSETTO:-0400
TZNAME:AST
DTSTART:20271107T050000
END:STANDARD
END:VTIMEZONE
BEGIN:VEVENT
DTSTART;TZID=America/Halifax:20260218T173000
DTEND;TZID=America/Halifax:20260218T203000
DTSTAMP:20260419T150252
CREATED:20260122T200010Z
LAST-MODIFIED:20260122T200010Z
UID:21692-1771435800-1771446600@oakcitybrewingcompany.com
SUMMARY:Arepa Culture
DESCRIPTION:
URL:https://oakcitybrewingcompany.com/event/arepa-culture-6/
CATEGORIES:Food Trucks
END:VEVENT
BEGIN:VEVENT
DTSTART;TZID=America/Halifax:20260215T140000
DTEND;TZID=America/Halifax:20260215T180000
DTSTAMP:20260419T150252
CREATED:20260122T195940Z
LAST-MODIFIED:20260122T195940Z
UID:21690-1771164000-1771178400@oakcitybrewingcompany.com
SUMMARY:Hi! Bachi
DESCRIPTION:
URL:https://oakcitybrewingcompany.com/event/hi-bachi-3/
CATEGORIES:Food Trucks
END:VEVENT
BEGIN:VEVENT
DTSTART;TZID=America/Halifax:20260215T140000
DTEND;TZID=America/Halifax:20260215T160000
DTSTAMP:20260419T150252
CREATED:20260122T201228Z
LAST-MODIFIED:20260122T201229Z
UID:21715-1771164000-1771171200@oakcitybrewingcompany.com
SUMMARY:Candle Workshop w/ Everglow Candle Co.
DESCRIPTION: Sip\, Pour & Create \n\nLove is in the air—and in the wax! Whether you’re planning the perfect Valentine’s date\, a fun Galentine’s hang\, or just treating yourself to a little self-love\, join us Sunday\, February 15th from 2–4 PM for a cozy and creative Sip & Pour Candle Making Workshop at Oak City Brewing. Sip on delicious drinks\, laugh with your favorite people\, and create a candle that smells just as good as the memories you’ll make. Expect great vibes\, hands-on creativity\, and a relaxing experience you won’t forget \n\n You’ll Learn: The Magic of the Flame How to Distinguish Scent Notes Trimming & Finishing Candle Safety & Care\n\n What’s Included:• 1 Tumbler Candle with Bamboo Lid• Choose from 3 Curated Scents• $1 Off Mimosa’s & Bellini’s • A fun\, relaxed experience with great drinks & even better company\nhttps://www.everglowcandleco.com/product/candle-making-workshop-oak-city-brewery\n\n Plus\, we’ll be raffling off a Self-Love Valentine’s Gift Basket\, because everyone deserves a little extra love. Psst… planning a date night? A date night coupon is available online to make your experience even sweeter \n\n Must be 16+ to participate Event is rain or shine All purchases are final
URL:https://oakcitybrewingcompany.com/event/candle-workshop-w-everglow-candle-co/
CATEGORIES:Events
ATTACH;FMTTYPE=image/png:https://oakcitybrewingcompany.com/wp-content/uploads/2026/01/Candle-Making-22.png
END:VEVENT
BEGIN:VEVENT
DTSTART;TZID=America/Halifax:20260214T150000
DTEND;TZID=America/Halifax:20260214T200000
DTSTAMP:20260419T150252
CREATED:20260122T195917Z
LAST-MODIFIED:20260122T195917Z
UID:21688-1771081200-1771099200@oakcitybrewingcompany.com
SUMMARY:Fired Up Pizza & BBQ
DESCRIPTION:
URL:https://oakcitybrewingcompany.com/event/fired-up-pizza-bbq-5/
CATEGORIES:Food Trucks
END:VEVENT
BEGIN:VEVENT
DTSTART;TZID=America/Halifax:20260214T120000
DTEND;TZID=America/Halifax:20260214T230000
DTSTAMP:20260419T150252
CREATED:20260202T160556Z
LAST-MODIFIED:20260202T160745Z
UID:21724-1771070400-1771110000@oakcitybrewingcompany.com
SUMMARY:Valentine's Day — Love on Tap
DESCRIPTION:Bring your Valentine\, your Galentines\, or just yourself because love (and beer) deserves a celebration! 🍓🍫🍾 \n  \nEnjoy $1 off Bellinis and $6 Valentine’s Day flights crafted just for the occasion. 💖 \nPlus\, treat yourself to gourmet cookies from Butter and Sugar for a little something sweet on the side. 🍪 \n  \nFired Up Pizza & BBQ will be serving from 3–8 PM! 🍕🔥
URL:https://oakcitybrewingcompany.com/event/valentines-day-love-on-tap/
CATEGORIES:Brewery Events,Events
ATTACH;FMTTYPE=image/png:https://oakcitybrewingcompany.com/wp-content/uploads/2026/02/Vday-event-flyer-promo-.png
END:VEVENT
BEGIN:VEVENT
DTSTART;TZID=America/Halifax:20260213T173000
DTEND;TZID=America/Halifax:20260213T203000
DTSTAMP:20260419T150252
CREATED:20260122T195853Z
LAST-MODIFIED:20260122T195853Z
UID:21685-1771003800-1771014600@oakcitybrewingcompany.com
SUMMARY:Not Just A Fry Guy
DESCRIPTION:
URL:https://oakcitybrewingcompany.com/event/not-just-a-fry-guy-4/
CATEGORIES:Food Trucks
END:VEVENT
BEGIN:VEVENT
DTSTART;TZID=America/Halifax:20260212T173000
DTEND;TZID=America/Halifax:20260212T203000
DTSTAMP:20260419T150252
CREATED:20260122T195833Z
LAST-MODIFIED:20260122T195833Z
UID:21684-1770917400-1770928200@oakcitybrewingcompany.com
SUMMARY:The Tasty Turkey Que
DESCRIPTION:
URL:https://oakcitybrewingcompany.com/event/the-tasty-turkey-que-4/
CATEGORIES:Food Trucks
END:VEVENT
BEGIN:VEVENT
DTSTART;TZID=America/Halifax:20260211T180000
DTEND;TZID=America/Halifax:20260211T200000
DTSTAMP:20260419T150252
CREATED:20260202T161355Z
LAST-MODIFIED:20260202T161356Z
UID:21727-1770832800-1770840000@oakcitybrewingcompany.com
SUMMARY:Trivia
DESCRIPTION:Trivia Night at Oak City! Bring your crew\, grab a pint\, and put your knowledge to the test. \nFrom random facts to tricky questions\, it’s all about brains\, beer\, and bragging rights. \nFree to play with prizes for the winners!
URL:https://oakcitybrewingcompany.com/event/trivia-2/
CATEGORIES:Brewery Events,Events
ATTACH;FMTTYPE=image/png:https://oakcitybrewingcompany.com/wp-content/uploads/2026/02/Trivia-Flyer-1.png
END:VEVENT
BEGIN:VEVENT
DTSTART;TZID=America/Halifax:20260211T173000
DTEND;TZID=America/Halifax:20260211T203000
DTSTAMP:20260419T150252
CREATED:20260122T195805Z
LAST-MODIFIED:20260122T195805Z
UID:21681-1770831000-1770841800@oakcitybrewingcompany.com
SUMMARY:Beef Street & Pig
DESCRIPTION:
URL:https://oakcitybrewingcompany.com/event/beef-street-pig-4/
CATEGORIES:Food Trucks
END:VEVENT
BEGIN:VEVENT
DTSTART;TZID=America/Halifax:20260210T170000
DTEND;TZID=America/Halifax:20260210T200000
DTSTAMP:20260419T150252
CREATED:20260122T195744Z
LAST-MODIFIED:20260122T195744Z
UID:21680-1770742800-1770753600@oakcitybrewingcompany.com
SUMMARY:Melty
DESCRIPTION:
URL:https://oakcitybrewingcompany.com/event/melty-4/
CATEGORIES:Food Trucks
END:VEVENT
BEGIN:VEVENT
DTSTART;TZID=America/Halifax:20260208T140000
DTEND;TZID=America/Halifax:20260208T180000
DTSTAMP:20260419T150252
CREATED:20260122T195708Z
LAST-MODIFIED:20260122T195708Z
UID:21678-1770559200-1770573600@oakcitybrewingcompany.com
SUMMARY:St. Vicents
DESCRIPTION:
URL:https://oakcitybrewingcompany.com/event/st-vicents-2/
CATEGORIES:Food Trucks
END:VEVENT
BEGIN:VEVENT
DTSTART;TZID=America/Halifax:20260207T150000
DTEND;TZID=America/Halifax:20260207T200000
DTSTAMP:20260419T150252
CREATED:20260122T195646Z
LAST-MODIFIED:20260122T195646Z
UID:21676-1770476400-1770494400@oakcitybrewingcompany.com
SUMMARY:The Flat Drum
DESCRIPTION:
URL:https://oakcitybrewingcompany.com/event/the-flat-drum-9/
CATEGORIES:Food Trucks
END:VEVENT
BEGIN:VEVENT
DTSTART;TZID=America/Halifax:20260206T170000
DTEND;TZID=America/Halifax:20260206T200000
DTSTAMP:20260419T150252
CREATED:20260202T152457Z
LAST-MODIFIED:20260202T152457Z
UID:21722-1770397200-1770408000@oakcitybrewingcompany.com
SUMMARY:Copperheads Burgers
DESCRIPTION:
URL:https://oakcitybrewingcompany.com/event/copperheads-burgers-3/
END:VEVENT
BEGIN:VEVENT
DTSTART;TZID=America/Halifax:20260205T180000
DTEND;TZID=America/Halifax:20260205T193000
DTSTAMP:20260419T150252
CREATED:20260122T200808Z
LAST-MODIFIED:20260122T200810Z
UID:21712-1770314400-1770319800@oakcitybrewingcompany.com
SUMMARY:Valentine's Date Night Candle Workshop w/ Hand the Light Candle Co.
DESCRIPTION:This Valentine-inspired candle-making workshop is all about warm ambiance\, heartfelt scents\, and crafting something beautiful—whether you’re treating yourself\, planning a fun date night\, or gathering with friends. Expect a relaxed atmosphere\, delicious brews\, and a chance to create candles that reflect all the sweetness and romance of early February.\n\n Ticket Options:• $38 – Two 8oz candles (plus Eventbrite fees)• Optional upgrades available at checkout — including premium vessels and specialty candle bowlsChoose from a curated fragrance selection inspired by love\, comfort\, and connection. Personalize your candles with decorative elements to make them a perfect gift—or a treat for your own space.\nhttps://www.eventbrite.com/e/valentines-date-night-candle-making-workshop-at-oak-city-brewing-company-tickets-1977526377629?aff=oddtdtcreator\n\n Hosted by Hand.The.LightWe travel the country creating connections through hands-on experiences\, creativity\, candlelight\, and community.\n Family-friendly! Kids are welcome with an accompanying adult.\n\n Please Note:• Refunds are available up to 7 days before the event• No entry permitted after 6:20 PM to maintain safety and workshop flow\n\n Spread the love\, spark your creativity\, and join us for a heart-warming candle-making experience at Oak City Brewing Company!
URL:https://oakcitybrewingcompany.com/event/valentines-date-night-candle-workshop-w-hand-the-light-candle-co/
CATEGORIES:Events
ATTACH;FMTTYPE=image/png:https://oakcitybrewingcompany.com/wp-content/uploads/2026/01/Screenshot-2026-01-22-at-3.07.06-PM.png
END:VEVENT
BEGIN:VEVENT
DTSTART;TZID=America/Halifax:20260205T173000
DTEND;TZID=America/Halifax:20260205T203000
DTSTAMP:20260419T150252
CREATED:20260122T194007Z
LAST-MODIFIED:20260122T194007Z
UID:21673-1770312600-1770323400@oakcitybrewingcompany.com
SUMMARY:Oink and Moo by Two Brothers
DESCRIPTION:
URL:https://oakcitybrewingcompany.com/event/oink-and-moo-by-two-brothers-10/
CATEGORIES:Food Trucks
END:VEVENT
BEGIN:VEVENT
DTSTART;TZID=America/Halifax:20260204T173000
DTEND;TZID=America/Halifax:20260204T203000
DTSTAMP:20260419T150252
CREATED:20260122T193938Z
LAST-MODIFIED:20260122T193938Z
UID:21672-1770226200-1770237000@oakcitybrewingcompany.com
SUMMARY:Chirba Chirba Dumpling
DESCRIPTION:
URL:https://oakcitybrewingcompany.com/event/chirba-chirba-dumpling-51/
CATEGORIES:Food Trucks
END:VEVENT
BEGIN:VEVENT
DTSTART;TZID=America/Halifax:20260201T140000
DTEND;TZID=America/Halifax:20260201T180000
DTSTAMP:20260419T150252
CREATED:20260122T193453Z
LAST-MODIFIED:20260122T195614Z
UID:21670-1769954400-1769968800@oakcitybrewingcompany.com
SUMMARY:Copperheads Burgers
DESCRIPTION:
URL:https://oakcitybrewingcompany.com/event/copperheads-burgers-2/
CATEGORIES:Food Trucks
END:VEVENT
BEGIN:VEVENT
DTSTART;TZID=America/Halifax:20260131T150000
DTEND;TZID=America/Halifax:20260131T200000
DTSTAMP:20260419T150252
CREATED:20251219T174341Z
LAST-MODIFIED:20251219T174341Z
UID:21409-1769871600-1769889600@oakcitybrewingcompany.com
SUMMARY:Island Jams
DESCRIPTION:
URL:https://oakcitybrewingcompany.com/event/island-jams/
CATEGORIES:Food Trucks
END:VEVENT
BEGIN:VEVENT
DTSTART;TZID=America/Halifax:20260130T173000
DTEND;TZID=America/Halifax:20260130T203000
DTSTAMP:20260419T150252
CREATED:20251219T174317Z
LAST-MODIFIED:20251219T174317Z
UID:21408-1769794200-1769805000@oakcitybrewingcompany.com
SUMMARY:True North Poutine
DESCRIPTION:
URL:https://oakcitybrewingcompany.com/event/true-north-poutine/
CATEGORIES:Food Trucks
END:VEVENT
BEGIN:VEVENT
DTSTART;TZID=America/Halifax:20260129T173000
DTEND;TZID=America/Halifax:20260129T203000
DTSTAMP:20260419T150252
CREATED:20251219T174240Z
LAST-MODIFIED:20251219T174240Z
UID:21406-1769707800-1769718600@oakcitybrewingcompany.com
SUMMARY:Mama Voula's
DESCRIPTION:
URL:https://oakcitybrewingcompany.com/event/mama-voulas-19/
CATEGORIES:Food Trucks
END:VEVENT
BEGIN:VEVENT
DTSTART;TZID=America/Halifax:20260128T173000
DTEND;TZID=America/Halifax:20260128T203000
DTSTAMP:20260419T150252
CREATED:20251219T174209Z
LAST-MODIFIED:20251219T174209Z
UID:21404-1769621400-1769632200@oakcitybrewingcompany.com
SUMMARY:Bulkogi
DESCRIPTION:
URL:https://oakcitybrewingcompany.com/event/bulkogi-15/
CATEGORIES:Food Trucks
END:VEVENT
BEGIN:VEVENT
DTSTART;TZID=America/Halifax:20260126T180000
DTEND;TZID=America/Halifax:20260126T200000
DTSTAMP:20260419T150252
CREATED:20260115T185101Z
LAST-MODIFIED:20260115T185102Z
UID:21663-1769450400-1769457600@oakcitybrewingcompany.com
SUMMARY:Music Bingo
DESCRIPTION:Join us for music bingo and test your tune knowledge with a cold beer in hand for a fun night at Oak City! \nBring your friends\, grab a pint\, and get ready for a night full of great music and even better beer.
URL:https://oakcitybrewingcompany.com/event/music-bingo-5/
CATEGORIES:Brewery Events,Events
ATTACH;FMTTYPE=image/png:https://oakcitybrewingcompany.com/wp-content/uploads/2026/01/Music-Bingo.png
END:VEVENT
BEGIN:VEVENT
DTSTART;TZID=America/Halifax:20260125T140000
DTEND;TZID=America/Halifax:20260125T180000
DTSTAMP:20260419T150252
CREATED:20251219T174145Z
LAST-MODIFIED:20251219T174145Z
UID:21402-1769349600-1769364000@oakcitybrewingcompany.com
SUMMARY:St. Vicents
DESCRIPTION:
URL:https://oakcitybrewingcompany.com/event/st-vicents/
CATEGORIES:Food Trucks
END:VEVENT
BEGIN:VEVENT
DTSTART;TZID=America/Halifax:20260124T150000
DTEND;TZID=America/Halifax:20260124T200000
DTSTAMP:20260419T150252
CREATED:20251219T174102Z
LAST-MODIFIED:20251219T174102Z
UID:21399-1769266800-1769284800@oakcitybrewingcompany.com
SUMMARY:Bertos Chimis
DESCRIPTION:
URL:https://oakcitybrewingcompany.com/event/bertos-chimis-5/
CATEGORIES:Food Trucks
END:VEVENT
BEGIN:VEVENT
DTSTART;TZID=America/Halifax:20260124T120000
DTEND;TZID=America/Halifax:20260124T150000
DTSTAMP:20260419T150252
CREATED:20260122T203339Z
LAST-MODIFIED:20260122T203340Z
UID:21718-1769256000-1769266800@oakcitybrewingcompany.com
SUMMARY:Run Club Anniversary Party
DESCRIPTION:
URL:https://oakcitybrewingcompany.com/event/run-club-anniversary-party-3/
CATEGORIES:Events
ATTACH;FMTTYPE=image/png:https://oakcitybrewingcompany.com/wp-content/uploads/2026/01/Run-Club-Event-Covers-1.png
END:VEVENT
BEGIN:VEVENT
DTSTART;TZID=America/Halifax:20260123T173000
DTEND;TZID=America/Halifax:20260123T203000
DTSTAMP:20260419T150252
CREATED:20251219T174118Z
LAST-MODIFIED:20251219T174118Z
UID:21398-1769189400-1769200200@oakcitybrewingcompany.com
SUMMARY:Chick-N-Que
DESCRIPTION:
URL:https://oakcitybrewingcompany.com/event/chick-n-que-55/
CATEGORIES:Food Trucks
END:VEVENT
BEGIN:VEVENT
DTSTART;TZID=America/Halifax:20260122T173000
DTEND;TZID=America/Halifax:20260122T203000
DTSTAMP:20260419T150252
CREATED:20260122T192951Z
LAST-MODIFIED:20260122T192951Z
UID:21666-1769103000-1769113800@oakcitybrewingcompany.com
SUMMARY:Savor Bowls
DESCRIPTION:
URL:https://oakcitybrewingcompany.com/event/savor-bowls/
CATEGORIES:Food Trucks
END:VEVENT
BEGIN:VEVENT
DTSTART;TZID=America/Halifax:20260121T180000
DTEND;TZID=America/Halifax:20260121T200000
DTSTAMP:20260419T150252
CREATED:20260115T182400Z
LAST-MODIFIED:20260115T184714Z
UID:21660-1769018400-1769025600@oakcitybrewingcompany.com
SUMMARY:Trivia
DESCRIPTION:Trivia Night at Oak City! Bring your crew\, grab a pint\, and put your knowledge to the test. \nFrom random facts to tricky questions\, it’s all about brains\, beer\, and bragging rights. Free to play with prizes for the winners!
URL:https://oakcitybrewingcompany.com/event/trivia/
CATEGORIES:Brewery Events,Events
ATTACH;FMTTYPE=image/png:https://oakcitybrewingcompany.com/wp-content/uploads/2026/01/Trivia-Flyer.png
END:VEVENT
BEGIN:VEVENT
DTSTART;TZID=America/Halifax:20260121T173000
DTEND;TZID=America/Halifax:20260121T203000
DTSTAMP:20260419T150252
CREATED:20251219T174019Z
LAST-MODIFIED:20251219T174019Z
UID:21396-1769016600-1769027400@oakcitybrewingcompany.com
SUMMARY:Arepa Culture
DESCRIPTION:
URL:https://oakcitybrewingcompany.com/event/arepa-culture-5/
CATEGORIES:Food Trucks
END:VEVENT
BEGIN:VEVENT
DTSTART;TZID=America/Halifax:20260118T140000
DTEND;TZID=America/Halifax:20260118T180000
DTSTAMP:20260419T150252
CREATED:20251219T173942Z
LAST-MODIFIED:20251219T173942Z
UID:21394-1768744800-1768759200@oakcitybrewingcompany.com
SUMMARY:Hi! Bachi
DESCRIPTION:
URL:https://oakcitybrewingcompany.com/event/hi-bachi-2/
CATEGORIES:Food Trucks
END:VEVENT
END:VCALENDAR