BEGIN:VCALENDAR
VERSION:2.0
PRODID:-//Oak City Brewing Company - ECPv6.15.20//NONSGML v1.0//EN
CALSCALE:GREGORIAN
METHOD:PUBLISH
X-WR-CALNAME:Oak City Brewing Company
X-ORIGINAL-URL:https://oakcitybrewingcompany.com
X-WR-CALDESC:Events for Oak City Brewing Company
REFRESH-INTERVAL;VALUE=DURATION:PT1H
X-Robots-Tag:noindex
X-PUBLISHED-TTL:PT1H
BEGIN:VTIMEZONE
TZID:America/Halifax
BEGIN:DAYLIGHT
TZOFFSETFROM:-0400
TZOFFSETTO:-0300
TZNAME:ADT
DTSTART:20230312T060000
END:DAYLIGHT
BEGIN:STANDARD
TZOFFSETFROM:-0300
TZOFFSETTO:-0400
TZNAME:AST
DTSTART:20231105T050000
END:STANDARD
BEGIN:DAYLIGHT
TZOFFSETFROM:-0400
TZOFFSETTO:-0300
TZNAME:ADT
DTSTART:20240310T060000
END:DAYLIGHT
BEGIN:STANDARD
TZOFFSETFROM:-0300
TZOFFSETTO:-0400
TZNAME:AST
DTSTART:20241103T050000
END:STANDARD
BEGIN:DAYLIGHT
TZOFFSETFROM:-0400
TZOFFSETTO:-0300
TZNAME:ADT
DTSTART:20250309T060000
END:DAYLIGHT
BEGIN:STANDARD
TZOFFSETFROM:-0300
TZOFFSETTO:-0400
TZNAME:AST
DTSTART:20251102T050000
END:STANDARD
END:VTIMEZONE
BEGIN:VEVENT
DTSTART;TZID=America/Halifax:20240704T120000
DTEND;TZID=America/Halifax:20240704T180000
DTSTAMP:20260422T230426
CREATED:20220816T150752Z
LAST-MODIFIED:20220816T150752Z
UID:19665-1720094400-1720116000@oakcitybrewingcompany.com
SUMMARY:Dubz Grub
DESCRIPTION:Dubz Grub is more than just a food truck\, it is a dream come true for Robert and Adrienne Wilkinson.  We have over 30 years of experience in the food industry and finally decided to take a risk and follow our passions. Our Mission is to be professional\, reliable and bring delicious\, quality homemade food to your business or catered events.
URL:https://oakcitybrewingcompany.com/event/dubz-grub-3-2023-02-18-2024-07-04/
CATEGORIES:Food Trucks
ATTACH;FMTTYPE=image/png:https://oakcitybrewingcompany.com/wp-content/uploads/2022/08/Snacken-01.png
END:VEVENT
BEGIN:VEVENT
DTSTART;VALUE=DATE:20240704
DTEND;VALUE=DATE:20240705
DTSTAMP:20260422T230426
CREATED:20240613T210644Z
LAST-MODIFIED:20240613T210700Z
UID:19774-1720051200-1720137599@oakcitybrewingcompany.com
SUMMARY:4th of July Hours: 11 AM - 8 PM
DESCRIPTION:The taproom will be open from 11 AM to 8 PM.
URL:https://oakcitybrewingcompany.com/event/4th-of-july-hours-11-am-8-pm/
ATTACH;FMTTYPE=image/png:https://oakcitybrewingcompany.com/wp-content/uploads/2024/06/4th-of-July-Hours.png
END:VEVENT
BEGIN:VEVENT
DTSTART;TZID=America/Halifax:20240703T183000
DTEND;TZID=America/Halifax:20240703T193000
DTSTAMP:20260422T230426
CREATED:20230622T143255Z
LAST-MODIFIED:20230622T143255Z
UID:18700-1720031400-1720035000@oakcitybrewingcompany.com
SUMMARY:Beer Run
DESCRIPTION:Join us for a 1.5\, 3\, or 5 mile run or walk through downtown Knightdale\, Knightdale Station Park\, Mingo Creek Trail\, and other areas and landmarks that make our town special with our run club. \nLearn more here: https://oakcitybrewingcompany.com/run-club/ \nRun club meets up at 6:30 pm every Wednesday or 11:30 am every Saturday\, cheers!
URL:https://oakcitybrewingcompany.com/event/beer-run-2024-07-03/
CATEGORIES:Brewery Events,Weekly Events
ATTACH;FMTTYPE=image/png:https://oakcitybrewingcompany.com/wp-content/uploads/2023/06/Screen-Shot-2023-06-22-at-10.25.57-AM.png
END:VEVENT
BEGIN:VEVENT
DTSTART;TZID=America/Halifax:20240703T053000
DTEND;TZID=America/Halifax:20240703T203000
DTSTAMP:20260422T230426
CREATED:20240401T124518Z
LAST-MODIFIED:20240401T124518Z
UID:19524-1719984600-1720038600@oakcitybrewingcompany.com
SUMMARY:Coney Island NC
DESCRIPTION:They sell specialty hot dogs\, hamburgers\, chili\, nachos\, curly fries\, shoe string fries\, tenders\, popcorn chicken\, mozzarella sticks\, and have kids meals.
URL:https://oakcitybrewingcompany.com/event/coney-island-nc-2024-07-03/
CATEGORIES:Food Trucks
END:VEVENT
BEGIN:VEVENT
DTSTART;TZID=America/Halifax:20240702T170000
DTEND;TZID=America/Halifax:20240702T200000
DTSTAMP:20260422T230426
CREATED:20240411T140406Z
LAST-MODIFIED:20240411T140406Z
UID:19710-1719939600-1719950400@oakcitybrewingcompany.com
SUMMARY:Copperheads Craft Burgers
DESCRIPTION:Uniquely crafted burgers!
URL:https://oakcitybrewingcompany.com/event/copperheads-craft-burgers-2024-07-02/
CATEGORIES:Food Trucks
ATTACH;FMTTYPE=image/png:https://oakcitybrewingcompany.com/wp-content/uploads/2024/04/Screenshot-2024-04-11-at-10.01.30-AM.png
END:VEVENT
BEGIN:VEVENT
DTSTART;TZID=America/Halifax:20240630T140000
DTEND;TZID=America/Halifax:20240630T180000
DTSTAMP:20260422T230426
CREATED:20240401T124518Z
LAST-MODIFIED:20240401T124518Z
UID:19523-1719756000-1719770400@oakcitybrewingcompany.com
SUMMARY:Coney Island NC
DESCRIPTION:They sell specialty hot dogs\, hamburgers\, chili\, nachos\, curly fries\, shoe string fries\, tenders\, popcorn chicken\, mozzarella sticks\, and have kids meals.
URL:https://oakcitybrewingcompany.com/event/coney-island-nc-2024-06-30/
CATEGORIES:Food Trucks
END:VEVENT
BEGIN:VEVENT
DTSTART;TZID=America/Halifax:20240629T160000
DTEND;TZID=America/Halifax:20240629T210000
DTSTAMP:20260422T230426
CREATED:20240523T170004Z
LAST-MODIFIED:20240523T170004Z
UID:19717-1719676800-1719694800@oakcitybrewingcompany.com
SUMMARY:Stavi's
DESCRIPTION:Veteran owned business bringing our authentic cuisine to our community. Mediterranean inspired gourmet sandwiches\, soups\, salads\, and more!
URL:https://oakcitybrewingcompany.com/event/stavis/
CATEGORIES:Food Trucks
ATTACH;FMTTYPE=image/png:https://oakcitybrewingcompany.com/wp-content/uploads/2024/05/Screenshot-2024-05-23-at-12.57.35-PM.png
END:VEVENT
BEGIN:VEVENT
DTSTART;TZID=America/Halifax:20240629T120000
DTEND;TZID=America/Halifax:20240629T150000
DTSTAMP:20260422T230426
CREATED:20240411T135141Z
LAST-MODIFIED:20240411T135141Z
UID:19543-1719662400-1719673200@oakcitybrewingcompany.com
SUMMARY:T-N-T Fish & Chicken
DESCRIPTION:A full family-run operation\, that specializes in Seafood and Comfort food. “Once you try us\, your family forever.”
URL:https://oakcitybrewingcompany.com/event/t-n-t-fish-chicken-2024-06-29/
CATEGORIES:Food Trucks
ATTACH;FMTTYPE=image/png:https://oakcitybrewingcompany.com/wp-content/uploads/2024/04/Screenshot-2024-04-11-at-9.47.22-AM.png
END:VEVENT
BEGIN:VEVENT
DTSTART;TZID=America/Halifax:20240629T113000
DTEND;TZID=America/Halifax:20240629T123000
DTSTAMP:20260422T230426
CREATED:20230622T143640Z
LAST-MODIFIED:20230622T143640Z
UID:18621-1719660600-1719664200@oakcitybrewingcompany.com
SUMMARY:Beer Run
DESCRIPTION:Join us for a 1.5\, 3\, or 5 mile run or walk through downtown Knightdale\, Knightdale Station Park\, Mingo Creek Trail\, and other areas and landmarks that make our town special with our run club. \nLearn more here: https://oakcitybrewingcompany.com/run-club/ \nRun club meets up at 6:30 pm every Wednesday or 11:30 am every Saturday\, cheers! \n 
URL:https://oakcitybrewingcompany.com/event/beer-run-2-2024-06-29/
CATEGORIES:Brewery Events,Weekly Events
ATTACH;FMTTYPE=image/png:https://oakcitybrewingcompany.com/wp-content/uploads/2023/06/Screen-Shot-2023-06-22-at-10.25.57-AM.png
END:VEVENT
BEGIN:VEVENT
DTSTART;TZID=America/Halifax:20240628T173000
DTEND;TZID=America/Halifax:20240628T203000
DTSTAMP:20260422T230426
CREATED:20220824T113326Z
LAST-MODIFIED:20240425T161252Z
UID:18898-1719595800-1719606600@oakcitybrewingcompany.com
SUMMARY:Chick-N-Que
DESCRIPTION:The best Eastern style BBQ NC has to offer. We also serve 100% NC raised ostrich burgers along with mouth watering sides. Chick-N-Que is a multi mobile food truck & catering business serving Wake County and surrounding areas. With our guarded family recipe\, Chick-N-Que has a unique\, savory taste that stands out as some of the best barbecue around.
URL:https://oakcitybrewingcompany.com/event/chick-n-que-52-2023-01-27-2023-12-18-2024-06-28/
CATEGORIES:Food Trucks
ATTACH;FMTTYPE=image/jpeg:https://oakcitybrewingcompany.com/wp-content/uploads/2019/10/40683703_1781242268659131_3875899713362329600_n.jpg
END:VEVENT
BEGIN:VEVENT
DTSTART;TZID=America/Halifax:20240627T173000
DTEND;TZID=America/Halifax:20240627T203000
DTSTAMP:20260422T230426
CREATED:20220816T160505Z
LAST-MODIFIED:20220816T160505Z
UID:18987-1719509400-1719520200@oakcitybrewingcompany.com
SUMMARY:Tacos Neza
DESCRIPTION:
URL:https://oakcitybrewingcompany.com/event/tacos-neza-4-2024-06-27/
CATEGORIES:Food Trucks
ATTACH;FMTTYPE=image/jpeg:https://oakcitybrewingcompany.com/wp-content/uploads/2022/08/288475272_543179494124910_8462946235973782313_n.jpg
END:VEVENT
BEGIN:VEVENT
DTSTART;TZID=America/Halifax:20240626T183000
DTEND;TZID=America/Halifax:20240626T193000
DTSTAMP:20260422T230426
CREATED:20230622T143255Z
LAST-MODIFIED:20230622T143255Z
UID:18699-1719426600-1719430200@oakcitybrewingcompany.com
SUMMARY:Beer Run
DESCRIPTION:Join us for a 1.5\, 3\, or 5 mile run or walk through downtown Knightdale\, Knightdale Station Park\, Mingo Creek Trail\, and other areas and landmarks that make our town special with our run club. \nLearn more here: https://oakcitybrewingcompany.com/run-club/ \nRun club meets up at 6:30 pm every Wednesday or 11:30 am every Saturday\, cheers!
URL:https://oakcitybrewingcompany.com/event/beer-run-2024-06-26/
CATEGORIES:Brewery Events,Weekly Events
ATTACH;FMTTYPE=image/png:https://oakcitybrewingcompany.com/wp-content/uploads/2023/06/Screen-Shot-2023-06-22-at-10.25.57-AM.png
END:VEVENT
BEGIN:VEVENT
DTSTART;TZID=America/Halifax:20240626T173000
DTEND;TZID=America/Halifax:20240626T203000
DTSTAMP:20260422T230426
CREATED:20220830T215212Z
LAST-MODIFIED:20220830T215212Z
UID:19119-1719423000-1719433800@oakcitybrewingcompany.com
SUMMARY:Bulkogi
DESCRIPTION:Authentic Korean BBQ with a yummy twist! Food prepared with love & care that can be felt in each bite. Come hungry & leave with more than just full tummy!
URL:https://oakcitybrewingcompany.com/event/bulkogi-12-2024-06-26/
CATEGORIES:Food Trucks
ATTACH;FMTTYPE=image/jpeg:https://oakcitybrewingcompany.com/wp-content/uploads/2020/01/10336733_570882016365515_5501550790059477710_n.jpg
END:VEVENT
BEGIN:VEVENT
DTSTART;TZID=America/Halifax:20240625T173000
DTEND;TZID=America/Halifax:20240625T173000
DTSTAMP:20260422T230426
CREATED:20240125T163947Z
LAST-MODIFIED:20240125T163947Z
UID:19394-1719336600-1719336600@oakcitybrewingcompany.com
SUMMARY:D's Presto
DESCRIPTION:Committed to deliver my love of cooking that will satisfy your appetite.
URL:https://oakcitybrewingcompany.com/event/ds-presto-2-2024-06-25/
CATEGORIES:Food Trucks
ATTACH;FMTTYPE=image/png:https://oakcitybrewingcompany.com/wp-content/uploads/2024/01/Screenshot-2024-01-23-at-12.46.23-PM.png
END:VEVENT
BEGIN:VEVENT
DTSTART;VALUE=DATE:20240624
DTEND;VALUE=DATE:20240625
DTSTAMP:20260422T230426
CREATED:20240610T150713Z
LAST-MODIFIED:20240610T150713Z
UID:19782-1719187200-1719273599@oakcitybrewingcompany.com
SUMMARY:No Food Truck - BYOF
DESCRIPTION:
URL:https://oakcitybrewingcompany.com/event/no-food-truck-byof-25-2024-06-24/
CATEGORIES:Food Trucks
END:VEVENT
BEGIN:VEVENT
DTSTART;TZID=America/Halifax:20240623T140000
DTEND;TZID=America/Halifax:20240623T180000
DTSTAMP:20260422T230426
CREATED:20230411T144336Z
LAST-MODIFIED:20230411T144336Z
UID:19691-1719151200-1719165600@oakcitybrewingcompany.com
SUMMARY:Off the Hog
DESCRIPTION:Off the hog serve good old-fashioned traditional smoked meats using a variety of hardwoods and coals.
URL:https://oakcitybrewingcompany.com/event/off-the-hog-2024-06-23/
CATEGORIES:Food Trucks
ATTACH;FMTTYPE=image/png:https://oakcitybrewingcompany.com/wp-content/uploads/2023/04/Screen-Shot-2023-04-11-at-10.38.53-AM.png
END:VEVENT
BEGIN:VEVENT
DTSTART;TZID=America/Halifax:20240623T140000
DTEND;TZID=America/Halifax:20240623T170000
DTSTAMP:20260422T230426
CREATED:20240531T144238Z
LAST-MODIFIED:20240801T144105Z
UID:19722-1719151200-1719162000@oakcitybrewingcompany.com
SUMMARY:Hammer & Grow: Succulent Bar
DESCRIPTION:Join us for Sunday Funday on June 23rd at 2 PM for our Hammer & Grow: Succulent Bar for a fun planting experience! \nOur succulent bar is an a la carte style\, allowing you to customize your creation. Choose your own pots and select from a variety of beautiful succulents. Once you’ve made your selection\, fill your pots with soil\, rocks\, or pebbles\, and add a personal touch with a topper of your choosing. \nDrop-ins are welcome\, pre-registered participants will receive a $10 credit for permanent jewelry! Sign up here: https://hammerandstaincarolina.com/products/056-23-24-hammer-grow-succulent-bar-workshop-at-oak-city-brewing \nWhether you’re a seasoned plant enthusiast or a curious beginner\, this event promises fun and creativity for everyone. Don’t miss out on this opportunity to craft your own little green masterpiece! ????
URL:https://oakcitybrewingcompany.com/event/hammer-grow-succulent-bar/
CATEGORIES:Events,Weekly Events
ATTACH;FMTTYPE=image/png:https://oakcitybrewingcompany.com/wp-content/uploads/2024/05/Hammer-Stain-Class.png
END:VEVENT
BEGIN:VEVENT
DTSTART;TZID=America/Halifax:20240622T160000
DTEND;TZID=America/Halifax:20240622T210000
DTSTAMP:20260422T230426
CREATED:20220816T114537Z
LAST-MODIFIED:20220816T114537Z
UID:19143-1719072000-1719090000@oakcitybrewingcompany.com
SUMMARY:Bertos Chimis
DESCRIPTION:What is a chimi? A Chimi is a sauce-dripping hamburger served throughout the streets of Dominican Republic. An iconic sandwich served from lunch till late night\, that will satisfy your tastebuds day in\, day out.
URL:https://oakcitybrewingcompany.com/event/bertos-chimis-2-2024-06-22/
CATEGORIES:Food Trucks
ATTACH;FMTTYPE=image/jpeg:https://oakcitybrewingcompany.com/wp-content/uploads/2022/08/131890676_207085377570891_5623458210479334688_n.jpg
END:VEVENT
BEGIN:VEVENT
DTSTART;TZID=America/Halifax:20240622T120000
DTEND;TZID=America/Halifax:20240622T150000
DTSTAMP:20260422T230426
CREATED:20230116T152102Z
LAST-MODIFIED:20230116T152102Z
UID:19317-1719057600-1719068400@oakcitybrewingcompany.com
SUMMARY:Atlas Nomads
DESCRIPTION:Atlas Nomads is a Mediterranean food truck. The name of Atlas Nomads is inspired by people traveling from place to place in Morocco’s Atlas Mountains\, searching for pasture and food. Our food is made with fresh produce and halal meat.
URL:https://oakcitybrewingcompany.com/event/atlas-nomads-2-2024-06-22/
CATEGORIES:Food Trucks
ATTACH;FMTTYPE=image/png:https://oakcitybrewingcompany.com/wp-content/uploads/2023/01/Screen-Shot-2023-01-14-at-9.58.18-AM.png
END:VEVENT
BEGIN:VEVENT
DTSTART;TZID=America/Halifax:20240622T113000
DTEND;TZID=America/Halifax:20240622T123000
DTSTAMP:20260422T230426
CREATED:20230622T143640Z
LAST-MODIFIED:20230622T143640Z
UID:18620-1719055800-1719059400@oakcitybrewingcompany.com
SUMMARY:Beer Run
DESCRIPTION:Join us for a 1.5\, 3\, or 5 mile run or walk through downtown Knightdale\, Knightdale Station Park\, Mingo Creek Trail\, and other areas and landmarks that make our town special with our run club. \nLearn more here: https://oakcitybrewingcompany.com/run-club/ \nRun club meets up at 6:30 pm every Wednesday or 11:30 am every Saturday\, cheers! \n 
URL:https://oakcitybrewingcompany.com/event/beer-run-2-2024-06-22/
CATEGORIES:Brewery Events,Weekly Events
ATTACH;FMTTYPE=image/png:https://oakcitybrewingcompany.com/wp-content/uploads/2023/06/Screen-Shot-2023-06-22-at-10.25.57-AM.png
END:VEVENT
BEGIN:VEVENT
DTSTART;TZID=America/Halifax:20240621T173000
DTEND;TZID=America/Halifax:20240621T203000
DTSTAMP:20260422T230426
CREATED:20220816T171952Z
LAST-MODIFIED:20220816T171952Z
UID:18940-1718991000-1719001800@oakcitybrewingcompany.com
SUMMARY:The Naked Empanada
DESCRIPTION:The Naked Empanada was the lifelong dream and now passion of Roy Thombs. Roy\, who is better known to friends and family as Fuzzy\, began his culinary journey at fifteen years old in Morganton\, NC. Never shying away from hard work and the opportunity to learn\, Roy worked his way from a dishwasher at Shoney’s to a degree from the prestigious Johnson & Wales University. It was during this time at Johnson & Wales that Roy interned at the highly acclaimed Grove Park Inn in Asheville\, NC. While interning at Grove Park Inn\, Roy’s passion for the culinary arts and a culture of service was truly sparked. From Johnson & Wales\, Roy went on to work for a number of corporate restaurant groups where he transitioned into operations management roles. Eventually\, he moved from operations to administration and served in corporate human resources for a large national chain restaurant\, where he spent fifteen years. \nIt wasn’t until 2013\, when a corporate realignment was pushing for a relocation\, potentially uprooting his family\, that Roy was fully able to rekindle the same ember that was sparked during his time at Johnson & Wales interning at Grove Park Inn. The choice was not easy to leave the comfort of a stable career to pursue the entrepreneurial dream which had been brewing for years\, but it also felt like an opportunity that could not be denied. Through extensive research\, trial and error\, feedback from friends and family\, Roy carefully hand-crafted the concept that launched in 2015 with his food truck offering fresh\, locally sourced and delicious handmade empanadas. It was clear from the start that a lifetime of focus in culinary arts\, customer service and operations had molded itself into a business that was an instant success. \nAs The Naked Empanada continues to grow and thrive\, we know that our success is driven by our customers. That is why we dedicate every day to ensuring that every empanada and every experience with our customers is cared for by each of our team members. This is a labor of love that is fueled by the smiles and enjoyment of every person who bites into the food that we prepare and says\, “Wow\, that’s sooo good!!”
URL:https://oakcitybrewingcompany.com/event/the-naked-empanada-2024-06-21/
CATEGORIES:Food Trucks
ATTACH;FMTTYPE=image/jpeg:https://oakcitybrewingcompany.com/wp-content/uploads/2022/08/277675892_657482668566589_7822163364397964254_n.jpg
END:VEVENT
BEGIN:VEVENT
DTSTART;TZID=America/Halifax:20240620T173000
DTEND;TZID=America/Halifax:20240620T203000
DTSTAMP:20260422T230426
CREATED:20220826T145242Z
LAST-MODIFIED:20220826T145242Z
UID:19011-1718904600-1718915400@oakcitybrewingcompany.com
SUMMARY:Carolina's Catch
DESCRIPTION:Bringing Seafood from the Carolina’s Coast to the triangle
URL:https://oakcitybrewingcompany.com/event/carolinas-catch-2-2024-06-20/
CATEGORIES:Food Trucks
ATTACH;FMTTYPE=image/jpeg:https://oakcitybrewingcompany.com/wp-content/uploads/2022/08/294160203_760995485243754_5268186503346739086_n.jpg
END:VEVENT
BEGIN:VEVENT
DTSTART;TZID=America/Halifax:20240619T183000
DTEND;TZID=America/Halifax:20240619T193000
DTSTAMP:20260422T230426
CREATED:20230622T143255Z
LAST-MODIFIED:20230622T143255Z
UID:18698-1718821800-1718825400@oakcitybrewingcompany.com
SUMMARY:Beer Run
DESCRIPTION:Join us for a 1.5\, 3\, or 5 mile run or walk through downtown Knightdale\, Knightdale Station Park\, Mingo Creek Trail\, and other areas and landmarks that make our town special with our run club. \nLearn more here: https://oakcitybrewingcompany.com/run-club/ \nRun club meets up at 6:30 pm every Wednesday or 11:30 am every Saturday\, cheers!
URL:https://oakcitybrewingcompany.com/event/beer-run-2024-06-19/
CATEGORIES:Brewery Events,Weekly Events
ATTACH;FMTTYPE=image/png:https://oakcitybrewingcompany.com/wp-content/uploads/2023/06/Screen-Shot-2023-06-22-at-10.25.57-AM.png
END:VEVENT
BEGIN:VEVENT
DTSTART;TZID=America/Halifax:20240619T173000
DTEND;TZID=America/Halifax:20240619T203000
DTSTAMP:20260422T230426
CREATED:20220916T103300Z
LAST-MODIFIED:20220916T103300Z
UID:19420-1718818200-1718829000@oakcitybrewingcompany.com
SUMMARY:Jessica's Food Truck
DESCRIPTION:
URL:https://oakcitybrewingcompany.com/event/jessicas-food-truck-22-2023-02-25-2024-06-19/
CATEGORIES:Food Trucks
ATTACH;FMTTYPE=image/jpeg:https://oakcitybrewingcompany.com/wp-content/uploads/2022/09/301548167_171520468736524_3664133766732670901_n.jpg
END:VEVENT
BEGIN:VEVENT
DTSTART;TZID=America/Halifax:20240618T173000
DTEND;TZID=America/Halifax:20240618T203000
DTSTAMP:20260422T230426
CREATED:20220816T223305Z
LAST-MODIFIED:20220816T223305Z
UID:18850-1718731800-1718742600@oakcitybrewingcompany.com
SUMMARY:The Greek Goat
DESCRIPTION:Bringing your favorite Greek street food to Raleigh and the surrounding area. Greek Done Right!
URL:https://oakcitybrewingcompany.com/event/the-greek-goat-2024-06-18/
CATEGORIES:Food Trucks
ATTACH;FMTTYPE=image/png:https://oakcitybrewingcompany.com/wp-content/uploads/2022/08/294719080_358949019756141_4432516889414215207_n.png
END:VEVENT
BEGIN:VEVENT
DTSTART;VALUE=DATE:20240617
DTEND;VALUE=DATE:20240618
DTSTAMP:20260422T230426
CREATED:20240610T150713Z
LAST-MODIFIED:20240617T115629Z
UID:19743-1718582400-1718668799@oakcitybrewingcompany.com
SUMMARY:No Food Truck - BYOF
DESCRIPTION:
URL:https://oakcitybrewingcompany.com/event/no-food-truck-byof-25/
CATEGORIES:Food Trucks
END:VEVENT
BEGIN:VEVENT
DTSTART;TZID=America/Halifax:20240616T140000
DTEND;TZID=America/Halifax:20240616T180000
DTSTAMP:20260422T230426
CREATED:20220911T152736Z
LAST-MODIFIED:20220911T152736Z
UID:19083-1718546400-1718560800@oakcitybrewingcompany.com
SUMMARY:Moonrunners
DESCRIPTION:
URL:https://oakcitybrewingcompany.com/event/moonrunners-8-2024-06-16/
CATEGORIES:Food Trucks
ATTACH;FMTTYPE=image/jpeg:https://oakcitybrewingcompany.com/wp-content/uploads/2022/09/289540378_1421580884982878_5619351370244390677_n.jpg
END:VEVENT
BEGIN:VEVENT
DTSTART;TZID=America/Halifax:20240615T170000
DTEND;TZID=America/Halifax:20240615T200000
DTSTAMP:20260422T230426
CREATED:20240610T153632Z
LAST-MODIFIED:20241101T193316Z
UID:19752-1718470800-1718481600@oakcitybrewingcompany.com
SUMMARY:Not Just Icing - Cart
DESCRIPTION:The Triangle’s first edible cookie dough & ice cream dessert food truck.
URL:https://oakcitybrewingcompany.com/event/not-just-icing-cart/
ATTACH;FMTTYPE=image/png:https://oakcitybrewingcompany.com/wp-content/uploads/2024/06/Screenshot-2024-06-10-at-11.34.26-AM.png
END:VEVENT
BEGIN:VEVENT
DTSTART;TZID=America/Halifax:20240615T170000
DTEND;TZID=America/Halifax:20240615T200000
DTSTAMP:20260422T230426
CREATED:20240610T151009Z
LAST-MODIFIED:20240610T151009Z
UID:19745-1718470800-1718481600@oakcitybrewingcompany.com
SUMMARY:Tombachi
DESCRIPTION:Raleigh’s first & only Hibachi Food Truck! Serving The Triangle with Fresh\, Fast & Quality Entrees.
URL:https://oakcitybrewingcompany.com/event/tombachi/
ATTACH;FMTTYPE=image/png:https://oakcitybrewingcompany.com/wp-content/uploads/2024/06/Screenshot-2024-06-10-at-11.07.58-AM.png
END:VEVENT
BEGIN:VEVENT
DTSTART;TZID=America/Halifax:20240615T170000
DTEND;TZID=America/Halifax:20240615T200000
DTSTAMP:20260422T230426
CREATED:20240513T122419Z
LAST-MODIFIED:20240610T153842Z
UID:19667-1718470800-1718481600@oakcitybrewingcompany.com
SUMMARY:Putts & Pints Father's Day Celebration
DESCRIPTION:Join us at Oak City Brewing Company for a Father’s Day celebration like no other! \nGet ready for an evening filled with fun\, laughter\, and plenty of brews as we honor all the incredible dads out there. \nWhen a dad grabs a pint he gets a ticket to play the golf simulator for free! \n  \nMusic by: Jeffrey Kriz \nFood trucks: Dubz Grub\, Tombachi & Not Just Icing – Cart \nVendors: Oak City Hot Sauce CoRougemont ForgeThe Marley MarketOaknut Workshop
URL:https://oakcitybrewingcompany.com/event/putts-pints-fathers-day-celebration/
CATEGORIES:Brewery Events,Events
ATTACH;FMTTYPE=image/png:https://oakcitybrewingcompany.com/wp-content/uploads/2024/05/Putts-Pints.png
END:VEVENT
END:VCALENDAR