BEGIN:VCALENDAR
VERSION:2.0
PRODID:-//Oak City Brewing Company - ECPv6.15.20//NONSGML v1.0//EN
CALSCALE:GREGORIAN
METHOD:PUBLISH
X-WR-CALNAME:Oak City Brewing Company
X-ORIGINAL-URL:https://oakcitybrewingcompany.com
X-WR-CALDESC:Events for Oak City Brewing Company
REFRESH-INTERVAL;VALUE=DURATION:PT1H
X-Robots-Tag:noindex
X-PUBLISHED-TTL:PT1H
BEGIN:VTIMEZONE
TZID:America/Halifax
BEGIN:DAYLIGHT
TZOFFSETFROM:-0400
TZOFFSETTO:-0300
TZNAME:ADT
DTSTART:20230312T060000
END:DAYLIGHT
BEGIN:STANDARD
TZOFFSETFROM:-0300
TZOFFSETTO:-0400
TZNAME:AST
DTSTART:20231105T050000
END:STANDARD
BEGIN:DAYLIGHT
TZOFFSETFROM:-0400
TZOFFSETTO:-0300
TZNAME:ADT
DTSTART:20240310T060000
END:DAYLIGHT
BEGIN:STANDARD
TZOFFSETFROM:-0300
TZOFFSETTO:-0400
TZNAME:AST
DTSTART:20241103T050000
END:STANDARD
BEGIN:DAYLIGHT
TZOFFSETFROM:-0400
TZOFFSETTO:-0300
TZNAME:ADT
DTSTART:20250309T060000
END:DAYLIGHT
BEGIN:STANDARD
TZOFFSETFROM:-0300
TZOFFSETTO:-0400
TZNAME:AST
DTSTART:20251102T050000
END:STANDARD
END:VTIMEZONE
BEGIN:VEVENT
DTSTART;TZID=America/Halifax:20240604T170000
DTEND;TZID=America/Halifax:20240604T200000
DTSTAMP:20260423T045044
CREATED:20240411T140406Z
LAST-MODIFIED:20240411T140406Z
UID:19709-1717520400-1717531200@oakcitybrewingcompany.com
SUMMARY:Copperheads Craft Burgers
DESCRIPTION:Uniquely crafted burgers!
URL:https://oakcitybrewingcompany.com/event/copperheads-craft-burgers-2024-06-04/
CATEGORIES:Food Trucks
ATTACH;FMTTYPE=image/png:https://oakcitybrewingcompany.com/wp-content/uploads/2024/04/Screenshot-2024-04-11-at-10.01.30-AM.png
END:VEVENT
BEGIN:VEVENT
DTSTART;TZID=America/Halifax:20240602T140000
DTEND;TZID=America/Halifax:20240602T180000
DTSTAMP:20260423T045044
CREATED:20230309T173542Z
LAST-MODIFIED:20230309T173542Z
UID:19234-1717336800-1717351200@oakcitybrewingcompany.com
SUMMARY:Parker's Hall of Fame Deli & Grill
DESCRIPTION:A local food truck selling burgers\, hotdogs\, sandwiches\, and paninis.
URL:https://oakcitybrewingcompany.com/event/parkers-hall-of-fame-deli-grill-2024-06-02/
CATEGORIES:Food Trucks
ATTACH;FMTTYPE=image/png:https://oakcitybrewingcompany.com/wp-content/uploads/2023/03/Screen-Shot-2023-03-09-at-12.33.28-PM.png
END:VEVENT
BEGIN:VEVENT
DTSTART;TZID=America/Halifax:20240601T160000
DTEND;TZID=America/Halifax:20240601T210000
DTSTAMP:20260423T045044
CREATED:20220830T214644Z
LAST-MODIFIED:20220830T214644Z
UID:19176-1717257600-1717275600@oakcitybrewingcompany.com
SUMMARY:Barone Meatball
DESCRIPTION:
URL:https://oakcitybrewingcompany.com/event/barone-meatball-33-2023-02-04-2024-06-01/
CATEGORIES:Food Trucks
ATTACH;FMTTYPE=image/png:https://oakcitybrewingcompany.com/wp-content/uploads/2022/08/Screen-Shot-2022-12-30-at-10.20.59-AM.png
END:VEVENT
BEGIN:VEVENT
DTSTART;TZID=America/Halifax:20240601T120000
DTEND;TZID=America/Halifax:20240601T150000
DTSTAMP:20260423T045044
CREATED:20210127T193129Z
LAST-MODIFIED:20210127T193129Z
UID:19703-1717243200-1717254000@oakcitybrewingcompany.com
SUMMARY:La Katrina Tacos
DESCRIPTION:
URL:https://oakcitybrewingcompany.com/event/umami-2021-12-11-2024-06-01/
CATEGORIES:Food Trucks
END:VEVENT
BEGIN:VEVENT
DTSTART;TZID=America/Halifax:20240601T113000
DTEND;TZID=America/Halifax:20240601T123000
DTSTAMP:20260423T045044
CREATED:20230622T143640Z
LAST-MODIFIED:20230622T143640Z
UID:18617-1717241400-1717245000@oakcitybrewingcompany.com
SUMMARY:Beer Run
DESCRIPTION:Join us for a 1.5\, 3\, or 5 mile run or walk through downtown Knightdale\, Knightdale Station Park\, Mingo Creek Trail\, and other areas and landmarks that make our town special with our run club. \nLearn more here: https://oakcitybrewingcompany.com/run-club/ \nRun club meets up at 6:30 pm every Wednesday or 11:30 am every Saturday\, cheers! \n 
URL:https://oakcitybrewingcompany.com/event/beer-run-2-2024-06-01/
CATEGORIES:Brewery Events,Weekly Events
ATTACH;FMTTYPE=image/png:https://oakcitybrewingcompany.com/wp-content/uploads/2023/06/Screen-Shot-2023-06-22-at-10.25.57-AM.png
END:VEVENT
BEGIN:VEVENT
DTSTART;TZID=America/Halifax:20240531T173000
DTEND;TZID=America/Halifax:20240531T203000
DTSTAMP:20260423T045044
CREATED:20210826T023650Z
LAST-MODIFIED:20210826T023650Z
UID:19656-1717176600-1717187400@oakcitybrewingcompany.com
SUMMARY:Empanadas RD
DESCRIPTION:
URL:https://oakcitybrewingcompany.com/event/empanadas-rd-3-2024-05-31/
CATEGORIES:Food Trucks
ATTACH;FMTTYPE=image/jpeg:https://oakcitybrewingcompany.com/wp-content/uploads/2021/08/8444bc32-02c8-4a30-8d01-9197dfd80106.jpeg
END:VEVENT
BEGIN:VEVENT
DTSTART;TZID=America/Halifax:20240530T180000
DTEND;TZID=America/Halifax:20240530T200000
DTSTAMP:20260423T045044
CREATED:20240403T194934Z
LAST-MODIFIED:20240606T154530Z
UID:19632-1717092000-1717099200@oakcitybrewingcompany.com
SUMMARY:Brews & Barbells
DESCRIPTION:Join us Thursday\, May 30th for an evening of weights and drinks with Brett and his mobile gym! Please be sure to bring a sweat towel (if you prefer) and a water bottle. \nThere will be 2 HIIT classes beginning at 6 PM and 7 PM. \nGrab your spot here: https://www.eventeny.com/events/brews-barbells-11971/ \nSee you all there!
URL:https://oakcitybrewingcompany.com/event/brews-barbells-2024-05-30/
CATEGORIES:Brewery Events,Events,Weekly Events
ATTACH;FMTTYPE=image/png:https://oakcitybrewingcompany.com/wp-content/uploads/2024/04/Brews-barbells-2.png
END:VEVENT
BEGIN:VEVENT
DTSTART;TZID=America/Halifax:20240530T173000
DTEND;TZID=America/Halifax:20240530T203000
DTSTAMP:20260423T045044
CREATED:20230411T144336Z
LAST-MODIFIED:20240514T140731Z
UID:19255-1717090200-1717101000@oakcitybrewingcompany.com
SUMMARY:Off the Hog
DESCRIPTION:Off the hog serve good old-fashioned traditional smoked meats using a variety of hardwoods and coals.
URL:https://oakcitybrewingcompany.com/event/off-the-hog-2024-05-30/
CATEGORIES:Food Trucks
ATTACH;FMTTYPE=image/png:https://oakcitybrewingcompany.com/wp-content/uploads/2023/04/Screen-Shot-2023-04-11-at-10.38.53-AM.png
END:VEVENT
BEGIN:VEVENT
DTSTART;TZID=America/Halifax:20240529T183000
DTEND;TZID=America/Halifax:20240529T193000
DTSTAMP:20260423T045044
CREATED:20230622T143255Z
LAST-MODIFIED:20230622T143255Z
UID:18695-1717007400-1717011000@oakcitybrewingcompany.com
SUMMARY:Beer Run
DESCRIPTION:Join us for a 1.5\, 3\, or 5 mile run or walk through downtown Knightdale\, Knightdale Station Park\, Mingo Creek Trail\, and other areas and landmarks that make our town special with our run club. \nLearn more here: https://oakcitybrewingcompany.com/run-club/ \nRun club meets up at 6:30 pm every Wednesday or 11:30 am every Saturday\, cheers!
URL:https://oakcitybrewingcompany.com/event/beer-run-2024-05-29/
CATEGORIES:Brewery Events,Weekly Events
ATTACH;FMTTYPE=image/png:https://oakcitybrewingcompany.com/wp-content/uploads/2023/06/Screen-Shot-2023-06-22-at-10.25.57-AM.png
END:VEVENT
BEGIN:VEVENT
DTSTART;TZID=America/Halifax:20240529T173000
DTEND;TZID=America/Halifax:20240529T203000
DTSTAMP:20260423T045044
CREATED:20240425T161127Z
LAST-MODIFIED:20240425T161127Z
UID:19644-1717003800-1717014600@oakcitybrewingcompany.com
SUMMARY:Captains Gastro
DESCRIPTION:Mediterranean Food Truck & Ephessus Bites
URL:https://oakcitybrewingcompany.com/event/captains-gastro-2024-05-29/
CATEGORIES:Food Trucks
ATTACH;FMTTYPE=image/png:https://oakcitybrewingcompany.com/wp-content/uploads/2024/04/Screenshot-2024-04-25-at-11.58.19-AM.png
END:VEVENT
BEGIN:VEVENT
DTSTART;TZID=America/Halifax:20240528T173000
DTEND;TZID=America/Halifax:20240528T173000
DTSTAMP:20260423T045044
CREATED:20240125T163947Z
LAST-MODIFIED:20240125T163947Z
UID:19393-1716917400-1716917400@oakcitybrewingcompany.com
SUMMARY:D's Presto
DESCRIPTION:Committed to deliver my love of cooking that will satisfy your appetite.
URL:https://oakcitybrewingcompany.com/event/ds-presto-2-2024-05-28/
CATEGORIES:Food Trucks
ATTACH;FMTTYPE=image/png:https://oakcitybrewingcompany.com/wp-content/uploads/2024/01/Screenshot-2024-01-23-at-12.46.23-PM.png
END:VEVENT
BEGIN:VEVENT
DTSTART;TZID=America/Halifax:20240527T120000
DTEND;TZID=America/Halifax:20240527T220000
DTSTAMP:20260423T045044
CREATED:20240411T135845Z
LAST-MODIFIED:20240827T171105Z
UID:19547-1716811200-1716847200@oakcitybrewingcompany.com
SUMMARY:Extended Labor Day Hours 12-10 PM
DESCRIPTION:Extended Labor Day Hours: 12-10 PM
URL:https://oakcitybrewingcompany.com/event/extended-memorial-day-hours-12-10-pm/
CATEGORIES:Events,Weekly Events
ATTACH;FMTTYPE=image/png:https://oakcitybrewingcompany.com/wp-content/uploads/2024/04/Labor-Day.png
END:VEVENT
BEGIN:VEVENT
DTSTART;TZID=America/Halifax:20240527T120000
DTEND;TZID=America/Halifax:20240527T200000
DTSTAMP:20260423T045044
CREATED:20240411T135141Z
LAST-MODIFIED:20240411T135141Z
UID:19539-1716811200-1716840000@oakcitybrewingcompany.com
SUMMARY:T-N-T Fish & Chicken
DESCRIPTION:A full family-run operation\, that specializes in Seafood and Comfort food. “Once you try us\, your family forever.”
URL:https://oakcitybrewingcompany.com/event/t-n-t-fish-chicken/
CATEGORIES:Food Trucks
ATTACH;FMTTYPE=image/png:https://oakcitybrewingcompany.com/wp-content/uploads/2024/04/Screenshot-2024-04-11-at-9.47.22-AM.png
END:VEVENT
BEGIN:VEVENT
DTSTART;TZID=America/Halifax:20240526T140000
DTEND;TZID=America/Halifax:20240526T180000
DTSTAMP:20260423T045044
CREATED:20230126T180317Z
LAST-MODIFIED:20240514T140007Z
UID:19070-1716732000-1716746400@oakcitybrewingcompany.com
SUMMARY:Warehouse BBQ
DESCRIPTION:Warehouse BBQ\, where the legacy continues\, and every dish is a testament to the “love” that is infused into every bite.
URL:https://oakcitybrewingcompany.com/event/wild-mojo-2023-12-11-2024-05-26/
CATEGORIES:Food Trucks
ATTACH;FMTTYPE=image/png:https://oakcitybrewingcompany.com/wp-content/uploads/2023/01/Screenshot-2024-05-14-at-9.58.26-AM.png
END:VEVENT
BEGIN:VEVENT
DTSTART;TZID=America/Halifax:20240525T160000
DTEND;TZID=America/Halifax:20240525T210000
DTSTAMP:20260423T045044
CREATED:20220816T114537Z
LAST-MODIFIED:20220816T114537Z
UID:19142-1716652800-1716670800@oakcitybrewingcompany.com
SUMMARY:Bertos Chimis
DESCRIPTION:What is a chimi? A Chimi is a sauce-dripping hamburger served throughout the streets of Dominican Republic. An iconic sandwich served from lunch till late night\, that will satisfy your tastebuds day in\, day out.
URL:https://oakcitybrewingcompany.com/event/bertos-chimis-2-2024-05-25/
CATEGORIES:Food Trucks
ATTACH;FMTTYPE=image/jpeg:https://oakcitybrewingcompany.com/wp-content/uploads/2022/08/131890676_207085377570891_5623458210479334688_n.jpg
END:VEVENT
BEGIN:VEVENT
DTSTART;TZID=America/Halifax:20240525T120000
DTEND;TZID=America/Halifax:20240525T150000
DTSTAMP:20260423T045044
CREATED:20230116T152102Z
LAST-MODIFIED:20230116T152102Z
UID:19316-1716638400-1716649200@oakcitybrewingcompany.com
SUMMARY:Atlas Nomads
DESCRIPTION:Atlas Nomads is a Mediterranean food truck. The name of Atlas Nomads is inspired by people traveling from place to place in Morocco’s Atlas Mountains\, searching for pasture and food. Our food is made with fresh produce and halal meat.
URL:https://oakcitybrewingcompany.com/event/atlas-nomads-2-2024-05-25/
CATEGORIES:Food Trucks
ATTACH;FMTTYPE=image/png:https://oakcitybrewingcompany.com/wp-content/uploads/2023/01/Screen-Shot-2023-01-14-at-9.58.18-AM.png
END:VEVENT
BEGIN:VEVENT
DTSTART;TZID=America/Halifax:20240525T113000
DTEND;TZID=America/Halifax:20240525T123000
DTSTAMP:20260423T045044
CREATED:20230622T143640Z
LAST-MODIFIED:20230622T143640Z
UID:18616-1716636600-1716640200@oakcitybrewingcompany.com
SUMMARY:Beer Run
DESCRIPTION:Join us for a 1.5\, 3\, or 5 mile run or walk through downtown Knightdale\, Knightdale Station Park\, Mingo Creek Trail\, and other areas and landmarks that make our town special with our run club. \nLearn more here: https://oakcitybrewingcompany.com/run-club/ \nRun club meets up at 6:30 pm every Wednesday or 11:30 am every Saturday\, cheers! \n 
URL:https://oakcitybrewingcompany.com/event/beer-run-2-2024-05-25/
CATEGORIES:Brewery Events,Weekly Events
ATTACH;FMTTYPE=image/png:https://oakcitybrewingcompany.com/wp-content/uploads/2023/06/Screen-Shot-2023-06-22-at-10.25.57-AM.png
END:VEVENT
BEGIN:VEVENT
DTSTART;TZID=America/Halifax:20240524T173000
DTEND;TZID=America/Halifax:20240524T203000
DTSTAMP:20260423T045044
CREATED:20220824T113326Z
LAST-MODIFIED:20240425T161252Z
UID:18896-1716571800-1716582600@oakcitybrewingcompany.com
SUMMARY:Chick-N-Que
DESCRIPTION:The best Eastern style BBQ NC has to offer. We also serve 100% NC raised ostrich burgers along with mouth watering sides. Chick-N-Que is a multi mobile food truck & catering business serving Wake County and surrounding areas. With our guarded family recipe\, Chick-N-Que has a unique\, savory taste that stands out as some of the best barbecue around.
URL:https://oakcitybrewingcompany.com/event/chick-n-que-52-2023-01-27-2023-12-18-2024-05-24/
CATEGORIES:Food Trucks
ATTACH;FMTTYPE=image/jpeg:https://oakcitybrewingcompany.com/wp-content/uploads/2019/10/40683703_1781242268659131_3875899713362329600_n.jpg
END:VEVENT
BEGIN:VEVENT
DTSTART;TZID=America/Halifax:20240523T180000
DTEND;TZID=America/Halifax:20240523T200000
DTSTAMP:20260423T045044
CREATED:20240403T194934Z
LAST-MODIFIED:20240501T155226Z
UID:19631-1716487200-1716494400@oakcitybrewingcompany.com
SUMMARY:Brews & Barbells
DESCRIPTION:Join us Thursday\, May 23rd for an evening of weights and drinks with Brett and his mobile gym! Please be sure to bring a sweat towel (if you prefer) and a water bottle. \nThere will be 2 HIIT classes beginning at 6 PM and 7 PM. \nGrab your spot here: https://www.eventeny.com/events/brews-barbells-11970/ \nSee you all there!
URL:https://oakcitybrewingcompany.com/event/brews-barbells-2024-05-23/
CATEGORIES:Brewery Events,Events,Weekly Events
ATTACH;FMTTYPE=image/png:https://oakcitybrewingcompany.com/wp-content/uploads/2024/04/Brews-barbells-1.png
END:VEVENT
BEGIN:VEVENT
DTSTART;TZID=America/Halifax:20240523T173000
DTEND;TZID=America/Halifax:20240523T203000
DTSTAMP:20260423T045044
CREATED:20220816T160505Z
LAST-MODIFIED:20220816T160505Z
UID:18986-1716485400-1716496200@oakcitybrewingcompany.com
SUMMARY:Tacos Neza
DESCRIPTION:
URL:https://oakcitybrewingcompany.com/event/tacos-neza-4-2024-05-23/
CATEGORIES:Food Trucks
ATTACH;FMTTYPE=image/jpeg:https://oakcitybrewingcompany.com/wp-content/uploads/2022/08/288475272_543179494124910_8462946235973782313_n.jpg
END:VEVENT
BEGIN:VEVENT
DTSTART;TZID=America/Halifax:20240522T183000
DTEND;TZID=America/Halifax:20240522T193000
DTSTAMP:20260423T045044
CREATED:20230622T143255Z
LAST-MODIFIED:20230622T143255Z
UID:18694-1716402600-1716406200@oakcitybrewingcompany.com
SUMMARY:Beer Run
DESCRIPTION:Join us for a 1.5\, 3\, or 5 mile run or walk through downtown Knightdale\, Knightdale Station Park\, Mingo Creek Trail\, and other areas and landmarks that make our town special with our run club. \nLearn more here: https://oakcitybrewingcompany.com/run-club/ \nRun club meets up at 6:30 pm every Wednesday or 11:30 am every Saturday\, cheers!
URL:https://oakcitybrewingcompany.com/event/beer-run-2024-05-22/
CATEGORIES:Brewery Events,Weekly Events
ATTACH;FMTTYPE=image/png:https://oakcitybrewingcompany.com/wp-content/uploads/2023/06/Screen-Shot-2023-06-22-at-10.25.57-AM.png
END:VEVENT
BEGIN:VEVENT
DTSTART;TZID=America/Halifax:20240522T173000
DTEND;TZID=America/Halifax:20240522T203000
DTSTAMP:20260423T045044
CREATED:20220830T215212Z
LAST-MODIFIED:20220830T215212Z
UID:19118-1716399000-1716409800@oakcitybrewingcompany.com
SUMMARY:Bulkogi
DESCRIPTION:Authentic Korean BBQ with a yummy twist! Food prepared with love & care that can be felt in each bite. Come hungry & leave with more than just full tummy!
URL:https://oakcitybrewingcompany.com/event/bulkogi-12-2024-05-22/
CATEGORIES:Food Trucks
ATTACH;FMTTYPE=image/jpeg:https://oakcitybrewingcompany.com/wp-content/uploads/2020/01/10336733_570882016365515_5501550790059477710_n.jpg
END:VEVENT
BEGIN:VEVENT
DTSTART;TZID=America/Halifax:20240521T173000
DTEND;TZID=America/Halifax:20240521T203000
DTSTAMP:20260423T045044
CREATED:20220816T223305Z
LAST-MODIFIED:20220816T223305Z
UID:18849-1716312600-1716323400@oakcitybrewingcompany.com
SUMMARY:The Greek Goat
DESCRIPTION:Bringing your favorite Greek street food to Raleigh and the surrounding area. Greek Done Right!
URL:https://oakcitybrewingcompany.com/event/the-greek-goat-2024-05-21/
CATEGORIES:Food Trucks
ATTACH;FMTTYPE=image/png:https://oakcitybrewingcompany.com/wp-content/uploads/2022/08/294719080_358949019756141_4432516889414215207_n.png
END:VEVENT
BEGIN:VEVENT
DTSTART;TZID=America/Halifax:20240520T170000
DTEND;TZID=America/Halifax:20240520T200000
DTSTAMP:20260423T045044
CREATED:20240411T140406Z
LAST-MODIFIED:20240411T140406Z
UID:19553-1716224400-1716235200@oakcitybrewingcompany.com
SUMMARY:Copperheads Craft Burgers
DESCRIPTION:Uniquely crafted burgers!
URL:https://oakcitybrewingcompany.com/event/copperheads-craft-burgers-2024-05-20/
CATEGORIES:Food Trucks
ATTACH;FMTTYPE=image/png:https://oakcitybrewingcompany.com/wp-content/uploads/2024/04/Screenshot-2024-04-11-at-10.01.30-AM.png
END:VEVENT
BEGIN:VEVENT
DTSTART;TZID=America/Halifax:20240519T140000
DTEND;TZID=America/Halifax:20240519T180000
DTSTAMP:20260423T045044
CREATED:20220911T152736Z
LAST-MODIFIED:20220911T152736Z
UID:19082-1716127200-1716141600@oakcitybrewingcompany.com
SUMMARY:Moonrunners
DESCRIPTION:
URL:https://oakcitybrewingcompany.com/event/moonrunners-8-2024-05-19/
CATEGORIES:Food Trucks
ATTACH;FMTTYPE=image/jpeg:https://oakcitybrewingcompany.com/wp-content/uploads/2022/09/289540378_1421580884982878_5619351370244390677_n.jpg
END:VEVENT
BEGIN:VEVENT
DTSTART;TZID=America/Halifax:20240518T160000
DTEND;TZID=America/Halifax:20240518T210000
DTSTAMP:20260423T045044
CREATED:20220816T150752Z
LAST-MODIFIED:20240510T160915Z
UID:19273-1716048000-1716066000@oakcitybrewingcompany.com
SUMMARY:Dubz Grub
DESCRIPTION:Dubz Grub is more than just a food truck\, it is a dream come true for Robert and Adrienne Wilkinson.  We have over 30 years of experience in the food industry and finally decided to take a risk and follow our passions. Our Mission is to be professional\, reliable and bring delicious\, quality homemade food to your business or catered events.
URL:https://oakcitybrewingcompany.com/event/dubz-grub-3-2023-02-18-2024-05-18/
CATEGORIES:Food Trucks
ATTACH;FMTTYPE=image/png:https://oakcitybrewingcompany.com/wp-content/uploads/2022/08/Snacken-01.png
END:VEVENT
BEGIN:VEVENT
DTSTART;TZID=America/Halifax:20240518T120000
DTEND;TZID=America/Halifax:20240518T160000
DTSTAMP:20260423T045044
CREATED:20240422T174154Z
LAST-MODIFIED:20240422T174154Z
UID:19574-1716033600-1716048000@oakcitybrewingcompany.com
SUMMARY:Spring Makers Market
DESCRIPTION:We love supporting small businesses!\n.\nJoin us May 18th from 12-4 PM for live music by Sterling Scott\, shopping with over 40+ vendors\, and some great grub with The Tasty Turkey-Que\, Dippin’ Dots & Not Just A Fry Guy!\n.\nWe hope to see you there\, cheers!
URL:https://oakcitybrewingcompany.com/event/spring-makers-market-2/
CATEGORIES:Brewery Events,Events,Weekly Events
ATTACH;FMTTYPE=image/png:https://oakcitybrewingcompany.com/wp-content/uploads/2024/04/Makers-Markets-.png
END:VEVENT
BEGIN:VEVENT
DTSTART;TZID=America/Halifax:20240518T120000
DTEND;TZID=America/Halifax:20240518T150000
DTSTAMP:20260423T045044
CREATED:20220915T101018Z
LAST-MODIFIED:20240514T135417Z
UID:18927-1716033600-1716044400@oakcitybrewingcompany.com
SUMMARY:Not Just A Fry Guy\, The Tasty Turkey-Que & Dippin' Dots
DESCRIPTION:Food trucks for the Spring makers market!
URL:https://oakcitybrewingcompany.com/event/the-tasty-turkey-que-2024-05-18/
CATEGORIES:Food Trucks
END:VEVENT
BEGIN:VEVENT
DTSTART;TZID=America/Halifax:20240518T113000
DTEND;TZID=America/Halifax:20240518T123000
DTSTAMP:20260423T045044
CREATED:20230622T143640Z
LAST-MODIFIED:20240422T174238Z
UID:18615-1716031800-1716035400@oakcitybrewingcompany.com
SUMMARY:Beer Run
DESCRIPTION:Join us for a 1.5\, 3\, or 5 mile run or walk through downtown Knightdale\, Knightdale Station Park\, Mingo Creek Trail\, and other areas and landmarks that make our town special with our run club. \nLearn more here: https://oakcitybrewingcompany.com/run-club/ \nRun club meets up at 6:30 pm every Wednesday or 11:30 am every Saturday\, cheers! \n 
URL:https://oakcitybrewingcompany.com/event/beer-run-2-2024-05-18/
CATEGORIES:Brewery Events,Weekly Events
ATTACH;FMTTYPE=image/png:https://oakcitybrewingcompany.com/wp-content/uploads/2023/06/Screen-Shot-2023-06-22-at-10.25.57-AM.png
END:VEVENT
BEGIN:VEVENT
DTSTART;TZID=America/Halifax:20240517T173000
DTEND;TZID=America/Halifax:20240517T203000
DTSTAMP:20260423T045044
CREATED:20220816T171952Z
LAST-MODIFIED:20220816T171952Z
UID:18939-1715967000-1715977800@oakcitybrewingcompany.com
SUMMARY:The Naked Empanada
DESCRIPTION:The Naked Empanada was the lifelong dream and now passion of Roy Thombs. Roy\, who is better known to friends and family as Fuzzy\, began his culinary journey at fifteen years old in Morganton\, NC. Never shying away from hard work and the opportunity to learn\, Roy worked his way from a dishwasher at Shoney’s to a degree from the prestigious Johnson & Wales University. It was during this time at Johnson & Wales that Roy interned at the highly acclaimed Grove Park Inn in Asheville\, NC. While interning at Grove Park Inn\, Roy’s passion for the culinary arts and a culture of service was truly sparked. From Johnson & Wales\, Roy went on to work for a number of corporate restaurant groups where he transitioned into operations management roles. Eventually\, he moved from operations to administration and served in corporate human resources for a large national chain restaurant\, where he spent fifteen years. \nIt wasn’t until 2013\, when a corporate realignment was pushing for a relocation\, potentially uprooting his family\, that Roy was fully able to rekindle the same ember that was sparked during his time at Johnson & Wales interning at Grove Park Inn. The choice was not easy to leave the comfort of a stable career to pursue the entrepreneurial dream which had been brewing for years\, but it also felt like an opportunity that could not be denied. Through extensive research\, trial and error\, feedback from friends and family\, Roy carefully hand-crafted the concept that launched in 2015 with his food truck offering fresh\, locally sourced and delicious handmade empanadas. It was clear from the start that a lifetime of focus in culinary arts\, customer service and operations had molded itself into a business that was an instant success. \nAs The Naked Empanada continues to grow and thrive\, we know that our success is driven by our customers. That is why we dedicate every day to ensuring that every empanada and every experience with our customers is cared for by each of our team members. This is a labor of love that is fueled by the smiles and enjoyment of every person who bites into the food that we prepare and says\, “Wow\, that’s sooo good!!”
URL:https://oakcitybrewingcompany.com/event/the-naked-empanada-2024-05-17/
CATEGORIES:Food Trucks
ATTACH;FMTTYPE=image/jpeg:https://oakcitybrewingcompany.com/wp-content/uploads/2022/08/277675892_657482668566589_7822163364397964254_n.jpg
END:VEVENT
END:VCALENDAR