BEGIN:VCALENDAR
VERSION:2.0
PRODID:-//Oak City Brewing Company - ECPv6.15.20//NONSGML v1.0//EN
CALSCALE:GREGORIAN
METHOD:PUBLISH
X-WR-CALNAME:Oak City Brewing Company
X-ORIGINAL-URL:https://oakcitybrewingcompany.com
X-WR-CALDESC:Events for Oak City Brewing Company
REFRESH-INTERVAL;VALUE=DURATION:PT1H
X-Robots-Tag:noindex
X-PUBLISHED-TTL:PT1H
BEGIN:VTIMEZONE
TZID:America/Halifax
BEGIN:DAYLIGHT
TZOFFSETFROM:-0400
TZOFFSETTO:-0300
TZNAME:ADT
DTSTART:20230312T060000
END:DAYLIGHT
BEGIN:STANDARD
TZOFFSETFROM:-0300
TZOFFSETTO:-0400
TZNAME:AST
DTSTART:20231105T050000
END:STANDARD
BEGIN:DAYLIGHT
TZOFFSETFROM:-0400
TZOFFSETTO:-0300
TZNAME:ADT
DTSTART:20240310T060000
END:DAYLIGHT
BEGIN:STANDARD
TZOFFSETFROM:-0300
TZOFFSETTO:-0400
TZNAME:AST
DTSTART:20241103T050000
END:STANDARD
BEGIN:DAYLIGHT
TZOFFSETFROM:-0400
TZOFFSETTO:-0300
TZNAME:ADT
DTSTART:20250309T060000
END:DAYLIGHT
BEGIN:STANDARD
TZOFFSETFROM:-0300
TZOFFSETTO:-0400
TZNAME:AST
DTSTART:20251102T050000
END:STANDARD
END:VTIMEZONE
BEGIN:VEVENT
DTSTART;TZID=America/Halifax:20240522T183000
DTEND;TZID=America/Halifax:20240522T193000
DTSTAMP:20260423T071600
CREATED:20230622T143255Z
LAST-MODIFIED:20230622T143255Z
UID:18694-1716402600-1716406200@oakcitybrewingcompany.com
SUMMARY:Beer Run
DESCRIPTION:Join us for a 1.5\, 3\, or 5 mile run or walk through downtown Knightdale\, Knightdale Station Park\, Mingo Creek Trail\, and other areas and landmarks that make our town special with our run club. \nLearn more here: https://oakcitybrewingcompany.com/run-club/ \nRun club meets up at 6:30 pm every Wednesday or 11:30 am every Saturday\, cheers!
URL:https://oakcitybrewingcompany.com/event/beer-run-2024-05-22/
CATEGORIES:Brewery Events,Weekly Events
ATTACH;FMTTYPE=image/png:https://oakcitybrewingcompany.com/wp-content/uploads/2023/06/Screen-Shot-2023-06-22-at-10.25.57-AM.png
END:VEVENT
BEGIN:VEVENT
DTSTART;TZID=America/Halifax:20240522T173000
DTEND;TZID=America/Halifax:20240522T203000
DTSTAMP:20260423T071600
CREATED:20220830T215212Z
LAST-MODIFIED:20220830T215212Z
UID:19118-1716399000-1716409800@oakcitybrewingcompany.com
SUMMARY:Bulkogi
DESCRIPTION:Authentic Korean BBQ with a yummy twist! Food prepared with love & care that can be felt in each bite. Come hungry & leave with more than just full tummy!
URL:https://oakcitybrewingcompany.com/event/bulkogi-12-2024-05-22/
CATEGORIES:Food Trucks
ATTACH;FMTTYPE=image/jpeg:https://oakcitybrewingcompany.com/wp-content/uploads/2020/01/10336733_570882016365515_5501550790059477710_n.jpg
END:VEVENT
BEGIN:VEVENT
DTSTART;TZID=America/Halifax:20240521T173000
DTEND;TZID=America/Halifax:20240521T203000
DTSTAMP:20260423T071600
CREATED:20220816T223305Z
LAST-MODIFIED:20220816T223305Z
UID:18849-1716312600-1716323400@oakcitybrewingcompany.com
SUMMARY:The Greek Goat
DESCRIPTION:Bringing your favorite Greek street food to Raleigh and the surrounding area. Greek Done Right!
URL:https://oakcitybrewingcompany.com/event/the-greek-goat-2024-05-21/
CATEGORIES:Food Trucks
ATTACH;FMTTYPE=image/png:https://oakcitybrewingcompany.com/wp-content/uploads/2022/08/294719080_358949019756141_4432516889414215207_n.png
END:VEVENT
BEGIN:VEVENT
DTSTART;TZID=America/Halifax:20240520T170000
DTEND;TZID=America/Halifax:20240520T200000
DTSTAMP:20260423T071600
CREATED:20240411T140406Z
LAST-MODIFIED:20240411T140406Z
UID:19553-1716224400-1716235200@oakcitybrewingcompany.com
SUMMARY:Copperheads Craft Burgers
DESCRIPTION:Uniquely crafted burgers!
URL:https://oakcitybrewingcompany.com/event/copperheads-craft-burgers-2024-05-20/
CATEGORIES:Food Trucks
ATTACH;FMTTYPE=image/png:https://oakcitybrewingcompany.com/wp-content/uploads/2024/04/Screenshot-2024-04-11-at-10.01.30-AM.png
END:VEVENT
BEGIN:VEVENT
DTSTART;TZID=America/Halifax:20240519T140000
DTEND;TZID=America/Halifax:20240519T180000
DTSTAMP:20260423T071600
CREATED:20220911T152736Z
LAST-MODIFIED:20220911T152736Z
UID:19082-1716127200-1716141600@oakcitybrewingcompany.com
SUMMARY:Moonrunners
DESCRIPTION:
URL:https://oakcitybrewingcompany.com/event/moonrunners-8-2024-05-19/
CATEGORIES:Food Trucks
ATTACH;FMTTYPE=image/jpeg:https://oakcitybrewingcompany.com/wp-content/uploads/2022/09/289540378_1421580884982878_5619351370244390677_n.jpg
END:VEVENT
BEGIN:VEVENT
DTSTART;TZID=America/Halifax:20240518T160000
DTEND;TZID=America/Halifax:20240518T210000
DTSTAMP:20260423T071600
CREATED:20220816T150752Z
LAST-MODIFIED:20240510T160915Z
UID:19273-1716048000-1716066000@oakcitybrewingcompany.com
SUMMARY:Dubz Grub
DESCRIPTION:Dubz Grub is more than just a food truck\, it is a dream come true for Robert and Adrienne Wilkinson.  We have over 30 years of experience in the food industry and finally decided to take a risk and follow our passions. Our Mission is to be professional\, reliable and bring delicious\, quality homemade food to your business or catered events.
URL:https://oakcitybrewingcompany.com/event/dubz-grub-3-2023-02-18-2024-05-18/
CATEGORIES:Food Trucks
ATTACH;FMTTYPE=image/png:https://oakcitybrewingcompany.com/wp-content/uploads/2022/08/Snacken-01.png
END:VEVENT
BEGIN:VEVENT
DTSTART;TZID=America/Halifax:20240518T120000
DTEND;TZID=America/Halifax:20240518T160000
DTSTAMP:20260423T071600
CREATED:20240422T174154Z
LAST-MODIFIED:20240422T174154Z
UID:19574-1716033600-1716048000@oakcitybrewingcompany.com
SUMMARY:Spring Makers Market
DESCRIPTION:We love supporting small businesses!\n.\nJoin us May 18th from 12-4 PM for live music by Sterling Scott\, shopping with over 40+ vendors\, and some great grub with The Tasty Turkey-Que\, Dippin’ Dots & Not Just A Fry Guy!\n.\nWe hope to see you there\, cheers!
URL:https://oakcitybrewingcompany.com/event/spring-makers-market-2/
CATEGORIES:Brewery Events,Events,Weekly Events
ATTACH;FMTTYPE=image/png:https://oakcitybrewingcompany.com/wp-content/uploads/2024/04/Makers-Markets-.png
END:VEVENT
BEGIN:VEVENT
DTSTART;TZID=America/Halifax:20240518T120000
DTEND;TZID=America/Halifax:20240518T150000
DTSTAMP:20260423T071600
CREATED:20220915T101018Z
LAST-MODIFIED:20240514T135417Z
UID:18927-1716033600-1716044400@oakcitybrewingcompany.com
SUMMARY:Not Just A Fry Guy\, The Tasty Turkey-Que & Dippin' Dots
DESCRIPTION:Food trucks for the Spring makers market!
URL:https://oakcitybrewingcompany.com/event/the-tasty-turkey-que-2024-05-18/
CATEGORIES:Food Trucks
END:VEVENT
BEGIN:VEVENT
DTSTART;TZID=America/Halifax:20240518T113000
DTEND;TZID=America/Halifax:20240518T123000
DTSTAMP:20260423T071600
CREATED:20230622T143640Z
LAST-MODIFIED:20240422T174238Z
UID:18615-1716031800-1716035400@oakcitybrewingcompany.com
SUMMARY:Beer Run
DESCRIPTION:Join us for a 1.5\, 3\, or 5 mile run or walk through downtown Knightdale\, Knightdale Station Park\, Mingo Creek Trail\, and other areas and landmarks that make our town special with our run club. \nLearn more here: https://oakcitybrewingcompany.com/run-club/ \nRun club meets up at 6:30 pm every Wednesday or 11:30 am every Saturday\, cheers! \n 
URL:https://oakcitybrewingcompany.com/event/beer-run-2-2024-05-18/
CATEGORIES:Brewery Events,Weekly Events
ATTACH;FMTTYPE=image/png:https://oakcitybrewingcompany.com/wp-content/uploads/2023/06/Screen-Shot-2023-06-22-at-10.25.57-AM.png
END:VEVENT
BEGIN:VEVENT
DTSTART;TZID=America/Halifax:20240517T173000
DTEND;TZID=America/Halifax:20240517T203000
DTSTAMP:20260423T071600
CREATED:20220816T171952Z
LAST-MODIFIED:20220816T171952Z
UID:18939-1715967000-1715977800@oakcitybrewingcompany.com
SUMMARY:The Naked Empanada
DESCRIPTION:The Naked Empanada was the lifelong dream and now passion of Roy Thombs. Roy\, who is better known to friends and family as Fuzzy\, began his culinary journey at fifteen years old in Morganton\, NC. Never shying away from hard work and the opportunity to learn\, Roy worked his way from a dishwasher at Shoney’s to a degree from the prestigious Johnson & Wales University. It was during this time at Johnson & Wales that Roy interned at the highly acclaimed Grove Park Inn in Asheville\, NC. While interning at Grove Park Inn\, Roy’s passion for the culinary arts and a culture of service was truly sparked. From Johnson & Wales\, Roy went on to work for a number of corporate restaurant groups where he transitioned into operations management roles. Eventually\, he moved from operations to administration and served in corporate human resources for a large national chain restaurant\, where he spent fifteen years. \nIt wasn’t until 2013\, when a corporate realignment was pushing for a relocation\, potentially uprooting his family\, that Roy was fully able to rekindle the same ember that was sparked during his time at Johnson & Wales interning at Grove Park Inn. The choice was not easy to leave the comfort of a stable career to pursue the entrepreneurial dream which had been brewing for years\, but it also felt like an opportunity that could not be denied. Through extensive research\, trial and error\, feedback from friends and family\, Roy carefully hand-crafted the concept that launched in 2015 with his food truck offering fresh\, locally sourced and delicious handmade empanadas. It was clear from the start that a lifetime of focus in culinary arts\, customer service and operations had molded itself into a business that was an instant success. \nAs The Naked Empanada continues to grow and thrive\, we know that our success is driven by our customers. That is why we dedicate every day to ensuring that every empanada and every experience with our customers is cared for by each of our team members. This is a labor of love that is fueled by the smiles and enjoyment of every person who bites into the food that we prepare and says\, “Wow\, that’s sooo good!!”
URL:https://oakcitybrewingcompany.com/event/the-naked-empanada-2024-05-17/
CATEGORIES:Food Trucks
ATTACH;FMTTYPE=image/jpeg:https://oakcitybrewingcompany.com/wp-content/uploads/2022/08/277675892_657482668566589_7822163364397964254_n.jpg
END:VEVENT
BEGIN:VEVENT
DTSTART;TZID=America/Halifax:20240516T173000
DTEND;TZID=America/Halifax:20240516T203000
DTSTAMP:20260423T071600
CREATED:20220826T145242Z
LAST-MODIFIED:20220826T145242Z
UID:19010-1715880600-1715891400@oakcitybrewingcompany.com
SUMMARY:Carolina's Catch
DESCRIPTION:Bringing Seafood from the Carolina’s Coast to the triangle
URL:https://oakcitybrewingcompany.com/event/carolinas-catch-2-2024-05-16/
CATEGORIES:Food Trucks
ATTACH;FMTTYPE=image/jpeg:https://oakcitybrewingcompany.com/wp-content/uploads/2022/08/294160203_760995485243754_5268186503346739086_n.jpg
END:VEVENT
BEGIN:VEVENT
DTSTART;TZID=America/Halifax:20240515T183000
DTEND;TZID=America/Halifax:20240515T193000
DTSTAMP:20260423T071600
CREATED:20230622T143255Z
LAST-MODIFIED:20230622T143255Z
UID:18693-1715797800-1715801400@oakcitybrewingcompany.com
SUMMARY:Beer Run
DESCRIPTION:Join us for a 1.5\, 3\, or 5 mile run or walk through downtown Knightdale\, Knightdale Station Park\, Mingo Creek Trail\, and other areas and landmarks that make our town special with our run club. \nLearn more here: https://oakcitybrewingcompany.com/run-club/ \nRun club meets up at 6:30 pm every Wednesday or 11:30 am every Saturday\, cheers!
URL:https://oakcitybrewingcompany.com/event/beer-run-2024-05-15/
CATEGORIES:Brewery Events,Weekly Events
ATTACH;FMTTYPE=image/png:https://oakcitybrewingcompany.com/wp-content/uploads/2023/06/Screen-Shot-2023-06-22-at-10.25.57-AM.png
END:VEVENT
BEGIN:VEVENT
DTSTART;TZID=America/Halifax:20240515T173000
DTEND;TZID=America/Halifax:20240515T203000
DTSTAMP:20260423T071600
CREATED:20220916T103300Z
LAST-MODIFIED:20220916T103300Z
UID:19419-1715794200-1715805000@oakcitybrewingcompany.com
SUMMARY:Jessica's Food Truck
DESCRIPTION:
URL:https://oakcitybrewingcompany.com/event/jessicas-food-truck-22-2023-02-25-2024-05-15/
CATEGORIES:Food Trucks
ATTACH;FMTTYPE=image/jpeg:https://oakcitybrewingcompany.com/wp-content/uploads/2022/09/301548167_171520468736524_3664133766732670901_n.jpg
END:VEVENT
BEGIN:VEVENT
DTSTART;TZID=America/Halifax:20240514T173000
DTEND;TZID=America/Halifax:20240514T203000
DTSTAMP:20260423T071600
CREATED:20231226T154846Z
LAST-MODIFIED:20240514T142225Z
UID:18863-1715707800-1715718600@oakcitybrewingcompany.com
SUMMARY:Big B’s Southern Kitchen
DESCRIPTION:Southern gourmet on the go\, home of the meatloaf melt.
URL:https://oakcitybrewingcompany.com/event/big-bs-southern-kitchen-2024-05-14/
CATEGORIES:Food Trucks
ATTACH;FMTTYPE=image/png:https://oakcitybrewingcompany.com/wp-content/uploads/2023/12/Screenshot-2023-12-26-at-10.42.21-AM.png
END:VEVENT
BEGIN:VEVENT
DTSTART;TZID=America/Halifax:20240513T173000
DTEND;TZID=America/Halifax:20240513T203000
DTSTAMP:20260423T071600
CREATED:20220824T113326Z
LAST-MODIFIED:20240425T161252Z
UID:18895-1715621400-1715632200@oakcitybrewingcompany.com
SUMMARY:Chick-N-Que
DESCRIPTION:The best Eastern style BBQ NC has to offer. We also serve 100% NC raised ostrich burgers along with mouth watering sides. Chick-N-Que is a multi mobile food truck & catering business serving Wake County and surrounding areas. With our guarded family recipe\, Chick-N-Que has a unique\, savory taste that stands out as some of the best barbecue around.
URL:https://oakcitybrewingcompany.com/event/chick-n-que-52-2023-01-27-2023-12-18-2024-05-13/
CATEGORIES:Food Trucks
ATTACH;FMTTYPE=image/jpeg:https://oakcitybrewingcompany.com/wp-content/uploads/2019/10/40683703_1781242268659131_3875899713362329600_n.jpg
END:VEVENT
BEGIN:VEVENT
DTSTART;TZID=America/Halifax:20240512T140000
DTEND;TZID=America/Halifax:20240512T180000
DTSTAMP:20260423T071600
CREATED:20220915T102427Z
LAST-MODIFIED:20220915T102427Z
UID:19106-1715522400-1715536800@oakcitybrewingcompany.com
SUMMARY:Lobster Dogs
DESCRIPTION:Food truck serving the Best Lobster Rolls & Stuffed Avocados in the Carolinas!
URL:https://oakcitybrewingcompany.com/event/lobster-dogs-3-2024-05-12/
CATEGORIES:Food Trucks
ATTACH;FMTTYPE=image/jpeg:https://oakcitybrewingcompany.com/wp-content/uploads/2022/09/300966759_603356964739835_7012982284719119023_n.jpg
END:VEVENT
BEGIN:VEVENT
DTSTART;TZID=America/Halifax:20240511T170000
DTEND;TZID=America/Halifax:20240511T210000
DTSTAMP:20260423T071600
CREATED:20230116T170404Z
LAST-MODIFIED:20240511T164528Z
UID:19162-1715446800-1715461200@oakcitybrewingcompany.com
SUMMARY:Fired Up Pizza & BBQ
DESCRIPTION:Serving wood-fired pizza and bbq. Smokin’ good with Carolina wood.
URL:https://oakcitybrewingcompany.com/event/fired-up-pizza-bbq-2-2024-05-11/
CATEGORIES:Food Trucks
ATTACH;FMTTYPE=image/jpeg:https://oakcitybrewingcompany.com/wp-content/uploads/2023/01/294908699_455773433222203_229099170207648236_n.jpeg
END:VEVENT
BEGIN:VEVENT
DTSTART;TZID=America/Halifax:20240511T140000
DTEND;TZID=America/Halifax:20240511T180000
DTSTAMP:20260423T071600
CREATED:20240309T172341Z
LAST-MODIFIED:20240415T134525Z
UID:19560-1715436000-1715450400@oakcitybrewingcompany.com
SUMMARY:Blood Drive
DESCRIPTION:It’s in your blood to save lives ????\n.\nEvery drop counts\, come donate blood with @thebloodconnection & receive $50 in rewards!\n.\nSign up here: https://donate.thebloodconnection.org/donor/schedules/drive_schedule/225257
URL:https://oakcitybrewingcompany.com/event/blood-drive-9-2024-05-11/
CATEGORIES:Brewery Events,Events,Weekly Events
ATTACH;FMTTYPE=image/jpeg:https://oakcitybrewingcompany.com/wp-content/uploads/2024/03/blood-drive-flyer-.jpeg
END:VEVENT
BEGIN:VEVENT
DTSTART;TZID=America/Halifax:20240511T140000
DTEND;TZID=America/Halifax:20240511T170000
DTSTAMP:20260423T071600
CREATED:20240501T134118Z
LAST-MODIFIED:20240501T134118Z
UID:19627-1715436000-1715446800@oakcitybrewingcompany.com
SUMMARY:Funnel Queens
DESCRIPTION:The Ultimate Funnel Cake Experience Since 2015
URL:https://oakcitybrewingcompany.com/event/funnel-queens/
CATEGORIES:Food Trucks
ATTACH;FMTTYPE=image/png:https://oakcitybrewingcompany.com/wp-content/uploads/2024/05/Screenshot-2024-05-01-at-9.37.42-AM.png
END:VEVENT
BEGIN:VEVENT
DTSTART;TZID=America/Halifax:20240511T140000
DTEND;TZID=America/Halifax:20240511T170000
DTSTAMP:20260423T071600
CREATED:20240417T210810Z
LAST-MODIFIED:20240417T210810Z
UID:19569-1715436000-1715446800@oakcitybrewingcompany.com
SUMMARY:Pink Boots Release Sip n' Shop
DESCRIPTION:Join us on May 11th from 2-5 PM for the release of our Pink Boots Collaboration brew as we celebrate the incredible women in the beer industry!\n.\nIndulge in the taste of empowerment while supporting women-owned businesses at our Pink Boots Release Sip n’ Shop!\n.\nMusic: Taylor Schiess\nFood trucks: TBA\n.\nOCBC will donate $1 per beer sold for the entire batch to The Pink Boots Society! ????\n.\nWhat is Pink Boots?\nThe Pink Boots Society aims to assist\, inspire\, and encourage women and non-binary individuals in the fermented/alcoholic beverage industry to advance their careers through education. \nMore about The Pink Boots Society: https://www.pinkbootssociety.org/
URL:https://oakcitybrewingcompany.com/event/pink-boots-release-sip-n-shop/
CATEGORIES:Brewery Events,Events
ATTACH;FMTTYPE=image/png:https://oakcitybrewingcompany.com/wp-content/uploads/2024/04/Pink-Boots-Event-1.png
END:VEVENT
BEGIN:VEVENT
DTSTART;TZID=America/Halifax:20240511T120000
DTEND;TZID=America/Halifax:20240511T150000
DTSTAMP:20260423T071600
CREATED:20230116T155025Z
LAST-MODIFIED:20230116T155025Z
UID:19294-1715428800-1715439600@oakcitybrewingcompany.com
SUMMARY:Portable Portugy
DESCRIPTION:Chef Shawn Dagnall brings The Portable Portugy\, NC’s first and only source for Portuguese cuisine.
URL:https://oakcitybrewingcompany.com/event/portable-portugy-2024-05-11/
CATEGORIES:Food Trucks
ATTACH;FMTTYPE=image/png:https://oakcitybrewingcompany.com/wp-content/uploads/2023/01/Screen-Shot-2023-01-16-at-10.45.04-AM.png
END:VEVENT
BEGIN:VEVENT
DTSTART;TZID=America/Halifax:20240511T113000
DTEND;TZID=America/Halifax:20240511T123000
DTSTAMP:20260423T071600
CREATED:20230622T143640Z
LAST-MODIFIED:20240415T134627Z
UID:18614-1715427000-1715430600@oakcitybrewingcompany.com
SUMMARY:Beer Run
DESCRIPTION:Join us for a 1.5\, 3\, or 5 mile run or walk through downtown Knightdale\, Knightdale Station Park\, Mingo Creek Trail\, and other areas and landmarks that make our town special with our run club. \nLearn more here: https://oakcitybrewingcompany.com/run-club/ \nRun club meets up at 6:30 pm every Wednesday or 11:30 am every Saturday\, cheers! \n 
URL:https://oakcitybrewingcompany.com/event/beer-run-2-2024-05-11/
CATEGORIES:Brewery Events,Weekly Events
ATTACH;FMTTYPE=image/png:https://oakcitybrewingcompany.com/wp-content/uploads/2023/06/Screen-Shot-2023-06-22-at-10.25.57-AM.png
END:VEVENT
BEGIN:VEVENT
DTSTART;TZID=America/Halifax:20240510T173000
DTEND;TZID=America/Halifax:20240510T203000
DTSTAMP:20260423T071600
CREATED:20220825T141353Z
LAST-MODIFIED:20240504T133629Z
UID:19057-1715362200-1715373000@oakcitybrewingcompany.com
SUMMARY:Caribbean Kicker
DESCRIPTION:We are a Food Truck that sell Caribbean Fusion with a twist. The food is made with love ❤️ and full of flavor.
URL:https://oakcitybrewingcompany.com/event/caribbean-kicker-3-2024-05-10/
CATEGORIES:Food Trucks
ATTACH;FMTTYPE=image/jpeg:https://oakcitybrewingcompany.com/wp-content/uploads/2022/08/279096638_2125417890949808_6612292007969708448_n.jpg
END:VEVENT
BEGIN:VEVENT
DTSTART;TZID=America/Halifax:20240509T173000
DTEND;TZID=America/Halifax:20240509T203000
DTSTAMP:20260423T071600
CREATED:20221229T165151Z
LAST-MODIFIED:20221229T165151Z
UID:18962-1715275800-1715286600@oakcitybrewingcompany.com
SUMMARY:The Smoke N Jerk
DESCRIPTION:Jvon Williams\, a North Carolina native has become known locally and privately for his unorthodox creations. Raised in the south\, he is making a name for himself by proudly continuing the tradition of “smoking meat” while celebrating down home culinary and Caribbean blended specialties. Williams brings meaning to a Caribbean twist on down home flavors of the south and elevates the heights by offering a unique variety of tastefully infused “Authentic” Jerk rubs incorporating natural local fruit and extractions.
URL:https://oakcitybrewingcompany.com/event/the-smoke-n-jerk-3-2024-05-09/
ATTACH;FMTTYPE=image/jpeg:https://oakcitybrewingcompany.com/wp-content/uploads/2019/12/20840918_1807268802918582_2991818591324802150_n.jpg
END:VEVENT
BEGIN:VEVENT
DTSTART;TZID=America/Halifax:20240508T183000
DTEND;TZID=America/Halifax:20240508T193000
DTSTAMP:20260423T071600
CREATED:20230622T143255Z
LAST-MODIFIED:20230622T143255Z
UID:18692-1715193000-1715196600@oakcitybrewingcompany.com
SUMMARY:Beer Run
DESCRIPTION:Join us for a 1.5\, 3\, or 5 mile run or walk through downtown Knightdale\, Knightdale Station Park\, Mingo Creek Trail\, and other areas and landmarks that make our town special with our run club. \nLearn more here: https://oakcitybrewingcompany.com/run-club/ \nRun club meets up at 6:30 pm every Wednesday or 11:30 am every Saturday\, cheers!
URL:https://oakcitybrewingcompany.com/event/beer-run-2024-05-08/
CATEGORIES:Brewery Events,Weekly Events
ATTACH;FMTTYPE=image/png:https://oakcitybrewingcompany.com/wp-content/uploads/2023/06/Screen-Shot-2023-06-22-at-10.25.57-AM.png
END:VEVENT
BEGIN:VEVENT
DTSTART;TZID=America/Halifax:20240508T173000
DTEND;TZID=America/Halifax:20240508T203000
DTSTAMP:20260423T071600
CREATED:20210826T023650Z
LAST-MODIFIED:20240508T144032Z
UID:19211-1715189400-1715200200@oakcitybrewingcompany.com
SUMMARY:Empanadas RD
DESCRIPTION:
URL:https://oakcitybrewingcompany.com/event/empanadas-rd-3-2024-05-08/
CATEGORIES:Food Trucks
ATTACH;FMTTYPE=image/jpeg:https://oakcitybrewingcompany.com/wp-content/uploads/2021/08/8444bc32-02c8-4a30-8d01-9197dfd80106.jpeg
END:VEVENT
BEGIN:VEVENT
DTSTART;TZID=America/Halifax:20240507T173000
DTEND;TZID=America/Halifax:20240507T203000
DTSTAMP:20260423T071600
CREATED:20240130T143409Z
LAST-MODIFIED:20240130T143409Z
UID:19438-1715103000-1715113800@oakcitybrewingcompany.com
SUMMARY:Umami
DESCRIPTION:Umami specializes in quality Teppan and sushi dishes along with specialty appetizers.
URL:https://oakcitybrewingcompany.com/event/umami-2-2024-05-07/
CATEGORIES:Food Trucks
ATTACH;FMTTYPE=image/png:https://oakcitybrewingcompany.com/wp-content/uploads/2024/01/Screenshot-2024-01-30-at-9.32.22-AM.png
END:VEVENT
BEGIN:VEVENT
DTSTART;TZID=America/Halifax:20240506T170000
DTEND;TZID=America/Halifax:20240506T200000
DTSTAMP:20260423T071600
CREATED:20220824T113326Z
LAST-MODIFIED:20220824T113326Z
UID:19586-1715014800-1715025600@oakcitybrewingcompany.com
SUMMARY:Chick-N-Que
DESCRIPTION:The best Eastern style BBQ NC has to offer. We also serve 100% NC raised ostrich burgers along with mouth watering sides. Chick-N-Que is a multi mobile food truck & catering business serving Wake County and surrounding areas. With our guarded family recipe\, Chick-N-Que has a unique\, savory taste that stands out as some of the best barbecue around.
URL:https://oakcitybrewingcompany.com/event/chick-n-que-52-2023-01-27-2023-12-18-2024-05-06/
CATEGORIES:Food Trucks
ATTACH;FMTTYPE=image/jpeg:https://oakcitybrewingcompany.com/wp-content/uploads/2019/10/40683703_1781242268659131_3875899713362329600_n.jpg
END:VEVENT
BEGIN:VEVENT
DTSTART;VALUE=DATE:20240506
DTEND;VALUE=DATE:20240513
DTSTAMP:20260423T071600
CREATED:20240501T155911Z
LAST-MODIFIED:20240501T155911Z
UID:19641-1714953600-1715558399@oakcitybrewingcompany.com
SUMMARY:Shop Local Knightdale Week
DESCRIPTION:Set up by our friends over at Rewind\, let’s support some of our local businesses in Knightdale!\n\nHow does it work?– Visit each business on the passport (You can pick up a passport from any of the local businesses)– Make a purchase at each business over the week to fill your passport– Turn in your filled passport at any of the businesses\, by the end of business Sunday\, May 12– We will gather all the completed passport names and have a drawing– Winner will be announced by the end of the week\n\nPrize will be a gift basket with goodies from each local business\n\nFor more info click here: https://www.facebook.com/events/388156740665930
URL:https://oakcitybrewingcompany.com/event/shop-local-knightdale-week/
CATEGORIES:Brewery Events,Events,Weekly Events
ATTACH;FMTTYPE=image/jpeg:https://oakcitybrewingcompany.com/wp-content/uploads/2024/05/4.jpg
END:VEVENT
BEGIN:VEVENT
DTSTART;TZID=America/Halifax:20240505T140000
DTEND;TZID=America/Halifax:20240505T180000
DTSTAMP:20260423T071600
CREATED:20230309T173542Z
LAST-MODIFIED:20240425T161559Z
UID:19233-1714917600-1714932000@oakcitybrewingcompany.com
SUMMARY:Mr Guacs Tacos
DESCRIPTION:Authentic Mexican Food
URL:https://oakcitybrewingcompany.com/event/parkers-hall-of-fame-deli-grill-2024-05-05/
CATEGORIES:Food Trucks
ATTACH;FMTTYPE=image/png:https://oakcitybrewingcompany.com/wp-content/uploads/2023/03/Screen-Shot-2023-03-09-at-12.33.28-PM.png
END:VEVENT
END:VCALENDAR