BEGIN:VCALENDAR
VERSION:2.0
PRODID:-//Oak City Brewing Company - ECPv6.15.20//NONSGML v1.0//EN
CALSCALE:GREGORIAN
METHOD:PUBLISH
X-WR-CALNAME:Oak City Brewing Company
X-ORIGINAL-URL:https://oakcitybrewingcompany.com
X-WR-CALDESC:Events for Oak City Brewing Company
REFRESH-INTERVAL;VALUE=DURATION:PT1H
X-Robots-Tag:noindex
X-PUBLISHED-TTL:PT1H
BEGIN:VTIMEZONE
TZID:America/Halifax
BEGIN:DAYLIGHT
TZOFFSETFROM:-0400
TZOFFSETTO:-0300
TZNAME:ADT
DTSTART:20230312T060000
END:DAYLIGHT
BEGIN:STANDARD
TZOFFSETFROM:-0300
TZOFFSETTO:-0400
TZNAME:AST
DTSTART:20231105T050000
END:STANDARD
BEGIN:DAYLIGHT
TZOFFSETFROM:-0400
TZOFFSETTO:-0300
TZNAME:ADT
DTSTART:20240310T060000
END:DAYLIGHT
BEGIN:STANDARD
TZOFFSETFROM:-0300
TZOFFSETTO:-0400
TZNAME:AST
DTSTART:20241103T050000
END:STANDARD
BEGIN:DAYLIGHT
TZOFFSETFROM:-0400
TZOFFSETTO:-0300
TZNAME:ADT
DTSTART:20250309T060000
END:DAYLIGHT
BEGIN:STANDARD
TZOFFSETFROM:-0300
TZOFFSETTO:-0400
TZNAME:AST
DTSTART:20251102T050000
END:STANDARD
END:VTIMEZONE
BEGIN:VEVENT
DTSTART;TZID=America/Halifax:20240511T120000
DTEND;TZID=America/Halifax:20240511T150000
DTSTAMP:20260423T093657
CREATED:20230116T155025Z
LAST-MODIFIED:20230116T155025Z
UID:19294-1715428800-1715439600@oakcitybrewingcompany.com
SUMMARY:Portable Portugy
DESCRIPTION:Chef Shawn Dagnall brings The Portable Portugy\, NC’s first and only source for Portuguese cuisine.
URL:https://oakcitybrewingcompany.com/event/portable-portugy-2024-05-11/
CATEGORIES:Food Trucks
ATTACH;FMTTYPE=image/png:https://oakcitybrewingcompany.com/wp-content/uploads/2023/01/Screen-Shot-2023-01-16-at-10.45.04-AM.png
END:VEVENT
BEGIN:VEVENT
DTSTART;TZID=America/Halifax:20240511T113000
DTEND;TZID=America/Halifax:20240511T123000
DTSTAMP:20260423T093657
CREATED:20230622T143640Z
LAST-MODIFIED:20240415T134627Z
UID:18614-1715427000-1715430600@oakcitybrewingcompany.com
SUMMARY:Beer Run
DESCRIPTION:Join us for a 1.5\, 3\, or 5 mile run or walk through downtown Knightdale\, Knightdale Station Park\, Mingo Creek Trail\, and other areas and landmarks that make our town special with our run club. \nLearn more here: https://oakcitybrewingcompany.com/run-club/ \nRun club meets up at 6:30 pm every Wednesday or 11:30 am every Saturday\, cheers! \n 
URL:https://oakcitybrewingcompany.com/event/beer-run-2-2024-05-11/
CATEGORIES:Brewery Events,Weekly Events
ATTACH;FMTTYPE=image/png:https://oakcitybrewingcompany.com/wp-content/uploads/2023/06/Screen-Shot-2023-06-22-at-10.25.57-AM.png
END:VEVENT
BEGIN:VEVENT
DTSTART;TZID=America/Halifax:20240510T173000
DTEND;TZID=America/Halifax:20240510T203000
DTSTAMP:20260423T093657
CREATED:20220825T141353Z
LAST-MODIFIED:20240504T133629Z
UID:19057-1715362200-1715373000@oakcitybrewingcompany.com
SUMMARY:Caribbean Kicker
DESCRIPTION:We are a Food Truck that sell Caribbean Fusion with a twist. The food is made with love ❤️ and full of flavor.
URL:https://oakcitybrewingcompany.com/event/caribbean-kicker-3-2024-05-10/
CATEGORIES:Food Trucks
ATTACH;FMTTYPE=image/jpeg:https://oakcitybrewingcompany.com/wp-content/uploads/2022/08/279096638_2125417890949808_6612292007969708448_n.jpg
END:VEVENT
BEGIN:VEVENT
DTSTART;TZID=America/Halifax:20240509T173000
DTEND;TZID=America/Halifax:20240509T203000
DTSTAMP:20260423T093657
CREATED:20221229T165151Z
LAST-MODIFIED:20221229T165151Z
UID:18962-1715275800-1715286600@oakcitybrewingcompany.com
SUMMARY:The Smoke N Jerk
DESCRIPTION:Jvon Williams\, a North Carolina native has become known locally and privately for his unorthodox creations. Raised in the south\, he is making a name for himself by proudly continuing the tradition of “smoking meat” while celebrating down home culinary and Caribbean blended specialties. Williams brings meaning to a Caribbean twist on down home flavors of the south and elevates the heights by offering a unique variety of tastefully infused “Authentic” Jerk rubs incorporating natural local fruit and extractions.
URL:https://oakcitybrewingcompany.com/event/the-smoke-n-jerk-3-2024-05-09/
ATTACH;FMTTYPE=image/jpeg:https://oakcitybrewingcompany.com/wp-content/uploads/2019/12/20840918_1807268802918582_2991818591324802150_n.jpg
END:VEVENT
BEGIN:VEVENT
DTSTART;TZID=America/Halifax:20240508T183000
DTEND;TZID=America/Halifax:20240508T193000
DTSTAMP:20260423T093657
CREATED:20230622T143255Z
LAST-MODIFIED:20230622T143255Z
UID:18692-1715193000-1715196600@oakcitybrewingcompany.com
SUMMARY:Beer Run
DESCRIPTION:Join us for a 1.5\, 3\, or 5 mile run or walk through downtown Knightdale\, Knightdale Station Park\, Mingo Creek Trail\, and other areas and landmarks that make our town special with our run club. \nLearn more here: https://oakcitybrewingcompany.com/run-club/ \nRun club meets up at 6:30 pm every Wednesday or 11:30 am every Saturday\, cheers!
URL:https://oakcitybrewingcompany.com/event/beer-run-2024-05-08/
CATEGORIES:Brewery Events,Weekly Events
ATTACH;FMTTYPE=image/png:https://oakcitybrewingcompany.com/wp-content/uploads/2023/06/Screen-Shot-2023-06-22-at-10.25.57-AM.png
END:VEVENT
BEGIN:VEVENT
DTSTART;TZID=America/Halifax:20240508T173000
DTEND;TZID=America/Halifax:20240508T203000
DTSTAMP:20260423T093657
CREATED:20210826T023650Z
LAST-MODIFIED:20240508T144032Z
UID:19211-1715189400-1715200200@oakcitybrewingcompany.com
SUMMARY:Empanadas RD
DESCRIPTION:
URL:https://oakcitybrewingcompany.com/event/empanadas-rd-3-2024-05-08/
CATEGORIES:Food Trucks
ATTACH;FMTTYPE=image/jpeg:https://oakcitybrewingcompany.com/wp-content/uploads/2021/08/8444bc32-02c8-4a30-8d01-9197dfd80106.jpeg
END:VEVENT
BEGIN:VEVENT
DTSTART;TZID=America/Halifax:20240507T173000
DTEND;TZID=America/Halifax:20240507T203000
DTSTAMP:20260423T093657
CREATED:20240130T143409Z
LAST-MODIFIED:20240130T143409Z
UID:19438-1715103000-1715113800@oakcitybrewingcompany.com
SUMMARY:Umami
DESCRIPTION:Umami specializes in quality Teppan and sushi dishes along with specialty appetizers.
URL:https://oakcitybrewingcompany.com/event/umami-2-2024-05-07/
CATEGORIES:Food Trucks
ATTACH;FMTTYPE=image/png:https://oakcitybrewingcompany.com/wp-content/uploads/2024/01/Screenshot-2024-01-30-at-9.32.22-AM.png
END:VEVENT
BEGIN:VEVENT
DTSTART;TZID=America/Halifax:20240506T170000
DTEND;TZID=America/Halifax:20240506T200000
DTSTAMP:20260423T093657
CREATED:20220824T113326Z
LAST-MODIFIED:20220824T113326Z
UID:19586-1715014800-1715025600@oakcitybrewingcompany.com
SUMMARY:Chick-N-Que
DESCRIPTION:The best Eastern style BBQ NC has to offer. We also serve 100% NC raised ostrich burgers along with mouth watering sides. Chick-N-Que is a multi mobile food truck & catering business serving Wake County and surrounding areas. With our guarded family recipe\, Chick-N-Que has a unique\, savory taste that stands out as some of the best barbecue around.
URL:https://oakcitybrewingcompany.com/event/chick-n-que-52-2023-01-27-2023-12-18-2024-05-06/
CATEGORIES:Food Trucks
ATTACH;FMTTYPE=image/jpeg:https://oakcitybrewingcompany.com/wp-content/uploads/2019/10/40683703_1781242268659131_3875899713362329600_n.jpg
END:VEVENT
BEGIN:VEVENT
DTSTART;VALUE=DATE:20240506
DTEND;VALUE=DATE:20240513
DTSTAMP:20260423T093657
CREATED:20240501T155911Z
LAST-MODIFIED:20240501T155911Z
UID:19641-1714953600-1715558399@oakcitybrewingcompany.com
SUMMARY:Shop Local Knightdale Week
DESCRIPTION:Set up by our friends over at Rewind\, let’s support some of our local businesses in Knightdale!\n\nHow does it work?– Visit each business on the passport (You can pick up a passport from any of the local businesses)– Make a purchase at each business over the week to fill your passport– Turn in your filled passport at any of the businesses\, by the end of business Sunday\, May 12– We will gather all the completed passport names and have a drawing– Winner will be announced by the end of the week\n\nPrize will be a gift basket with goodies from each local business\n\nFor more info click here: https://www.facebook.com/events/388156740665930
URL:https://oakcitybrewingcompany.com/event/shop-local-knightdale-week/
CATEGORIES:Brewery Events,Events,Weekly Events
ATTACH;FMTTYPE=image/jpeg:https://oakcitybrewingcompany.com/wp-content/uploads/2024/05/4.jpg
END:VEVENT
BEGIN:VEVENT
DTSTART;TZID=America/Halifax:20240505T140000
DTEND;TZID=America/Halifax:20240505T180000
DTSTAMP:20260423T093657
CREATED:20230309T173542Z
LAST-MODIFIED:20240425T161559Z
UID:19233-1714917600-1714932000@oakcitybrewingcompany.com
SUMMARY:Mr Guacs Tacos
DESCRIPTION:Authentic Mexican Food
URL:https://oakcitybrewingcompany.com/event/parkers-hall-of-fame-deli-grill-2024-05-05/
CATEGORIES:Food Trucks
ATTACH;FMTTYPE=image/png:https://oakcitybrewingcompany.com/wp-content/uploads/2023/03/Screen-Shot-2023-03-09-at-12.33.28-PM.png
END:VEVENT
BEGIN:VEVENT
DTSTART;TZID=America/Halifax:20240504T160000
DTEND;TZID=America/Halifax:20240504T210000
DTSTAMP:20260423T093657
CREATED:20220830T214644Z
LAST-MODIFIED:20220830T214644Z
UID:19175-1714838400-1714856400@oakcitybrewingcompany.com
SUMMARY:Barone Meatball
DESCRIPTION:
URL:https://oakcitybrewingcompany.com/event/barone-meatball-33-2023-02-04-2024-05-04/
CATEGORIES:Food Trucks
ATTACH;FMTTYPE=image/png:https://oakcitybrewingcompany.com/wp-content/uploads/2022/08/Screen-Shot-2022-12-30-at-10.20.59-AM.png
END:VEVENT
BEGIN:VEVENT
DTSTART;TZID=America/Halifax:20240504T120000
DTEND;TZID=America/Halifax:20240504T150000
DTSTAMP:20260423T093657
CREATED:20220825T141353Z
LAST-MODIFIED:20220825T141353Z
UID:19645-1714824000-1714834800@oakcitybrewingcompany.com
SUMMARY:Caribbean Kicker
DESCRIPTION:We are a Food Truck that sell Caribbean Fusion with a twist. The food is made with love ❤️ and full of flavor.
URL:https://oakcitybrewingcompany.com/event/caribbean-kicker-3-2024-05-04/
CATEGORIES:Food Trucks
ATTACH;FMTTYPE=image/jpeg:https://oakcitybrewingcompany.com/wp-content/uploads/2022/08/279096638_2125417890949808_6612292007969708448_n.jpg
END:VEVENT
BEGIN:VEVENT
DTSTART;TZID=America/Halifax:20240504T113000
DTEND;TZID=America/Halifax:20240504T123000
DTSTAMP:20260423T093657
CREATED:20230622T143640Z
LAST-MODIFIED:20230622T143640Z
UID:18613-1714822200-1714825800@oakcitybrewingcompany.com
SUMMARY:Beer Run
DESCRIPTION:Join us for a 1.5\, 3\, or 5 mile run or walk through downtown Knightdale\, Knightdale Station Park\, Mingo Creek Trail\, and other areas and landmarks that make our town special with our run club. \nLearn more here: https://oakcitybrewingcompany.com/run-club/ \nRun club meets up at 6:30 pm every Wednesday or 11:30 am every Saturday\, cheers! \n 
URL:https://oakcitybrewingcompany.com/event/beer-run-2-2024-05-04/
CATEGORIES:Brewery Events,Weekly Events
ATTACH;FMTTYPE=image/png:https://oakcitybrewingcompany.com/wp-content/uploads/2023/06/Screen-Shot-2023-06-22-at-10.25.57-AM.png
END:VEVENT
BEGIN:VEVENT
DTSTART;TZID=America/Halifax:20240504T110000
DTEND;TZID=America/Halifax:20240504T120000
DTSTAMP:20260423T093657
CREATED:20240425T134656Z
LAST-MODIFIED:20240606T155002Z
UID:19578-1714820400-1714824000@oakcitybrewingcompany.com
SUMMARY:Yoga on the Lawn
DESCRIPTION:Oak City yogis\, it’s time to flow! \n.\nYoga on the Lawn is back on Saturday\, May 4th\, from 11 AM – 12 PM for an outdoor yoga session.\n.\n$15/class — includes a beer.\nReserve your spot now: https://bit.ly/3y10nE0
URL:https://oakcitybrewingcompany.com/event/yoga-on-the-lawn-9/
CATEGORIES:Brewery Events,Events,Weekly Events
ATTACH;FMTTYPE=image/png:https://oakcitybrewingcompany.com/wp-content/uploads/2024/04/Yoga-Promo-Event-Cover.png
END:VEVENT
BEGIN:VEVENT
DTSTART;TZID=America/Halifax:20240503T173000
DTEND;TZID=America/Halifax:20240503T203000
DTSTAMP:20260423T093657
CREATED:20240415T133645Z
LAST-MODIFIED:20240425T174209Z
UID:19555-1714757400-1714768200@oakcitybrewingcompany.com
SUMMARY:First Friday
DESCRIPTION:First Fridays at Oak City Brewing are the best Fridays!\n.\nJoin us Friday\, May 3rd from 5:30-8:30 PM to shop local\, enjoy live music\, and indulge in delicious bites from food trucks.\n.\nSupport small businesses while enjoying craft brews and good vibes!\n.\nMusic by: Kevin Laurencelle\n.\nFood trucks: The Flat Drum\, Poblanos Tacos & Jones Lemonade\n.\nAdded fun: Face Painting by Fantasy Dream Facepaint\n.\nSmall business vendors:\nMillie and Margot Candle Company\nThe Marley Market\nAlternative Wax\nKree’s Flowers\nLoving Leo Baby Boutique\nSprinkled with love Cakery\nBehind the Glass Bottle\, LLC\nRoot-Bound Plant Shop\nFormosity\nDiGiulio Studios\nThe Crafty Olive Boutique\nElectric boots vintage\nBlue Barn Woodcrafts LLC\nDas Letterhaus\nDesigns by Donna
URL:https://oakcitybrewingcompany.com/event/first-friday-12/
CATEGORIES:Brewery Events,Events,Weekly Events
ATTACH;FMTTYPE=image/png:https://oakcitybrewingcompany.com/wp-content/uploads/2024/04/First-Friday-2024-3.png
END:VEVENT
BEGIN:VEVENT
DTSTART;TZID=America/Halifax:20240503T173000
DTEND;TZID=America/Halifax:20240503T203000
DTSTAMP:20260423T093657
CREATED:20220816T032306Z
LAST-MODIFIED:20240425T181806Z
UID:19245-1714757400-1714768200@oakcitybrewingcompany.com
SUMMARY:The Flat Drum\, Poblanos Tacos & Jones Lemonade
DESCRIPTION:
URL:https://oakcitybrewingcompany.com/event/the-flat-drum-3-2024-05-03/
CATEGORIES:Food Trucks
END:VEVENT
BEGIN:VEVENT
DTSTART;TZID=America/Halifax:20240502T173000
DTEND;TZID=America/Halifax:20240502T203000
DTSTAMP:20260423T093657
CREATED:20220824T120403Z
LAST-MODIFIED:20220824T120403Z
UID:19033-1714671000-1714681800@oakcitybrewingcompany.com
SUMMARY:Not Just A Fry Guy
DESCRIPTION:
URL:https://oakcitybrewingcompany.com/event/not-just-a-fry-guy-2024-05-02/
CATEGORIES:Food Trucks
ATTACH;FMTTYPE=image/jpeg:https://oakcitybrewingcompany.com/wp-content/uploads/2022/08/283540834_555973096053598_4434455661131209924_n.jpg
END:VEVENT
BEGIN:VEVENT
DTSTART;TZID=America/Halifax:20240501T183000
DTEND;TZID=America/Halifax:20240501T193000
DTSTAMP:20260423T093657
CREATED:20230622T143255Z
LAST-MODIFIED:20230622T143255Z
UID:18691-1714588200-1714591800@oakcitybrewingcompany.com
SUMMARY:Beer Run
DESCRIPTION:Join us for a 1.5\, 3\, or 5 mile run or walk through downtown Knightdale\, Knightdale Station Park\, Mingo Creek Trail\, and other areas and landmarks that make our town special with our run club. \nLearn more here: https://oakcitybrewingcompany.com/run-club/ \nRun club meets up at 6:30 pm every Wednesday or 11:30 am every Saturday\, cheers!
URL:https://oakcitybrewingcompany.com/event/beer-run-2024-05-01/
CATEGORIES:Brewery Events,Weekly Events
ATTACH;FMTTYPE=image/png:https://oakcitybrewingcompany.com/wp-content/uploads/2023/06/Screen-Shot-2023-06-22-at-10.25.57-AM.png
END:VEVENT
BEGIN:VEVENT
DTSTART;TZID=America/Halifax:20240501T173000
DTEND;TZID=America/Halifax:20240501T203000
DTSTAMP:20260423T093657
CREATED:20220825T131329Z
LAST-MODIFIED:20220825T131329Z
UID:18878-1714584600-1714595400@oakcitybrewingcompany.com
SUMMARY:Chirba Chirba Dumpling
DESCRIPTION:Presents mouthwatering Chinese style dumplings. We are excited to bring you an Asian street fare food truck specializing in Chinese dumplings. After years of dumpling studies through extensive tasting\, pleating and learning secret family recipes\, we have developed a menu that we think you’ll love.
URL:https://oakcitybrewingcompany.com/event/chirba-chirba-dumpling-48-2024-05-01/
CATEGORIES:Food Trucks
ATTACH;FMTTYPE=image/jpeg:https://oakcitybrewingcompany.com/wp-content/uploads/2022/08/300415632_7906269056113354_1802728577223783342_n.jpg
END:VEVENT
BEGIN:VEVENT
DTSTART;TZID=America/Halifax:20240429T170000
DTEND;TZID=America/Halifax:20240429T200000
DTSTAMP:20260423T093657
CREATED:20220824T113326Z
LAST-MODIFIED:20220824T113326Z
UID:19585-1714410000-1714420800@oakcitybrewingcompany.com
SUMMARY:Chick-N-Que
DESCRIPTION:The best Eastern style BBQ NC has to offer. We also serve 100% NC raised ostrich burgers along with mouth watering sides. Chick-N-Que is a multi mobile food truck & catering business serving Wake County and surrounding areas. With our guarded family recipe\, Chick-N-Que has a unique\, savory taste that stands out as some of the best barbecue around.
URL:https://oakcitybrewingcompany.com/event/chick-n-que-52-2023-01-27-2023-12-18-2024-04-29/
CATEGORIES:Food Trucks
ATTACH;FMTTYPE=image/jpeg:https://oakcitybrewingcompany.com/wp-content/uploads/2019/10/40683703_1781242268659131_3875899713362329600_n.jpg
END:VEVENT
BEGIN:VEVENT
DTSTART;TZID=America/Halifax:20240428T140000
DTEND;TZID=America/Halifax:20240428T180000
DTSTAMP:20260423T093657
CREATED:20230126T180317Z
LAST-MODIFIED:20230126T180317Z
UID:19069-1714312800-1714327200@oakcitybrewingcompany.com
SUMMARY:Wild Mojo
DESCRIPTION:A place to try out creative wild game dishes by internationally recognized. award-winning chef\, Jason Eastman\, all made from a menu with the finest and freshest selected seasonal items. These locally sourced ingredients are homegrown and sustainably raised by our NC farms.
URL:https://oakcitybrewingcompany.com/event/wild-mojo-2023-12-11-2024-04-28/
CATEGORIES:Food Trucks
ATTACH;FMTTYPE=image/png:https://oakcitybrewingcompany.com/wp-content/uploads/2023/01/Screen-Shot-2023-01-26-at-1.02.33-PM.png
END:VEVENT
BEGIN:VEVENT
DTSTART;TZID=America/Halifax:20240427T160000
DTEND;TZID=America/Halifax:20240427T210000
DTSTAMP:20260423T093657
CREATED:20220816T114537Z
LAST-MODIFIED:20220816T114537Z
UID:19141-1714233600-1714251600@oakcitybrewingcompany.com
SUMMARY:Bertos Chimis
DESCRIPTION:What is a chimi? A Chimi is a sauce-dripping hamburger served throughout the streets of Dominican Republic. An iconic sandwich served from lunch till late night\, that will satisfy your tastebuds day in\, day out.
URL:https://oakcitybrewingcompany.com/event/bertos-chimis-2-2024-04-27/
CATEGORIES:Food Trucks
ATTACH;FMTTYPE=image/jpeg:https://oakcitybrewingcompany.com/wp-content/uploads/2022/08/131890676_207085377570891_5623458210479334688_n.jpg
END:VEVENT
BEGIN:VEVENT
DTSTART;TZID=America/Halifax:20240427T120000
DTEND;TZID=America/Halifax:20240427T150000
DTSTAMP:20260423T093657
CREATED:20230116T152102Z
LAST-MODIFIED:20230116T152102Z
UID:19315-1714219200-1714230000@oakcitybrewingcompany.com
SUMMARY:Atlas Nomads
DESCRIPTION:Atlas Nomads is a Mediterranean food truck. The name of Atlas Nomads is inspired by people traveling from place to place in Morocco’s Atlas Mountains\, searching for pasture and food. Our food is made with fresh produce and halal meat.
URL:https://oakcitybrewingcompany.com/event/atlas-nomads-2-2024-04-27/
CATEGORIES:Food Trucks
ATTACH;FMTTYPE=image/png:https://oakcitybrewingcompany.com/wp-content/uploads/2023/01/Screen-Shot-2023-01-14-at-9.58.18-AM.png
END:VEVENT
BEGIN:VEVENT
DTSTART;TZID=America/Halifax:20240427T113000
DTEND;TZID=America/Halifax:20240427T123000
DTSTAMP:20260423T093657
CREATED:20230622T143640Z
LAST-MODIFIED:20230622T143640Z
UID:18612-1714217400-1714221000@oakcitybrewingcompany.com
SUMMARY:Beer Run
DESCRIPTION:Join us for a 1.5\, 3\, or 5 mile run or walk through downtown Knightdale\, Knightdale Station Park\, Mingo Creek Trail\, and other areas and landmarks that make our town special with our run club. \nLearn more here: https://oakcitybrewingcompany.com/run-club/ \nRun club meets up at 6:30 pm every Wednesday or 11:30 am every Saturday\, cheers! \n 
URL:https://oakcitybrewingcompany.com/event/beer-run-2-2024-04-27/
CATEGORIES:Brewery Events,Weekly Events
ATTACH;FMTTYPE=image/png:https://oakcitybrewingcompany.com/wp-content/uploads/2023/06/Screen-Shot-2023-06-22-at-10.25.57-AM.png
END:VEVENT
BEGIN:VEVENT
DTSTART;TZID=America/Halifax:20240426T173000
DTEND;TZID=America/Halifax:20240426T203000
DTSTAMP:20260423T093657
CREATED:20220824T113326Z
LAST-MODIFIED:20240425T161252Z
UID:18894-1714152600-1714163400@oakcitybrewingcompany.com
SUMMARY:Chick-N-Que
DESCRIPTION:The best Eastern style BBQ NC has to offer. We also serve 100% NC raised ostrich burgers along with mouth watering sides. Chick-N-Que is a multi mobile food truck & catering business serving Wake County and surrounding areas. With our guarded family recipe\, Chick-N-Que has a unique\, savory taste that stands out as some of the best barbecue around.
URL:https://oakcitybrewingcompany.com/event/chick-n-que-52-2023-01-27-2023-12-18-2024-04-26/
CATEGORIES:Food Trucks
ATTACH;FMTTYPE=image/jpeg:https://oakcitybrewingcompany.com/wp-content/uploads/2019/10/40683703_1781242268659131_3875899713362329600_n.jpg
END:VEVENT
BEGIN:VEVENT
DTSTART;TZID=America/Halifax:20240425T173000
DTEND;TZID=America/Halifax:20240425T203000
DTSTAMP:20260423T093657
CREATED:20220816T160505Z
LAST-MODIFIED:20220816T160505Z
UID:18985-1714066200-1714077000@oakcitybrewingcompany.com
SUMMARY:Tacos Neza
DESCRIPTION:
URL:https://oakcitybrewingcompany.com/event/tacos-neza-4-2024-04-25/
CATEGORIES:Food Trucks
ATTACH;FMTTYPE=image/jpeg:https://oakcitybrewingcompany.com/wp-content/uploads/2022/08/288475272_543179494124910_8462946235973782313_n.jpg
END:VEVENT
BEGIN:VEVENT
DTSTART;TZID=America/Halifax:20240424T183000
DTEND;TZID=America/Halifax:20240424T193000
DTSTAMP:20260423T093657
CREATED:20230622T143255Z
LAST-MODIFIED:20230622T143255Z
UID:18690-1713983400-1713987000@oakcitybrewingcompany.com
SUMMARY:Beer Run
DESCRIPTION:Join us for a 1.5\, 3\, or 5 mile run or walk through downtown Knightdale\, Knightdale Station Park\, Mingo Creek Trail\, and other areas and landmarks that make our town special with our run club. \nLearn more here: https://oakcitybrewingcompany.com/run-club/ \nRun club meets up at 6:30 pm every Wednesday or 11:30 am every Saturday\, cheers!
URL:https://oakcitybrewingcompany.com/event/beer-run-2024-04-24/
CATEGORIES:Brewery Events,Weekly Events
ATTACH;FMTTYPE=image/png:https://oakcitybrewingcompany.com/wp-content/uploads/2023/06/Screen-Shot-2023-06-22-at-10.25.57-AM.png
END:VEVENT
BEGIN:VEVENT
DTSTART;TZID=America/Halifax:20240424T173000
DTEND;TZID=America/Halifax:20240424T203000
DTSTAMP:20260423T093657
CREATED:20220830T215212Z
LAST-MODIFIED:20220830T215212Z
UID:19117-1713979800-1713990600@oakcitybrewingcompany.com
SUMMARY:Bulkogi
DESCRIPTION:Authentic Korean BBQ with a yummy twist! Food prepared with love & care that can be felt in each bite. Come hungry & leave with more than just full tummy!
URL:https://oakcitybrewingcompany.com/event/bulkogi-12-2024-04-24/
CATEGORIES:Food Trucks
ATTACH;FMTTYPE=image/jpeg:https://oakcitybrewingcompany.com/wp-content/uploads/2020/01/10336733_570882016365515_5501550790059477710_n.jpg
END:VEVENT
BEGIN:VEVENT
DTSTART;TZID=America/Halifax:20240423T173000
DTEND;TZID=America/Halifax:20240423T173000
DTSTAMP:20260423T093657
CREATED:20240125T163947Z
LAST-MODIFIED:20240125T163947Z
UID:19392-1713893400-1713893400@oakcitybrewingcompany.com
SUMMARY:D's Presto
DESCRIPTION:Committed to deliver my love of cooking that will satisfy your appetite.
URL:https://oakcitybrewingcompany.com/event/ds-presto-2-2024-04-23/
CATEGORIES:Food Trucks
ATTACH;FMTTYPE=image/png:https://oakcitybrewingcompany.com/wp-content/uploads/2024/01/Screenshot-2024-01-23-at-12.46.23-PM.png
END:VEVENT
BEGIN:VEVENT
DTSTART;VALUE=DATE:20240423
DTEND;VALUE=DATE:20240424
DTSTAMP:20260423T093657
CREATED:20240116T203427Z
LAST-MODIFIED:20240116T203427Z
UID:19616-1713830400-1713916799@oakcitybrewingcompany.com
SUMMARY:NO FOOD TRUCK - BYOF
DESCRIPTION:Unfortunately there is no food truck today\, please feel free to come enjoy a brew and bring your own food 🙂
URL:https://oakcitybrewingcompany.com/event/no-food-truck-byof-24-2024-04-23/
CATEGORIES:Food Trucks
END:VEVENT
END:VCALENDAR