BEGIN:VCALENDAR
VERSION:2.0
PRODID:-//Oak City Brewing Company - ECPv6.15.20//NONSGML v1.0//EN
CALSCALE:GREGORIAN
METHOD:PUBLISH
X-WR-CALNAME:Oak City Brewing Company
X-ORIGINAL-URL:https://oakcitybrewingcompany.com
X-WR-CALDESC:Events for Oak City Brewing Company
REFRESH-INTERVAL;VALUE=DURATION:PT1H
X-Robots-Tag:noindex
X-PUBLISHED-TTL:PT1H
BEGIN:VTIMEZONE
TZID:America/Halifax
BEGIN:DAYLIGHT
TZOFFSETFROM:-0400
TZOFFSETTO:-0300
TZNAME:ADT
DTSTART:20240310T060000
END:DAYLIGHT
BEGIN:STANDARD
TZOFFSETFROM:-0300
TZOFFSETTO:-0400
TZNAME:AST
DTSTART:20241103T050000
END:STANDARD
BEGIN:DAYLIGHT
TZOFFSETFROM:-0400
TZOFFSETTO:-0300
TZNAME:ADT
DTSTART:20250309T060000
END:DAYLIGHT
BEGIN:STANDARD
TZOFFSETFROM:-0300
TZOFFSETTO:-0400
TZNAME:AST
DTSTART:20251102T050000
END:STANDARD
BEGIN:DAYLIGHT
TZOFFSETFROM:-0400
TZOFFSETTO:-0300
TZNAME:ADT
DTSTART:20260308T060000
END:DAYLIGHT
BEGIN:STANDARD
TZOFFSETFROM:-0300
TZOFFSETTO:-0400
TZNAME:AST
DTSTART:20261101T050000
END:STANDARD
END:VTIMEZONE
BEGIN:VEVENT
DTSTART;TZID=America/Halifax:20250129T183000
DTEND;TZID=America/Halifax:20250129T193000
DTSTAMP:20260419T221021
CREATED:20230622T143255Z
LAST-MODIFIED:20230622T143255Z
UID:20395-1738175400-1738179000@oakcitybrewingcompany.com
SUMMARY:Beer Run
DESCRIPTION:Join us for a 1.5\, 3\, or 5 mile run or walk through downtown Knightdale\, Knightdale Station Park\, Mingo Creek Trail\, and other areas and landmarks that make our town special with our run club. \nLearn more here: https://oakcitybrewingcompany.com/run-club/ \nRun club meets up at 6:30 pm every Wednesday or 11:30 am every Saturday\, cheers!
URL:https://oakcitybrewingcompany.com/event/beer-run-2024-12-11-2025-01-29/
CATEGORIES:Brewery Events,Weekly Events
ATTACH;FMTTYPE=image/png:https://oakcitybrewingcompany.com/wp-content/uploads/2023/06/Screen-Shot-2023-06-22-at-10.25.57-AM.png
END:VEVENT
BEGIN:VEVENT
DTSTART;TZID=America/Halifax:20250128T170000
DTEND;TZID=America/Halifax:20250128T200000
DTSTAMP:20260419T221021
CREATED:20241227T164805Z
LAST-MODIFIED:20241227T164805Z
UID:20330-1738083600-1738094400@oakcitybrewingcompany.com
SUMMARY:Beef Street & Pig
DESCRIPTION:Delicious loaded nachos\, fries and comfort food.
URL:https://oakcitybrewingcompany.com/event/beef-street-pig/
CATEGORIES:Food Trucks
END:VEVENT
BEGIN:VEVENT
DTSTART;TZID=America/Halifax:20250128T150000
DTEND;TZID=America/Halifax:20250128T220000
DTSTAMP:20260419T221021
CREATED:20241227T170528Z
LAST-MODIFIED:20241227T170528Z
UID:20508-1738076400-1738101600@oakcitybrewingcompany.com
SUMMARY:Pint Night
DESCRIPTION:$1 off pints every Tuesday here at Oak City!
URL:https://oakcitybrewingcompany.com/event/pint-night-50-2025-01-28/
CATEGORIES:Brewery Events,Events
END:VEVENT
BEGIN:VEVENT
DTSTART;VALUE=DATE:20250127
DTEND;VALUE=DATE:20250128
DTSTAMP:20260419T221021
CREATED:20241227T170652Z
LAST-MODIFIED:20241227T170652Z
UID:20610-1737936000-1738022399@oakcitybrewingcompany.com
SUMMARY:No Food Truck - BYOF
DESCRIPTION:
URL:https://oakcitybrewingcompany.com/event/no-food-truck-byof-30-2025-01-27/
CATEGORIES:Food Trucks
END:VEVENT
BEGIN:VEVENT
DTSTART;TZID=America/Halifax:20250125T160000
DTEND;TZID=America/Halifax:20250125T210000
DTSTAMP:20260419T221021
CREATED:20241227T165213Z
LAST-MODIFIED:20241227T165213Z
UID:20366-1737820800-1737838800@oakcitybrewingcompany.com
SUMMARY:Bertos Chimis
DESCRIPTION:
URL:https://oakcitybrewingcompany.com/event/bertos-chimis-3/
CATEGORIES:Food Trucks
END:VEVENT
BEGIN:VEVENT
DTSTART;TZID=America/Halifax:20250125T113000
DTEND;TZID=America/Halifax:20250125T123000
DTSTAMP:20260419T221021
CREATED:20230622T143640Z
LAST-MODIFIED:20241227T170559Z
UID:20447-1737804600-1737808200@oakcitybrewingcompany.com
SUMMARY:Beer Run
DESCRIPTION:Join us for a 1.5\, 3\, or 5 mile run or walk through downtown Knightdale\, Knightdale Station Park\, Mingo Creek Trail\, and other areas and landmarks that make our town special with our run club. \nLearn more here: https://oakcitybrewingcompany.com/run-club/ \nRun club meets up at 6:30 pm every Wednesday or 11:30 am every Saturday\, cheers! \n 
URL:https://oakcitybrewingcompany.com/event/beer-run-2-2024-12-21-2025-01-25/
CATEGORIES:Brewery Events,Weekly Events
ATTACH;FMTTYPE=image/png:https://oakcitybrewingcompany.com/wp-content/uploads/2023/06/Screen-Shot-2023-06-22-at-10.25.57-AM.png
END:VEVENT
BEGIN:VEVENT
DTSTART;TZID=America/Halifax:20250124T173000
DTEND;TZID=America/Halifax:20250124T203000
DTSTAMP:20260419T221021
CREATED:20241227T164348Z
LAST-MODIFIED:20241227T164348Z
UID:20295-1737739800-1737750600@oakcitybrewingcompany.com
SUMMARY:Chick-N-Que
DESCRIPTION:The best chopped chicken bbq around!
URL:https://oakcitybrewingcompany.com/event/chick-n-que-52/
CATEGORIES:Food Trucks
END:VEVENT
BEGIN:VEVENT
DTSTART;TZID=America/Halifax:20250123T173000
DTEND;TZID=America/Halifax:20250123T203000
DTSTAMP:20260419T221021
CREATED:20241227T163957Z
LAST-MODIFIED:20241227T163957Z
UID:20283-1737653400-1737664200@oakcitybrewingcompany.com
SUMMARY:Mike Nice Empanadas
DESCRIPTION:A family-owned food truck passionate about sharing their love for delicious\, homemade empanadas with our community.
URL:https://oakcitybrewingcompany.com/event/mike-nice-empanadas/
CATEGORIES:Food Trucks
END:VEVENT
BEGIN:VEVENT
DTSTART;TZID=America/Halifax:20250122T183000
DTEND;TZID=America/Halifax:20250122T193000
DTSTAMP:20260419T221021
CREATED:20230622T143255Z
LAST-MODIFIED:20230622T143255Z
UID:20394-1737570600-1737574200@oakcitybrewingcompany.com
SUMMARY:Beer Run
DESCRIPTION:Join us for a 1.5\, 3\, or 5 mile run or walk through downtown Knightdale\, Knightdale Station Park\, Mingo Creek Trail\, and other areas and landmarks that make our town special with our run club. \nLearn more here: https://oakcitybrewingcompany.com/run-club/ \nRun club meets up at 6:30 pm every Wednesday or 11:30 am every Saturday\, cheers!
URL:https://oakcitybrewingcompany.com/event/beer-run-2024-12-11-2025-01-22/
CATEGORIES:Brewery Events,Weekly Events
ATTACH;FMTTYPE=image/png:https://oakcitybrewingcompany.com/wp-content/uploads/2023/06/Screen-Shot-2023-06-22-at-10.25.57-AM.png
END:VEVENT
BEGIN:VEVENT
DTSTART;TZID=America/Halifax:20250122T173000
DTEND;TZID=America/Halifax:20250122T203000
DTSTAMP:20260419T221021
CREATED:20241227T163127Z
LAST-MODIFIED:20250107T165225Z
UID:20231-1737567000-1737577800@oakcitybrewingcompany.com
SUMMARY:Bulkogi
DESCRIPTION:Authentic Korean BBQ with a yummy twist.
URL:https://oakcitybrewingcompany.com/event/bulkogi-13/
CATEGORIES:Food Trucks
ATTACH;FMTTYPE=image/png:https://oakcitybrewingcompany.com/wp-content/uploads/2024/12/Screenshot-2024-12-27-at-11.30.44-AM.png
END:VEVENT
BEGIN:VEVENT
DTSTART;TZID=America/Halifax:20250121T173000
DTEND;TZID=America/Halifax:20250121T203000
DTSTAMP:20260419T221021
CREATED:20241227T163354Z
LAST-MODIFIED:20241227T163354Z
UID:20246-1737480600-1737491400@oakcitybrewingcompany.com
SUMMARY:The Greek Goat
DESCRIPTION:Authentic Greek Street Food experience with all your favorites.
URL:https://oakcitybrewingcompany.com/event/the-greek-goat-2/
CATEGORIES:Food Trucks
END:VEVENT
BEGIN:VEVENT
DTSTART;TZID=America/Halifax:20250121T150000
DTEND;TZID=America/Halifax:20250121T220000
DTSTAMP:20260419T221021
CREATED:20241227T170528Z
LAST-MODIFIED:20241227T170528Z
UID:20507-1737471600-1737496800@oakcitybrewingcompany.com
SUMMARY:Pint Night
DESCRIPTION:$1 off pints every Tuesday here at Oak City!
URL:https://oakcitybrewingcompany.com/event/pint-night-50-2025-01-21/
CATEGORIES:Brewery Events,Events
END:VEVENT
BEGIN:VEVENT
DTSTART;VALUE=DATE:20250120
DTEND;VALUE=DATE:20250121
DTSTAMP:20260419T221021
CREATED:20241227T170652Z
LAST-MODIFIED:20241227T170652Z
UID:20609-1737331200-1737417599@oakcitybrewingcompany.com
SUMMARY:No Food Truck - BYOF
DESCRIPTION:
URL:https://oakcitybrewingcompany.com/event/no-food-truck-byof-30-2025-01-20/
CATEGORIES:Food Trucks
END:VEVENT
BEGIN:VEVENT
DTSTART;TZID=America/Halifax:20250119T140000
DTEND;TZID=America/Halifax:20250119T180000
DTSTAMP:20260419T221021
CREATED:20241227T165502Z
LAST-MODIFIED:20241227T165502Z
UID:20378-1737295200-1737309600@oakcitybrewingcompany.com
SUMMARY:Captains Gastro
DESCRIPTION:
URL:https://oakcitybrewingcompany.com/event/captains-gastro/
CATEGORIES:Food Trucks
END:VEVENT
BEGIN:VEVENT
DTSTART;TZID=America/Halifax:20250118T160000
DTEND;TZID=America/Halifax:20250118T210000
DTSTAMP:20260419T221021
CREATED:20241227T165123Z
LAST-MODIFIED:20241227T165123Z
UID:20354-1737216000-1737234000@oakcitybrewingcompany.com
SUMMARY:Dubz Grub
DESCRIPTION:
URL:https://oakcitybrewingcompany.com/event/dubz-grub-3/
CATEGORIES:Food Trucks
END:VEVENT
BEGIN:VEVENT
DTSTART;TZID=America/Halifax:20250118T120000
DTEND;TZID=America/Halifax:20250118T150000
DTSTAMP:20260419T221021
CREATED:20250107T165310Z
LAST-MODIFIED:20250107T165310Z
UID:20650-1737201600-1737212400@oakcitybrewingcompany.com
SUMMARY:Bulkogi
DESCRIPTION:
URL:https://oakcitybrewingcompany.com/event/bulkogi-14/
CATEGORIES:Food Trucks
ATTACH;FMTTYPE=image/png:https://oakcitybrewingcompany.com/wp-content/uploads/2024/12/Screenshot-2024-12-27-at-11.30.44-AM.png
END:VEVENT
BEGIN:VEVENT
DTSTART;TZID=America/Halifax:20250118T113000
DTEND;TZID=America/Halifax:20250118T143000
DTSTAMP:20260419T221021
CREATED:20230622T143640Z
LAST-MODIFIED:20250107T185637Z
UID:20446-1737199800-1737210600@oakcitybrewingcompany.com
SUMMARY:Run Club Anniversary Party
DESCRIPTION:Cheers to 9 Years to our runners! \n 
URL:https://oakcitybrewingcompany.com/event/beer-run-2-2024-12-21-2025-01-18/
CATEGORIES:Brewery Events,Weekly Events
ATTACH;FMTTYPE=image/png:https://oakcitybrewingcompany.com/wp-content/uploads/2023/06/Run-Club-Event-Covers-1-3.png
END:VEVENT
BEGIN:VEVENT
DTSTART;TZID=America/Halifax:20250117T173000
DTEND;TZID=America/Halifax:20250117T203000
DTSTAMP:20260419T221021
CREATED:20241227T164520Z
LAST-MODIFIED:20241227T164620Z
UID:20307-1737135000-1737145800@oakcitybrewingcompany.com
SUMMARY:The Naked Empanada
DESCRIPTION:Savory and sweet empanadas since 2015!
URL:https://oakcitybrewingcompany.com/event/the-naked-empanada-2/
CATEGORIES:Food Trucks
END:VEVENT
BEGIN:VEVENT
DTSTART;TZID=America/Halifax:20250116T173000
DTEND;TZID=America/Halifax:20250116T203000
DTSTAMP:20260419T221021
CREATED:20241227T163759Z
LAST-MODIFIED:20241227T163759Z
UID:20271-1737048600-1737059400@oakcitybrewingcompany.com
SUMMARY:Carolina's Catch
DESCRIPTION:Premier seafood food truck of the Triangle.
URL:https://oakcitybrewingcompany.com/event/carolinas-catch-3/
CATEGORIES:Food Trucks
END:VEVENT
BEGIN:VEVENT
DTSTART;TZID=America/Halifax:20250115T183000
DTEND;TZID=America/Halifax:20250115T193000
DTSTAMP:20260419T221021
CREATED:20230622T143255Z
LAST-MODIFIED:20230622T143255Z
UID:20393-1736965800-1736969400@oakcitybrewingcompany.com
SUMMARY:Beer Run
DESCRIPTION:Join us for a 1.5\, 3\, or 5 mile run or walk through downtown Knightdale\, Knightdale Station Park\, Mingo Creek Trail\, and other areas and landmarks that make our town special with our run club. \nLearn more here: https://oakcitybrewingcompany.com/run-club/ \nRun club meets up at 6:30 pm every Wednesday or 11:30 am every Saturday\, cheers!
URL:https://oakcitybrewingcompany.com/event/beer-run-2024-12-11-2025-01-15/
CATEGORIES:Brewery Events,Weekly Events
ATTACH;FMTTYPE=image/png:https://oakcitybrewingcompany.com/wp-content/uploads/2023/06/Screen-Shot-2023-06-22-at-10.25.57-AM.png
END:VEVENT
BEGIN:VEVENT
DTSTART;TZID=America/Halifax:20250115T173000
DTEND;TZID=America/Halifax:20250115T203000
DTSTAMP:20260419T221021
CREATED:20241227T162236Z
LAST-MODIFIED:20241227T162236Z
UID:20208-1736962200-1736973000@oakcitybrewingcompany.com
SUMMARY:Off the Hog
DESCRIPTION:Off the hog serves good old-fashioned traditionally smoked meats\, using a variety of hardwood and coals.
URL:https://oakcitybrewingcompany.com/event/off-the-hog-2/
CATEGORIES:Food Trucks
ATTACH;FMTTYPE=image/png:https://oakcitybrewingcompany.com/wp-content/uploads/2023/04/Screen-Shot-2023-04-11-at-10.38.53-AM.png
END:VEVENT
BEGIN:VEVENT
DTSTART;TZID=America/Halifax:20250114T150000
DTEND;TZID=America/Halifax:20250114T220000
DTSTAMP:20260419T221021
CREATED:20241227T170528Z
LAST-MODIFIED:20241227T170528Z
UID:20506-1736866800-1736892000@oakcitybrewingcompany.com
SUMMARY:Pint Night
DESCRIPTION:$1 off pints every Tuesday here at Oak City!
URL:https://oakcitybrewingcompany.com/event/pint-night-50-2025-01-14/
CATEGORIES:Brewery Events,Events
END:VEVENT
BEGIN:VEVENT
DTSTART;VALUE=DATE:20250113
DTEND;VALUE=DATE:20250114
DTSTAMP:20260419T221021
CREATED:20241227T170652Z
LAST-MODIFIED:20241227T170652Z
UID:20608-1736726400-1736812799@oakcitybrewingcompany.com
SUMMARY:No Food Truck - BYOF
DESCRIPTION:
URL:https://oakcitybrewingcompany.com/event/no-food-truck-byof-30-2025-01-13/
CATEGORIES:Food Trucks
END:VEVENT
BEGIN:VEVENT
DTSTART;TZID=America/Halifax:20250112T120000
DTEND;TZID=America/Halifax:20250112T180000
DTSTAMP:20260419T221021
CREATED:20250107T182459Z
LAST-MODIFIED:20250107T182459Z
UID:20653-1736683200-1736704800@oakcitybrewingcompany.com
SUMMARY:St. Vicent Spanish Cuisine
DESCRIPTION:Spanish food with traditional dishes like croquetas and seafood paella.
URL:https://oakcitybrewingcompany.com/event/st-vicent-spanish-cuisine-2/
CATEGORIES:Food Trucks
ATTACH;FMTTYPE=image/png:https://oakcitybrewingcompany.com/wp-content/uploads/2025/01/Screenshot-2025-01-07-at-1.23.47-PM.png
END:VEVENT
BEGIN:VEVENT
DTSTART;TZID=America/Halifax:20250111T160000
DTEND;TZID=America/Halifax:20250111T210000
DTSTAMP:20260419T221021
CREATED:20241227T164931Z
LAST-MODIFIED:20241227T164931Z
UID:20342-1736611200-1736629200@oakcitybrewingcompany.com
SUMMARY:Fired Up Pizza & BBQ
DESCRIPTION:Serving wood fired pizza and bbq.
URL:https://oakcitybrewingcompany.com/event/fired-up-pizza-bbq-3/
CATEGORIES:Food Trucks
END:VEVENT
BEGIN:VEVENT
DTSTART;TZID=America/Halifax:20250111T140000
DTEND;TZID=America/Halifax:20250111T180000
DTSTAMP:20260419T221021
CREATED:20250107T143549Z
LAST-MODIFIED:20250107T143549Z
UID:20618-1736604000-1736618400@oakcitybrewingcompany.com
SUMMARY:Blood Drive
DESCRIPTION:It’s in your blood to save lives ????\n.\nEvery drop counts\, come donate blood with @thebloodconnection & receive $40 in rewards!\n.\nSign up here: https://donate.thebloodconnection.org/donor/schedules/drive_schedule/225261
URL:https://oakcitybrewingcompany.com/event/blood-drive-10/
CATEGORIES:Events
END:VEVENT
BEGIN:VEVENT
DTSTART;TZID=America/Halifax:20250111T113000
DTEND;TZID=America/Halifax:20250111T123000
DTSTAMP:20260419T221021
CREATED:20230622T143640Z
LAST-MODIFIED:20241227T170559Z
UID:20445-1736595000-1736598600@oakcitybrewingcompany.com
SUMMARY:Beer Run
DESCRIPTION:Join us for a 1.5\, 3\, or 5 mile run or walk through downtown Knightdale\, Knightdale Station Park\, Mingo Creek Trail\, and other areas and landmarks that make our town special with our run club. \nLearn more here: https://oakcitybrewingcompany.com/run-club/ \nRun club meets up at 6:30 pm every Wednesday or 11:30 am every Saturday\, cheers! \n 
URL:https://oakcitybrewingcompany.com/event/beer-run-2-2024-12-21-2025-01-11/
CATEGORIES:Brewery Events,Weekly Events
ATTACH;FMTTYPE=image/png:https://oakcitybrewingcompany.com/wp-content/uploads/2023/06/Screen-Shot-2023-06-22-at-10.25.57-AM.png
END:VEVENT
BEGIN:VEVENT
DTSTART;VALUE=DATE:20250110
DTEND;VALUE=DATE:20250111
DTSTAMP:20260419T221021
CREATED:20250110T170617Z
LAST-MODIFIED:20250110T170617Z
UID:20681-1736467200-1736553599@oakcitybrewingcompany.com
SUMMARY:Closed Today Due To The Winter Weather Advisory!
DESCRIPTION:ATTN: We are closed today due to the winter weather advisory!\n.\nStay warm and we’ll see you soon\, cheers!
URL:https://oakcitybrewingcompany.com/event/closed-today-due-to-the-winter-weather-advisory/
CATEGORIES:Brewery Events
END:VEVENT
BEGIN:VEVENT
DTSTART;TZID=America/Halifax:20250109T173000
DTEND;TZID=America/Halifax:20250109T203000
DTSTAMP:20260419T221021
CREATED:20241227T161236Z
LAST-MODIFIED:20241227T161541Z
UID:20170-1736443800-1736454600@oakcitybrewingcompany.com
SUMMARY:Not Just A Fry Guy
DESCRIPTION:Gourmet\, Loaded\, Fresh Cut Fries. Homemade sauces made w/ fresh ingredients! The whole truck is Gluten Free!
URL:https://oakcitybrewingcompany.com/event/not-just-a-fry-guy-2/
CATEGORIES:Food Trucks
ATTACH;FMTTYPE=image/png:https://oakcitybrewingcompany.com/wp-content/uploads/2024/12/Screenshot-2024-12-27-at-11.14.31-AM.png
END:VEVENT
BEGIN:VEVENT
DTSTART;TZID=America/Halifax:20250108T183000
DTEND;TZID=America/Halifax:20250108T193000
DTSTAMP:20260419T221021
CREATED:20230622T143255Z
LAST-MODIFIED:20241227T165807Z
UID:18723-1736361000-1736364600@oakcitybrewingcompany.com
SUMMARY:Beer Run
DESCRIPTION:Join us for a 1.5\, 3\, or 5 mile run or walk through downtown Knightdale\, Knightdale Station Park\, Mingo Creek Trail\, and other areas and landmarks that make our town special with our run club. \nLearn more here: https://oakcitybrewingcompany.com/run-club/ \nRun club meets up at 6:30 pm every Wednesday or 11:30 am every Saturday\, cheers!
URL:https://oakcitybrewingcompany.com/event/beer-run-2024-12-11/
CATEGORIES:Brewery Events,Weekly Events
ATTACH;FMTTYPE=image/png:https://oakcitybrewingcompany.com/wp-content/uploads/2023/06/Screen-Shot-2023-06-22-at-10.25.57-AM.png
END:VEVENT
END:VCALENDAR