BEGIN:VCALENDAR
VERSION:2.0
PRODID:-//Oak City Brewing Company - ECPv6.15.20//NONSGML v1.0//EN
CALSCALE:GREGORIAN
METHOD:PUBLISH
X-WR-CALNAME:Oak City Brewing Company
X-ORIGINAL-URL:https://oakcitybrewingcompany.com
X-WR-CALDESC:Events for Oak City Brewing Company
REFRESH-INTERVAL;VALUE=DURATION:PT1H
X-Robots-Tag:noindex
X-PUBLISHED-TTL:PT1H
BEGIN:VTIMEZONE
TZID:America/Halifax
BEGIN:DAYLIGHT
TZOFFSETFROM:-0400
TZOFFSETTO:-0300
TZNAME:ADT
DTSTART:20240310T060000
END:DAYLIGHT
BEGIN:STANDARD
TZOFFSETFROM:-0300
TZOFFSETTO:-0400
TZNAME:AST
DTSTART:20241103T050000
END:STANDARD
BEGIN:DAYLIGHT
TZOFFSETFROM:-0400
TZOFFSETTO:-0300
TZNAME:ADT
DTSTART:20250309T060000
END:DAYLIGHT
BEGIN:STANDARD
TZOFFSETFROM:-0300
TZOFFSETTO:-0400
TZNAME:AST
DTSTART:20251102T050000
END:STANDARD
BEGIN:DAYLIGHT
TZOFFSETFROM:-0400
TZOFFSETTO:-0300
TZNAME:ADT
DTSTART:20260308T060000
END:DAYLIGHT
BEGIN:STANDARD
TZOFFSETFROM:-0300
TZOFFSETTO:-0400
TZNAME:AST
DTSTART:20261101T050000
END:STANDARD
END:VTIMEZONE
BEGIN:VEVENT
DTSTART;TZID=America/Halifax:20250423T173000
DTEND;TZID=America/Halifax:20250423T203000
DTSTAMP:20260419T192423
CREATED:20241227T163127Z
LAST-MODIFIED:20241227T163127Z
UID:20642-1745429400-1745440200@oakcitybrewingcompany.com
SUMMARY:Bulkogi
DESCRIPTION:Authentic Korean BBQ with a yummy twist.
URL:https://oakcitybrewingcompany.com/event/bulkogi-13-2025-04-23/
CATEGORIES:Food Trucks
ATTACH;FMTTYPE=image/png:https://oakcitybrewingcompany.com/wp-content/uploads/2024/12/Screenshot-2024-12-27-at-11.30.44-AM.png
END:VEVENT
BEGIN:VEVENT
DTSTART;TZID=America/Halifax:20250423T183000
DTEND;TZID=America/Halifax:20250423T193000
DTSTAMP:20260419T192423
CREATED:20230622T143255Z
LAST-MODIFIED:20230622T143255Z
UID:20407-1745433000-1745436600@oakcitybrewingcompany.com
SUMMARY:Beer Run
DESCRIPTION:Join us for a 1.5\, 3\, or 5 mile run or walk through downtown Knightdale\, Knightdale Station Park\, Mingo Creek Trail\, and other areas and landmarks that make our town special with our run club. \nLearn more here: https://oakcitybrewingcompany.com/run-club/ \nRun club meets up at 6:30 pm every Wednesday or 11:30 am every Saturday\, cheers!
URL:https://oakcitybrewingcompany.com/event/beer-run-2024-12-11-2025-04-23/
CATEGORIES:Brewery Events,Weekly Events
ATTACH;FMTTYPE=image/png:https://oakcitybrewingcompany.com/wp-content/uploads/2023/06/Screen-Shot-2023-06-22-at-10.25.57-AM.png
END:VEVENT
BEGIN:VEVENT
DTSTART;TZID=America/Halifax:20250424T173000
DTEND;TZID=America/Halifax:20250424T203000
DTSTAMP:20260419T192423
CREATED:20241227T163957Z
LAST-MODIFIED:20241227T163957Z
UID:20286-1745515800-1745526600@oakcitybrewingcompany.com
SUMMARY:Mike Nice Empanadas
DESCRIPTION:A family-owned food truck passionate about sharing their love for delicious\, homemade empanadas with our community.
URL:https://oakcitybrewingcompany.com/event/mike-nice-empanadas-2025-04-24/
CATEGORIES:Food Trucks
END:VEVENT
BEGIN:VEVENT
DTSTART;TZID=America/Halifax:20250425T173000
DTEND;TZID=America/Halifax:20250425T203000
DTSTAMP:20260419T192423
CREATED:20241227T164348Z
LAST-MODIFIED:20241227T164348Z
UID:20298-1745602200-1745613000@oakcitybrewingcompany.com
SUMMARY:Chick-N-Que
DESCRIPTION:The best chopped chicken bbq around!
URL:https://oakcitybrewingcompany.com/event/chick-n-que-52-2025-04-25/
CATEGORIES:Food Trucks
END:VEVENT
BEGIN:VEVENT
DTSTART;TZID=America/Halifax:20250426T113000
DTEND;TZID=America/Halifax:20250426T123000
DTSTAMP:20260419T192423
CREATED:20230622T143640Z
LAST-MODIFIED:20241227T170600Z
UID:20460-1745667000-1745670600@oakcitybrewingcompany.com
SUMMARY:Beer Run
DESCRIPTION:Join us for a 1.5\, 3\, or 5 mile run or walk through downtown Knightdale\, Knightdale Station Park\, Mingo Creek Trail\, and other areas and landmarks that make our town special with our run club. \nLearn more here: https://oakcitybrewingcompany.com/run-club/ \nRun club meets up at 6:30 pm every Wednesday or 11:30 am every Saturday\, cheers! \n 
URL:https://oakcitybrewingcompany.com/event/beer-run-2-2024-12-21-2025-04-26/
CATEGORIES:Brewery Events,Weekly Events
ATTACH;FMTTYPE=image/png:https://oakcitybrewingcompany.com/wp-content/uploads/2023/06/Screen-Shot-2023-06-22-at-10.25.57-AM.png
END:VEVENT
BEGIN:VEVENT
DTSTART;TZID=America/Halifax:20250426T160000
DTEND;TZID=America/Halifax:20250426T210000
DTSTAMP:20260419T192423
CREATED:20241227T165213Z
LAST-MODIFIED:20241227T165213Z
UID:20369-1745683200-1745701200@oakcitybrewingcompany.com
SUMMARY:Bertos Chimis
DESCRIPTION:
URL:https://oakcitybrewingcompany.com/event/bertos-chimis-3-2025-04-26/
CATEGORIES:Food Trucks
END:VEVENT
BEGIN:VEVENT
DTSTART;TZID=America/Halifax:20250427T140000
DTEND;TZID=America/Halifax:20250427T180000
DTSTAMP:20260419T192423
CREATED:20250313T155522Z
LAST-MODIFIED:20250313T155522Z
UID:20737-1745762400-1745776800@oakcitybrewingcompany.com
SUMMARY:Warehouse BBQ
DESCRIPTION:
URL:https://oakcitybrewingcompany.com/event/warehouse-bbq-2/
CATEGORIES:Food Trucks
END:VEVENT
BEGIN:VEVENT
DTSTART;TZID=America/Halifax:20250429T150000
DTEND;TZID=America/Halifax:20250429T220000
DTSTAMP:20260419T192423
CREATED:20241227T170528Z
LAST-MODIFIED:20241227T170528Z
UID:20521-1745938800-1745964000@oakcitybrewingcompany.com
SUMMARY:Pint Night
DESCRIPTION:$1 off pints every Tuesday here at Oak City!
URL:https://oakcitybrewingcompany.com/event/pint-night-50-2025-04-29/
CATEGORIES:Brewery Events,Events
END:VEVENT
BEGIN:VEVENT
DTSTART;TZID=America/Halifax:20250430T183000
DTEND;TZID=America/Halifax:20250430T193000
DTSTAMP:20260419T192423
CREATED:20230622T143255Z
LAST-MODIFIED:20230622T143255Z
UID:20408-1746037800-1746041400@oakcitybrewingcompany.com
SUMMARY:Beer Run
DESCRIPTION:Join us for a 1.5\, 3\, or 5 mile run or walk through downtown Knightdale\, Knightdale Station Park\, Mingo Creek Trail\, and other areas and landmarks that make our town special with our run club. \nLearn more here: https://oakcitybrewingcompany.com/run-club/ \nRun club meets up at 6:30 pm every Wednesday or 11:30 am every Saturday\, cheers!
URL:https://oakcitybrewingcompany.com/event/beer-run-2024-12-11-2025-04-30/
CATEGORIES:Brewery Events,Weekly Events
ATTACH;FMTTYPE=image/png:https://oakcitybrewingcompany.com/wp-content/uploads/2023/06/Screen-Shot-2023-06-22-at-10.25.57-AM.png
END:VEVENT
BEGIN:VEVENT
DTSTART;TZID=America/Halifax:20250501T173000
DTEND;TZID=America/Halifax:20250501T203000
DTSTAMP:20260419T192423
CREATED:20241227T155130Z
LAST-MODIFIED:20241227T155130Z
UID:20098-1746120600-1746131400@oakcitybrewingcompany.com
SUMMARY:La Katrina Tacos
DESCRIPTION:Mexican street food.
URL:https://oakcitybrewingcompany.com/event/la-katrina-tacos-2025-05-01/
CATEGORIES:Food Trucks
ATTACH;FMTTYPE=image/png:https://oakcitybrewingcompany.com/wp-content/uploads/2024/12/Screenshot-2024-12-27-at-10.50.09-AM.png
END:VEVENT
BEGIN:VEVENT
DTSTART;TZID=America/Halifax:20250501T183000
DTEND;TZID=America/Halifax:20250501T193000
DTSTAMP:20260419T192423
CREATED:20250418T155110Z
LAST-MODIFIED:20250418T155110Z
UID:20788-1746124200-1746127800@oakcitybrewingcompany.com
SUMMARY:Brews & Barbells Workout Class
DESCRIPTION:Mobile gym HIIT workout by trainer Brett Lundeen. \n\n  \n\nJoin us for a workout & a post-workout brew: \nhttps://www.eventeny.com/events/brews-barbells-may-1st-20105
URL:https://oakcitybrewingcompany.com/event/brews-barbells-workout-class/
CATEGORIES:Brewery Events,Events,Weekly Events
ATTACH;FMTTYPE=image/png:https://oakcitybrewingcompany.com/wp-content/uploads/2025/04/BREWS-BARBELLS.png
END:VEVENT
BEGIN:VEVENT
DTSTART;TZID=America/Halifax:20250502T173000
DTEND;TZID=America/Halifax:20250502T203000
DTSTAMP:20260419T192423
CREATED:20241227T155550Z
LAST-MODIFIED:20250402T180350Z
UID:20117-1746207000-1746217800@oakcitybrewingcompany.com
SUMMARY:Barone Italian Grille\, Creamed & Poblanos Tacos
DESCRIPTION:
URL:https://oakcitybrewingcompany.com/event/the-flat-drum-4-2025-05-02/
CATEGORIES:Food Trucks
END:VEVENT
BEGIN:VEVENT
DTSTART;TZID=America/Halifax:20250502T173000
DTEND;TZID=America/Halifax:20250502T203000
DTSTAMP:20260419T192423
CREATED:20250402T180321Z
LAST-MODIFIED:20250402T180321Z
UID:20775-1746207000-1746217800@oakcitybrewingcompany.com
SUMMARY:May First Friday
DESCRIPTION:Join us on Friday\, May 2nd\, from 5:30-8:30 PM to shop with local vendors\, vibe to live music\, and enjoy tasty eats from your favorite food trucks! \nWhether you’re here for the brews\, the beats\, or the shopping\, First Friday is the place to be! Grab your crew\, sip something delicious! \nMusic: Taylor Sheiss \nFood Trucks: Barone Italian Grille\, Creamed & Poblanos Tacos \nApril First Friday: Millie and Margot CandleRemedy Cocktail CompanyDesigns by DonnaCovered Bridge WorkshopStafford StyleMary Jordan CeramicsBinky and BellPet Wants East RaleighKelsey O’Brien DesignsAKline DesignsSweet Nothings Bakery and CafeHemp GenerationNeva Scanlon DesignKybele Handmade LLCLoving Leo Baby BoutiqueDees Burnt TreesBottom of the Fox Farm
URL:https://oakcitybrewingcompany.com/event/may-first-friday/
CATEGORIES:Brewery Events,Events,Weekly Events
ATTACH;FMTTYPE=image/png:https://oakcitybrewingcompany.com/wp-content/uploads/2025/04/May-First-Friday-Market.png
END:VEVENT
BEGIN:VEVENT
DTSTART;TZID=America/Halifax:20250503T113000
DTEND;TZID=America/Halifax:20250503T123000
DTSTAMP:20260419T192423
CREATED:20230622T143640Z
LAST-MODIFIED:20241227T170600Z
UID:20461-1746271800-1746275400@oakcitybrewingcompany.com
SUMMARY:Beer Run
DESCRIPTION:Join us for a 1.5\, 3\, or 5 mile run or walk through downtown Knightdale\, Knightdale Station Park\, Mingo Creek Trail\, and other areas and landmarks that make our town special with our run club. \nLearn more here: https://oakcitybrewingcompany.com/run-club/ \nRun club meets up at 6:30 pm every Wednesday or 11:30 am every Saturday\, cheers! \n 
URL:https://oakcitybrewingcompany.com/event/beer-run-2-2024-12-21-2025-05-03/
CATEGORIES:Brewery Events,Weekly Events
ATTACH;FMTTYPE=image/png:https://oakcitybrewingcompany.com/wp-content/uploads/2023/06/Screen-Shot-2023-06-22-at-10.25.57-AM.png
END:VEVENT
BEGIN:VEVENT
DTSTART;TZID=America/Halifax:20250503T120000
DTEND;TZID=America/Halifax:20250503T150000
DTSTAMP:20260419T192423
CREATED:20250428T154804Z
LAST-MODIFIED:20250428T154804Z
UID:20798-1746273600-1746284400@oakcitybrewingcompany.com
SUMMARY:Big B’s Southern Kitchen
DESCRIPTION:
URL:https://oakcitybrewingcompany.com/event/big-bs-southern-kitchen-3/
CATEGORIES:Food Trucks
END:VEVENT
BEGIN:VEVENT
DTSTART;TZID=America/Halifax:20250503T160000
DTEND;TZID=America/Halifax:20250503T210000
DTSTAMP:20260419T192423
CREATED:20250428T154834Z
LAST-MODIFIED:20250428T154834Z
UID:20800-1746288000-1746306000@oakcitybrewingcompany.com
SUMMARY:Tombachi
DESCRIPTION:
URL:https://oakcitybrewingcompany.com/event/tombachi-3/
CATEGORIES:Food Trucks
END:VEVENT
BEGIN:VEVENT
DTSTART;TZID=America/Halifax:20250504T140000
DTEND;TZID=America/Halifax:20250504T180000
DTSTAMP:20260419T192423
CREATED:20250428T154909Z
LAST-MODIFIED:20250428T154909Z
UID:20802-1746367200-1746381600@oakcitybrewingcompany.com
SUMMARY:Oink and Moo by Two Brothers
DESCRIPTION:
URL:https://oakcitybrewingcompany.com/event/oink-and-moo-by-two-brothers-3/
CATEGORIES:Food Trucks
END:VEVENT
BEGIN:VEVENT
DTSTART;VALUE=DATE:20250505
DTEND;VALUE=DATE:20250506
DTSTAMP:20260419T192423
CREATED:20250428T155028Z
LAST-MODIFIED:20250428T155028Z
UID:20804-1746403200-1746489599@oakcitybrewingcompany.com
SUMMARY:No Food Truck - BYOF
DESCRIPTION:
URL:https://oakcitybrewingcompany.com/event/no-food-truck-byof-36/
CATEGORIES:Food Trucks
END:VEVENT
BEGIN:VEVENT
DTSTART;TZID=America/Halifax:20250506T150000
DTEND;TZID=America/Halifax:20250506T220000
DTSTAMP:20260419T192423
CREATED:20241227T170528Z
LAST-MODIFIED:20241227T170528Z
UID:20522-1746543600-1746568800@oakcitybrewingcompany.com
SUMMARY:Pint Night
DESCRIPTION:$1 off pints every Tuesday here at Oak City!
URL:https://oakcitybrewingcompany.com/event/pint-night-50-2025-05-06/
CATEGORIES:Brewery Events,Events
END:VEVENT
BEGIN:VEVENT
DTSTART;TZID=America/Halifax:20250506T170000
DTEND;TZID=America/Halifax:20250506T200000
DTSTAMP:20260419T192423
CREATED:20241227T155905Z
LAST-MODIFIED:20241227T155905Z
UID:20151-1746550800-1746561600@oakcitybrewingcompany.com
SUMMARY:Copperhead's Craft Burgers
DESCRIPTION:Serving up uniquely crafted burgers!
URL:https://oakcitybrewingcompany.com/event/copperheads-craft-burgers-2-2025-05-06/
CATEGORIES:Food Trucks
ATTACH;FMTTYPE=image/png:https://oakcitybrewingcompany.com/wp-content/uploads/2024/12/Screenshot-2024-12-27-at-10.57.34-AM.png
END:VEVENT
BEGIN:VEVENT
DTSTART;TZID=America/Halifax:20250507T173000
DTEND;TZID=America/Halifax:20250507T203000
DTSTAMP:20260419T192423
CREATED:20241227T163523Z
LAST-MODIFIED:20241227T163523Z
UID:20261-1746639000-1746649800@oakcitybrewingcompany.com
SUMMARY:Chirba Chirba Dumpling
DESCRIPTION:Serving mouth-watering\, Chinese style dumplings & pan Asian fare
URL:https://oakcitybrewingcompany.com/event/chirba-chirba-dumpling-49-2025-05-07/
CATEGORIES:Food Trucks
END:VEVENT
BEGIN:VEVENT
DTSTART;TZID=America/Halifax:20250507T183000
DTEND;TZID=America/Halifax:20250507T193000
DTSTAMP:20260419T192423
CREATED:20230622T143255Z
LAST-MODIFIED:20230622T143255Z
UID:20409-1746642600-1746646200@oakcitybrewingcompany.com
SUMMARY:Beer Run
DESCRIPTION:Join us for a 1.5\, 3\, or 5 mile run or walk through downtown Knightdale\, Knightdale Station Park\, Mingo Creek Trail\, and other areas and landmarks that make our town special with our run club. \nLearn more here: https://oakcitybrewingcompany.com/run-club/ \nRun club meets up at 6:30 pm every Wednesday or 11:30 am every Saturday\, cheers!
URL:https://oakcitybrewingcompany.com/event/beer-run-2024-12-11-2025-05-07/
CATEGORIES:Brewery Events,Weekly Events
ATTACH;FMTTYPE=image/png:https://oakcitybrewingcompany.com/wp-content/uploads/2023/06/Screen-Shot-2023-06-22-at-10.25.57-AM.png
END:VEVENT
BEGIN:VEVENT
DTSTART;TZID=America/Halifax:20250508T173000
DTEND;TZID=America/Halifax:20250508T203000
DTSTAMP:20260419T192423
CREATED:20241227T161236Z
LAST-MODIFIED:20241227T161236Z
UID:20186-1746725400-1746736200@oakcitybrewingcompany.com
SUMMARY:Not Just A Fry Guy
DESCRIPTION:Gourmet\, Loaded\, Fresh Cut Fries. Homemade sauces made w/ fresh ingredients! The whole truck is Gluten Free!
URL:https://oakcitybrewingcompany.com/event/not-just-a-fry-guy-2-2025-05-08/
CATEGORIES:Food Trucks
ATTACH;FMTTYPE=image/png:https://oakcitybrewingcompany.com/wp-content/uploads/2024/12/Screenshot-2024-12-27-at-11.14.31-AM.png
END:VEVENT
BEGIN:VEVENT
DTSTART;TZID=America/Halifax:20250509T173000
DTEND;TZID=America/Halifax:20250509T203000
DTSTAMP:20260419T192423
CREATED:20241227T161911Z
LAST-MODIFIED:20241227T161911Z
UID:20198-1746811800-1746822600@oakcitybrewingcompany.com
SUMMARY:Caribbean Kicker
DESCRIPTION:Bold flavors meet soulful cooking\, bringing the vibrant taste of the Caribbean to every plate.
URL:https://oakcitybrewingcompany.com/event/caribbean-kicker-4-2025-05-09/
CATEGORIES:Food Trucks
ATTACH;FMTTYPE=image/jpeg:https://oakcitybrewingcompany.com/wp-content/uploads/2022/08/279096638_2125417890949808_6612292007969708448_n.jpg
END:VEVENT
BEGIN:VEVENT
DTSTART;TZID=America/Halifax:20250510T110000
DTEND;TZID=America/Halifax:20250510T120000
DTSTAMP:20260419T192423
CREATED:20250428T154641Z
LAST-MODIFIED:20250428T154641Z
UID:20794-1746874800-1746878400@oakcitybrewingcompany.com
SUMMARY:Yoga on the Lawn
DESCRIPTION:Calling all Oak City yogis! \nJoin us for an all-levels Vinyasa Flow sequence on Saturday\, May 10th\, from 11 AM to 12 PM. Breathe\, stretch\, and reenergize\, and then stay for some social time. \n$10/class. All skill levels are welcome!\nSign up here: https://bit.ly/4jN6kas \nEmail info@ariseathleticsnc.com with any further questions.
URL:https://oakcitybrewingcompany.com/event/yoga-on-the-lawn-10/
CATEGORIES:Events
ATTACH;FMTTYPE=image/png:https://oakcitybrewingcompany.com/wp-content/uploads/2025/04/Yoga.png
END:VEVENT
BEGIN:VEVENT
DTSTART;TZID=America/Halifax:20250510T113000
DTEND;TZID=America/Halifax:20250510T123000
DTSTAMP:20260419T192423
CREATED:20230622T143640Z
LAST-MODIFIED:20241227T170600Z
UID:20462-1746876600-1746880200@oakcitybrewingcompany.com
SUMMARY:Beer Run
DESCRIPTION:Join us for a 1.5\, 3\, or 5 mile run or walk through downtown Knightdale\, Knightdale Station Park\, Mingo Creek Trail\, and other areas and landmarks that make our town special with our run club. \nLearn more here: https://oakcitybrewingcompany.com/run-club/ \nRun club meets up at 6:30 pm every Wednesday or 11:30 am every Saturday\, cheers! \n 
URL:https://oakcitybrewingcompany.com/event/beer-run-2-2024-12-21-2025-05-10/
CATEGORIES:Brewery Events,Weekly Events
ATTACH;FMTTYPE=image/png:https://oakcitybrewingcompany.com/wp-content/uploads/2023/06/Screen-Shot-2023-06-22-at-10.25.57-AM.png
END:VEVENT
BEGIN:VEVENT
DTSTART;TZID=America/Halifax:20250510T160000
DTEND;TZID=America/Halifax:20250510T210000
DTSTAMP:20260419T192423
CREATED:20241227T164931Z
LAST-MODIFIED:20241227T164931Z
UID:20346-1746892800-1746910800@oakcitybrewingcompany.com
SUMMARY:Fired Up Pizza & BBQ
DESCRIPTION:Serving wood fired pizza and bbq.
URL:https://oakcitybrewingcompany.com/event/fired-up-pizza-bbq-3-2025-05-10/
CATEGORIES:Food Trucks
END:VEVENT
BEGIN:VEVENT
DTSTART;TZID=America/Halifax:20250511T110000
DTEND;TZID=America/Halifax:20250511T140000
DTSTAMP:20260419T192423
CREATED:20250213T183021Z
LAST-MODIFIED:20250213T183021Z
UID:20704-1746961200-1746972000@oakcitybrewingcompany.com
SUMMARY:Farmers Market - Mother's Day Edition
DESCRIPTION:Fresh vibes\, local finds!\n.\nJoin us for our Mother’s Day Farmers Market on Sunday\, May 11th at Oak City Brewing from 11 AM – 2 PM!\n.\nSip\, shop\, and support local farms and businesses—because fresh produce pairs perfectly with fresh beer. \nVendors TBA
URL:https://oakcitybrewingcompany.com/event/farmers-market-mothers-day-edition/
CATEGORIES:Brewery Events,Events,Weekly Events
ATTACH;FMTTYPE=image/png:https://oakcitybrewingcompany.com/wp-content/uploads/2025/02/Farmers-Market-Flyer.png
END:VEVENT
BEGIN:VEVENT
DTSTART;TZID=America/Halifax:20250511T120000
DTEND;TZID=America/Halifax:20250511T180000
DTSTAMP:20260419T192423
CREATED:20250107T182459Z
LAST-MODIFIED:20250107T182459Z
UID:20658-1746964800-1746986400@oakcitybrewingcompany.com
SUMMARY:St. Vicent Spanish Cuisine
DESCRIPTION:Spanish food with traditional dishes like croquetas and seafood paella.
URL:https://oakcitybrewingcompany.com/event/st-vicent-spanish-cuisine-2-2025-05-11/
CATEGORIES:Food Trucks
ATTACH;FMTTYPE=image/png:https://oakcitybrewingcompany.com/wp-content/uploads/2025/01/Screenshot-2025-01-07-at-1.23.47-PM.png
END:VEVENT
BEGIN:VEVENT
DTSTART;VALUE=DATE:20250512
DTEND;VALUE=DATE:20250513
DTSTAMP:20260419T192423
CREATED:20250428T155057Z
LAST-MODIFIED:20250428T155057Z
UID:20806-1747008000-1747094399@oakcitybrewingcompany.com
SUMMARY:No Food Truck - BYOF
DESCRIPTION:
URL:https://oakcitybrewingcompany.com/event/no-food-truck-byof-37/
CATEGORIES:Food Trucks
END:VEVENT
END:VCALENDAR