BEGIN:VCALENDAR
VERSION:2.0
PRODID:-//Oak City Brewing Company - ECPv6.15.20//NONSGML v1.0//EN
CALSCALE:GREGORIAN
METHOD:PUBLISH
X-WR-CALNAME:Oak City Brewing Company
X-ORIGINAL-URL:https://oakcitybrewingcompany.com
X-WR-CALDESC:Events for Oak City Brewing Company
REFRESH-INTERVAL;VALUE=DURATION:PT1H
X-Robots-Tag:noindex
X-PUBLISHED-TTL:PT1H
BEGIN:VTIMEZONE
TZID:America/Halifax
BEGIN:DAYLIGHT
TZOFFSETFROM:-0400
TZOFFSETTO:-0300
TZNAME:ADT
DTSTART:20230312T060000
END:DAYLIGHT
BEGIN:STANDARD
TZOFFSETFROM:-0300
TZOFFSETTO:-0400
TZNAME:AST
DTSTART:20231105T050000
END:STANDARD
BEGIN:DAYLIGHT
TZOFFSETFROM:-0400
TZOFFSETTO:-0300
TZNAME:ADT
DTSTART:20240310T060000
END:DAYLIGHT
BEGIN:STANDARD
TZOFFSETFROM:-0300
TZOFFSETTO:-0400
TZNAME:AST
DTSTART:20241103T050000
END:STANDARD
BEGIN:DAYLIGHT
TZOFFSETFROM:-0400
TZOFFSETTO:-0300
TZNAME:ADT
DTSTART:20250309T060000
END:DAYLIGHT
BEGIN:STANDARD
TZOFFSETFROM:-0300
TZOFFSETTO:-0400
TZNAME:AST
DTSTART:20251102T050000
END:STANDARD
END:VTIMEZONE
BEGIN:VEVENT
DTSTART;TZID=America/Halifax:20240422T180000
DTEND;TZID=America/Halifax:20240422T200000
DTSTAMP:20260423T133201
CREATED:20240403T194548Z
LAST-MODIFIED:20240403T194548Z
UID:19529-1713808800-1713816000@oakcitybrewingcompany.com
SUMMARY:Paint Your Pet Workshop
DESCRIPTION:Sip\, Paint\, Wag: Celebrating Earth Day with Your Furry Friend!\n.\nJoin us Monday\, April 22nd for a Paint Your Pet Workshop with Hammer & Stain! From Dogs to Cats to Chickens to Horses\, our pets are a HUGE part of our homes and lives so celebrate them by creating a portrait that shows off their unique personalities!\n.\nLimited spots available\, grab yours here: https://hammerandstaincarolina.com/products/04-22-24-paint-your-pet-workshop-at-oak-city-brewing-co \nPLEASE READ:\nOnce you sign up for the event please email your pet’s photo and name to info@hammerandstaincarolina.com.\nOnce you send your pet’s photo there cannot be any changes because of how highly customizable this project is. Keep in mind this is an artist rendering so it will not be a perfect match but will still be a great portrayal of your pet!!
URL:https://oakcitybrewingcompany.com/event/paint-your-pet-workshop/
CATEGORIES:Brewery Events,Events,Weekly Events
ATTACH;FMTTYPE=image/png:https://oakcitybrewingcompany.com/wp-content/uploads/2024/04/Hammer-Stain-Class.png
END:VEVENT
BEGIN:VEVENT
DTSTART;TZID=America/Halifax:20240422T170000
DTEND;TZID=America/Halifax:20240422T200000
DTSTAMP:20260423T133201
CREATED:20240411T140406Z
LAST-MODIFIED:20240523T165500Z
UID:19550-1713805200-1713816000@oakcitybrewingcompany.com
SUMMARY:Copperheads Craft Burgers
DESCRIPTION:Uniquely crafted burgers!
URL:https://oakcitybrewingcompany.com/event/copperheads-craft-burgers/
CATEGORIES:Food Trucks
ATTACH;FMTTYPE=image/png:https://oakcitybrewingcompany.com/wp-content/uploads/2024/04/Screenshot-2024-04-11-at-10.01.30-AM.png
END:VEVENT
BEGIN:VEVENT
DTSTART;TZID=America/Halifax:20240421T140000
DTEND;TZID=America/Halifax:20240421T180000
DTSTAMP:20260423T133201
CREATED:20220911T152736Z
LAST-MODIFIED:20220911T152736Z
UID:19081-1713708000-1713722400@oakcitybrewingcompany.com
SUMMARY:Moonrunners
DESCRIPTION:
URL:https://oakcitybrewingcompany.com/event/moonrunners-8-2024-04-21/
CATEGORIES:Food Trucks
ATTACH;FMTTYPE=image/jpeg:https://oakcitybrewingcompany.com/wp-content/uploads/2022/09/289540378_1421580884982878_5619351370244390677_n.jpg
END:VEVENT
BEGIN:VEVENT
DTSTART;TZID=America/Halifax:20240420T160000
DTEND;TZID=America/Halifax:20240420T210000
DTSTAMP:20260423T133201
CREATED:20220816T150752Z
LAST-MODIFIED:20231231T150325Z
UID:19272-1713628800-1713646800@oakcitybrewingcompany.com
SUMMARY:Dubz Grub
DESCRIPTION:Dubz Grub is more than just a food truck\, it is a dream come true for Robert and Adrienne Wilkinson.  We have over 30 years of experience in the food industry and finally decided to take a risk and follow our passions. Our Mission is to be professional\, reliable and bring delicious\, quality homemade food to your business or catered events.
URL:https://oakcitybrewingcompany.com/event/dubz-grub-3-2023-02-18-2024-04-20/
CATEGORIES:Food Trucks
ATTACH;FMTTYPE=image/png:https://oakcitybrewingcompany.com/wp-content/uploads/2022/08/Snacken-01.png
END:VEVENT
BEGIN:VEVENT
DTSTART;TZID=America/Halifax:20240420T120000
DTEND;TZID=America/Halifax:20240420T150000
DTSTAMP:20260423T133201
CREATED:20220915T101018Z
LAST-MODIFIED:20220915T101018Z
UID:18926-1713614400-1713625200@oakcitybrewingcompany.com
SUMMARY:The Tasty Turkey-Que
DESCRIPTION:Chopped turkey barbecue.
URL:https://oakcitybrewingcompany.com/event/the-tasty-turkey-que-2024-04-20/
CATEGORIES:Food Trucks
ATTACH;FMTTYPE=image/jpeg:https://oakcitybrewingcompany.com/wp-content/uploads/2022/09/216927439_236514948306576_2229485138571803795_n.jpg
END:VEVENT
BEGIN:VEVENT
DTSTART;TZID=America/Halifax:20240420T120000
DTEND;TZID=America/Halifax:20240420T140000
DTSTAMP:20260423T133201
CREATED:20240403T194934Z
LAST-MODIFIED:20240501T145735Z
UID:19533-1713614400-1713621600@oakcitybrewingcompany.com
SUMMARY:Brews & Barbells
DESCRIPTION:Join us Saturday\, April 20th for an afternoon of weights and drinks with Brett and his mobile gym! Please be sure to bring a sweat towel (if you prefer) and a water bottle. \nThere will be 2 HIIT classes beginning at 12 PM and 1 PM. \nGrab your spot here: https://www.eventeny.com/events/brews-barbells-11460/ \nSee you all there!
URL:https://oakcitybrewingcompany.com/event/brews-barbells/
CATEGORIES:Brewery Events,Events,Weekly Events
ATTACH;FMTTYPE=image/png:https://oakcitybrewingcompany.com/wp-content/uploads/2024/04/Brews-barbells-.png
END:VEVENT
BEGIN:VEVENT
DTSTART;TZID=America/Halifax:20240420T113000
DTEND;TZID=America/Halifax:20240420T123000
DTSTAMP:20260423T133201
CREATED:20230622T143640Z
LAST-MODIFIED:20240403T194623Z
UID:18611-1713612600-1713616200@oakcitybrewingcompany.com
SUMMARY:Beer Run
DESCRIPTION:Join us for a 1.5\, 3\, or 5 mile run or walk through downtown Knightdale\, Knightdale Station Park\, Mingo Creek Trail\, and other areas and landmarks that make our town special with our run club. \nLearn more here: https://oakcitybrewingcompany.com/run-club/ \nRun club meets up at 6:30 pm every Wednesday or 11:30 am every Saturday\, cheers! \n 
URL:https://oakcitybrewingcompany.com/event/beer-run-2-2024-04-20/
CATEGORIES:Brewery Events,Weekly Events
ATTACH;FMTTYPE=image/png:https://oakcitybrewingcompany.com/wp-content/uploads/2023/06/Screen-Shot-2023-06-22-at-10.25.57-AM.png
END:VEVENT
BEGIN:VEVENT
DTSTART;TZID=America/Halifax:20240419T173000
DTEND;TZID=America/Halifax:20240419T203000
DTSTAMP:20260423T133201
CREATED:20220816T171952Z
LAST-MODIFIED:20220816T171952Z
UID:18938-1713547800-1713558600@oakcitybrewingcompany.com
SUMMARY:The Naked Empanada
DESCRIPTION:The Naked Empanada was the lifelong dream and now passion of Roy Thombs. Roy\, who is better known to friends and family as Fuzzy\, began his culinary journey at fifteen years old in Morganton\, NC. Never shying away from hard work and the opportunity to learn\, Roy worked his way from a dishwasher at Shoney’s to a degree from the prestigious Johnson & Wales University. It was during this time at Johnson & Wales that Roy interned at the highly acclaimed Grove Park Inn in Asheville\, NC. While interning at Grove Park Inn\, Roy’s passion for the culinary arts and a culture of service was truly sparked. From Johnson & Wales\, Roy went on to work for a number of corporate restaurant groups where he transitioned into operations management roles. Eventually\, he moved from operations to administration and served in corporate human resources for a large national chain restaurant\, where he spent fifteen years. \nIt wasn’t until 2013\, when a corporate realignment was pushing for a relocation\, potentially uprooting his family\, that Roy was fully able to rekindle the same ember that was sparked during his time at Johnson & Wales interning at Grove Park Inn. The choice was not easy to leave the comfort of a stable career to pursue the entrepreneurial dream which had been brewing for years\, but it also felt like an opportunity that could not be denied. Through extensive research\, trial and error\, feedback from friends and family\, Roy carefully hand-crafted the concept that launched in 2015 with his food truck offering fresh\, locally sourced and delicious handmade empanadas. It was clear from the start that a lifetime of focus in culinary arts\, customer service and operations had molded itself into a business that was an instant success. \nAs The Naked Empanada continues to grow and thrive\, we know that our success is driven by our customers. That is why we dedicate every day to ensuring that every empanada and every experience with our customers is cared for by each of our team members. This is a labor of love that is fueled by the smiles and enjoyment of every person who bites into the food that we prepare and says\, “Wow\, that’s sooo good!!”
URL:https://oakcitybrewingcompany.com/event/the-naked-empanada-2024-04-19/
CATEGORIES:Food Trucks
ATTACH;FMTTYPE=image/jpeg:https://oakcitybrewingcompany.com/wp-content/uploads/2022/08/277675892_657482668566589_7822163364397964254_n.jpg
END:VEVENT
BEGIN:VEVENT
DTSTART;TZID=America/Halifax:20240418T173000
DTEND;TZID=America/Halifax:20240418T203000
DTSTAMP:20260423T133201
CREATED:20220826T145242Z
LAST-MODIFIED:20220826T145242Z
UID:19009-1713461400-1713472200@oakcitybrewingcompany.com
SUMMARY:Carolina's Catch
DESCRIPTION:Bringing Seafood from the Carolina’s Coast to the triangle
URL:https://oakcitybrewingcompany.com/event/carolinas-catch-2-2024-04-18/
CATEGORIES:Food Trucks
ATTACH;FMTTYPE=image/jpeg:https://oakcitybrewingcompany.com/wp-content/uploads/2022/08/294160203_760995485243754_5268186503346739086_n.jpg
END:VEVENT
BEGIN:VEVENT
DTSTART;TZID=America/Halifax:20240417T183000
DTEND;TZID=America/Halifax:20240417T193000
DTSTAMP:20260423T133201
CREATED:20230622T143255Z
LAST-MODIFIED:20240328T163345Z
UID:18689-1713378600-1713382200@oakcitybrewingcompany.com
SUMMARY:Run Club Takeover
DESCRIPTION:Calling all runners and beer lovers!\n\nBeer Run at Oak City Brewing is hosting a run club takeover on April 17th at 6:30 PM with Clayton Area Runners\, Bearded Bee Run Club\, and Garner Run Club!\n\nRoutes available to accommodate a variety of skill levels\, children and dogs are welcome!\n\nCome join the fun and meet some new friends!
URL:https://oakcitybrewingcompany.com/event/beer-run-2024-04-17/
CATEGORIES:Brewery Events,Events,Weekly Events
ATTACH;FMTTYPE=image/png:https://oakcitybrewingcompany.com/wp-content/uploads/2023/06/Run-Club-Event-Covers-1-1.png
END:VEVENT
BEGIN:VEVENT
DTSTART;TZID=America/Halifax:20240417T173000
DTEND;TZID=America/Halifax:20240417T203000
DTSTAMP:20260423T133201
CREATED:20220916T103300Z
LAST-MODIFIED:20240610T145750Z
UID:19418-1713375000-1713385800@oakcitybrewingcompany.com
SUMMARY:The Flat Drum
DESCRIPTION:Located in Raleigh North Carolina\, Arguably some of the best wings you’ll come across
URL:https://oakcitybrewingcompany.com/event/jessicas-food-truck-22-2023-02-25-2024-04-17/
CATEGORIES:Food Trucks
ATTACH;FMTTYPE=image/jpeg:https://oakcitybrewingcompany.com/wp-content/uploads/2022/08/237256269_285275650066794_5887269925378650683_n.jpg
END:VEVENT
BEGIN:VEVENT
DTSTART;TZID=America/Halifax:20240416T173000
DTEND;TZID=America/Halifax:20240416T203000
DTSTAMP:20260423T133201
CREATED:20220816T223305Z
LAST-MODIFIED:20220816T223305Z
UID:18848-1713288600-1713299400@oakcitybrewingcompany.com
SUMMARY:The Greek Goat
DESCRIPTION:Bringing your favorite Greek street food to Raleigh and the surrounding area. Greek Done Right!
URL:https://oakcitybrewingcompany.com/event/the-greek-goat-2024-04-16/
CATEGORIES:Food Trucks
ATTACH;FMTTYPE=image/png:https://oakcitybrewingcompany.com/wp-content/uploads/2022/08/294719080_358949019756141_4432516889414215207_n.png
END:VEVENT
BEGIN:VEVENT
DTSTART;VALUE=DATE:20240416
DTEND;VALUE=DATE:20240417
DTSTAMP:20260423T133201
CREATED:20240116T203427Z
LAST-MODIFIED:20240116T203427Z
UID:19615-1713225600-1713311999@oakcitybrewingcompany.com
SUMMARY:NO FOOD TRUCK - BYOF
DESCRIPTION:Unfortunately there is no food truck today\, please feel free to come enjoy a brew and bring your own food 🙂
URL:https://oakcitybrewingcompany.com/event/no-food-truck-byof-24-2024-04-16/
CATEGORIES:Food Trucks
END:VEVENT
BEGIN:VEVENT
DTSTART;VALUE=DATE:20240415
DTEND;VALUE=DATE:20240416
DTSTAMP:20260423T133201
CREATED:20240116T203427Z
LAST-MODIFIED:20240116T203427Z
UID:19614-1713139200-1713225599@oakcitybrewingcompany.com
SUMMARY:NO FOOD TRUCK - BYOF
DESCRIPTION:Unfortunately there is no food truck today\, please feel free to come enjoy a brew and bring your own food 🙂
URL:https://oakcitybrewingcompany.com/event/no-food-truck-byof-24-2024-04-15/
CATEGORIES:Food Trucks
END:VEVENT
BEGIN:VEVENT
DTSTART;TZID=America/Halifax:20240414T140000
DTEND;TZID=America/Halifax:20240414T180000
DTSTAMP:20260423T133201
CREATED:20220915T102427Z
LAST-MODIFIED:20220915T102427Z
UID:19105-1713103200-1713117600@oakcitybrewingcompany.com
SUMMARY:Lobster Dogs
DESCRIPTION:Food truck serving the Best Lobster Rolls & Stuffed Avocados in the Carolinas!
URL:https://oakcitybrewingcompany.com/event/lobster-dogs-3-2024-04-14/
CATEGORIES:Food Trucks
ATTACH;FMTTYPE=image/jpeg:https://oakcitybrewingcompany.com/wp-content/uploads/2022/09/300966759_603356964739835_7012982284719119023_n.jpg
END:VEVENT
BEGIN:VEVENT
DTSTART;TZID=America/Halifax:20240413T160000
DTEND;TZID=America/Halifax:20240413T210000
DTSTAMP:20260423T133201
CREATED:20230116T170404Z
LAST-MODIFIED:20230116T170404Z
UID:19161-1713024000-1713042000@oakcitybrewingcompany.com
SUMMARY:Fired Up Pizza & BBQ
DESCRIPTION:Serving wood-fired pizza and bbq. Smokin’ good with Carolina wood.
URL:https://oakcitybrewingcompany.com/event/fired-up-pizza-bbq-2-2024-04-13/
CATEGORIES:Food Trucks
ATTACH;FMTTYPE=image/jpeg:https://oakcitybrewingcompany.com/wp-content/uploads/2023/01/294908699_455773433222203_229099170207648236_n.jpeg
END:VEVENT
BEGIN:VEVENT
DTSTART;TZID=America/Halifax:20240413T130000
DTEND;TZID=America/Halifax:20240413T160000
DTSTAMP:20260423T133201
CREATED:20240213T182713Z
LAST-MODIFIED:20240213T182714Z
UID:19454-1713013200-1713024000@oakcitybrewingcompany.com
SUMMARY:Oak City Goes Bald — St. Baldricks Event
DESCRIPTION:Every 2 minutes a child is diagnosed with cancer. Help us fund the research that will save their lives!  \n.\nJoin us on April 13th for Oak City Goes Bald to help raise money and fund cures for kids with cancer. Join us and together let’s #GiveKidsALifetime\n.\nOak City will donate $1 per beer sold for the entire day!\n.\nWe have an extremely ambitious goal of $125\,000 so join us to have some fun – and be a hero for kids with cancer!\n.\nHow can YOU help?\n– Share the event\n– Donate today: https://www.stbaldricks.org/events/oakcity2023\n– Register as a participant to raise funds\n– Register as a shavee\n(follow the event link for more info) \n.\n@StBaldricks #StBaldricks #ConquerKidsCancer #RockTheBald #GiveKidsALifetime #ResearchIsHope
URL:https://oakcitybrewingcompany.com/event/oak-city-goes-bald-st-baldricks-event/
CATEGORIES:Brewery Events,Events
ATTACH;FMTTYPE=image/png:https://oakcitybrewingcompany.com/wp-content/uploads/2024/02/Oak-City-Brewing-Goes-Bald-2.png
END:VEVENT
BEGIN:VEVENT
DTSTART;TZID=America/Halifax:20240413T120000
DTEND;TZID=America/Halifax:20240413T150000
DTSTAMP:20260423T133201
CREATED:20230116T155025Z
LAST-MODIFIED:20230116T155025Z
UID:19293-1713009600-1713020400@oakcitybrewingcompany.com
SUMMARY:Portable Portugy
DESCRIPTION:Chef Shawn Dagnall brings The Portable Portugy\, NC’s first and only source for Portuguese cuisine.
URL:https://oakcitybrewingcompany.com/event/portable-portugy-2024-04-13/
CATEGORIES:Food Trucks
ATTACH;FMTTYPE=image/png:https://oakcitybrewingcompany.com/wp-content/uploads/2023/01/Screen-Shot-2023-01-16-at-10.45.04-AM.png
END:VEVENT
BEGIN:VEVENT
DTSTART;TZID=America/Halifax:20240412T173000
DTEND;TZID=America/Halifax:20240412T203000
DTSTAMP:20260423T133201
CREATED:20220825T141353Z
LAST-MODIFIED:20220825T141353Z
UID:19056-1712943000-1712953800@oakcitybrewingcompany.com
SUMMARY:Caribbean Kicker
DESCRIPTION:We are a Food Truck that sell Caribbean Fusion with a twist. The food is made with love ❤️ and full of flavor.
URL:https://oakcitybrewingcompany.com/event/caribbean-kicker-3-2024-04-12/
CATEGORIES:Food Trucks
ATTACH;FMTTYPE=image/jpeg:https://oakcitybrewingcompany.com/wp-content/uploads/2022/08/279096638_2125417890949808_6612292007969708448_n.jpg
END:VEVENT
BEGIN:VEVENT
DTSTART;TZID=America/Halifax:20240411T173000
DTEND;TZID=America/Halifax:20240411T203000
DTSTAMP:20260423T133201
CREATED:20221229T165151Z
LAST-MODIFIED:20221229T165151Z
UID:18961-1712856600-1712867400@oakcitybrewingcompany.com
SUMMARY:The Smoke N Jerk
DESCRIPTION:Jvon Williams\, a North Carolina native has become known locally and privately for his unorthodox creations. Raised in the south\, he is making a name for himself by proudly continuing the tradition of “smoking meat” while celebrating down home culinary and Caribbean blended specialties. Williams brings meaning to a Caribbean twist on down home flavors of the south and elevates the heights by offering a unique variety of tastefully infused “Authentic” Jerk rubs incorporating natural local fruit and extractions.
URL:https://oakcitybrewingcompany.com/event/the-smoke-n-jerk-3-2024-04-11/
ATTACH;FMTTYPE=image/jpeg:https://oakcitybrewingcompany.com/wp-content/uploads/2019/12/20840918_1807268802918582_2991818591324802150_n.jpg
END:VEVENT
BEGIN:VEVENT
DTSTART;TZID=America/Halifax:20240410T183000
DTEND;TZID=America/Halifax:20240410T193000
DTSTAMP:20260423T133201
CREATED:20230622T143255Z
LAST-MODIFIED:20230622T143255Z
UID:18688-1712773800-1712777400@oakcitybrewingcompany.com
SUMMARY:Beer Run
DESCRIPTION:Join us for a 1.5\, 3\, or 5 mile run or walk through downtown Knightdale\, Knightdale Station Park\, Mingo Creek Trail\, and other areas and landmarks that make our town special with our run club. \nLearn more here: https://oakcitybrewingcompany.com/run-club/ \nRun club meets up at 6:30 pm every Wednesday or 11:30 am every Saturday\, cheers!
URL:https://oakcitybrewingcompany.com/event/beer-run-2024-04-10/
CATEGORIES:Brewery Events,Weekly Events
ATTACH;FMTTYPE=image/png:https://oakcitybrewingcompany.com/wp-content/uploads/2023/06/Screen-Shot-2023-06-22-at-10.25.57-AM.png
END:VEVENT
BEGIN:VEVENT
DTSTART;TZID=America/Halifax:20240410T173000
DTEND;TZID=America/Halifax:20240410T203000
DTSTAMP:20260423T133201
CREATED:20210826T023650Z
LAST-MODIFIED:20210826T023650Z
UID:19210-1712770200-1712781000@oakcitybrewingcompany.com
SUMMARY:Empanadas RD
DESCRIPTION:
URL:https://oakcitybrewingcompany.com/event/empanadas-rd-3-2024-04-10/
CATEGORIES:Food Trucks
ATTACH;FMTTYPE=image/jpeg:https://oakcitybrewingcompany.com/wp-content/uploads/2021/08/8444bc32-02c8-4a30-8d01-9197dfd80106.jpeg
END:VEVENT
BEGIN:VEVENT
DTSTART;TZID=America/Halifax:20240409T173000
DTEND;TZID=America/Halifax:20240409T203000
DTSTAMP:20260423T133201
CREATED:20231226T154846Z
LAST-MODIFIED:20231226T154846Z
UID:18862-1712683800-1712694600@oakcitybrewingcompany.com
SUMMARY:Big B’s Southern Kitchen
DESCRIPTION:Southern gourmet on the go\, home of the meatloaf melt.
URL:https://oakcitybrewingcompany.com/event/big-bs-southern-kitchen-2024-04-09/
ATTACH;FMTTYPE=image/png:https://oakcitybrewingcompany.com/wp-content/uploads/2023/12/Screenshot-2023-12-26-at-10.42.21-AM.png
END:VEVENT
BEGIN:VEVENT
DTSTART;VALUE=DATE:20240409
DTEND;VALUE=DATE:20240410
DTSTAMP:20260423T133201
CREATED:20240116T203427Z
LAST-MODIFIED:20240116T203427Z
UID:19613-1712620800-1712707199@oakcitybrewingcompany.com
SUMMARY:NO FOOD TRUCK - BYOF
DESCRIPTION:Unfortunately there is no food truck today\, please feel free to come enjoy a brew and bring your own food 🙂
URL:https://oakcitybrewingcompany.com/event/no-food-truck-byof-24-2024-04-09/
CATEGORIES:Food Trucks
END:VEVENT
BEGIN:VEVENT
DTSTART;TZID=America/Halifax:20240408T173000
DTEND;TZID=America/Halifax:20240408T203000
DTSTAMP:20260423T133201
CREATED:20220824T113326Z
LAST-MODIFIED:20220824T113326Z
UID:18893-1712597400-1712608200@oakcitybrewingcompany.com
SUMMARY:Chick-N-Que
DESCRIPTION:The best Eastern style BBQ NC has to offer. We also serve 100% NC raised ostrich burgers along with mouth watering sides. Chick-N-Que is a multi mobile food truck & catering business serving Wake County and surrounding areas. With our guarded family recipe\, Chick-N-Que has a unique\, savory taste that stands out as some of the best barbecue around.
URL:https://oakcitybrewingcompany.com/event/chick-n-que-52-2023-01-27-2023-12-18-2024-04-08/
CATEGORIES:Food Trucks
ATTACH;FMTTYPE=image/jpeg:https://oakcitybrewingcompany.com/wp-content/uploads/2019/10/40683703_1781242268659131_3875899713362329600_n.jpg
END:VEVENT
BEGIN:VEVENT
DTSTART;TZID=America/Halifax:20240407T140000
DTEND;TZID=America/Halifax:20240407T180000
DTSTAMP:20260423T133202
CREATED:20230309T173542Z
LAST-MODIFIED:20230309T173542Z
UID:19232-1712498400-1712512800@oakcitybrewingcompany.com
SUMMARY:Parker's Hall of Fame Deli & Grill
DESCRIPTION:A local food truck selling burgers\, hotdogs\, sandwiches\, and paninis.
URL:https://oakcitybrewingcompany.com/event/parkers-hall-of-fame-deli-grill-2024-04-07/
CATEGORIES:Food Trucks
ATTACH;FMTTYPE=image/png:https://oakcitybrewingcompany.com/wp-content/uploads/2023/03/Screen-Shot-2023-03-09-at-12.33.28-PM.png
END:VEVENT
BEGIN:VEVENT
DTSTART;TZID=America/Halifax:20240406T160000
DTEND;TZID=America/Halifax:20240406T210000
DTSTAMP:20260423T133202
CREATED:20220830T214644Z
LAST-MODIFIED:20220830T214644Z
UID:19174-1712419200-1712437200@oakcitybrewingcompany.com
SUMMARY:Barone Meatball
DESCRIPTION:
URL:https://oakcitybrewingcompany.com/event/barone-meatball-33-2023-02-04-2024-04-06/
CATEGORIES:Food Trucks
ATTACH;FMTTYPE=image/png:https://oakcitybrewingcompany.com/wp-content/uploads/2022/08/Screen-Shot-2022-12-30-at-10.20.59-AM.png
END:VEVENT
BEGIN:VEVENT
DTSTART;TZID=America/Halifax:20240406T120000
DTEND;TZID=America/Halifax:20240406T150000
DTSTAMP:20260423T133202
CREATED:20240401T124518Z
LAST-MODIFIED:20240401T124518Z
UID:19521-1712404800-1712415600@oakcitybrewingcompany.com
SUMMARY:Coney Island NC
DESCRIPTION:They sell specialty hot dogs\, hamburgers\, chili\, nachos\, curly fries\, shoe string fries\, tenders\, popcorn chicken\, mozzarella sticks\, and have kids meals.
URL:https://oakcitybrewingcompany.com/event/coney-island-nc/
CATEGORIES:Food Trucks
END:VEVENT
BEGIN:VEVENT
DTSTART;TZID=America/Halifax:20240406T113000
DTEND;TZID=America/Halifax:20240406T123000
DTSTAMP:20260423T133202
CREATED:20230622T143640Z
LAST-MODIFIED:20230622T143640Z
UID:18609-1712403000-1712406600@oakcitybrewingcompany.com
SUMMARY:Beer Run
DESCRIPTION:Join us for a 1.5\, 3\, or 5 mile run or walk through downtown Knightdale\, Knightdale Station Park\, Mingo Creek Trail\, and other areas and landmarks that make our town special with our run club. \nLearn more here: https://oakcitybrewingcompany.com/run-club/ \nRun club meets up at 6:30 pm every Wednesday or 11:30 am every Saturday\, cheers! \n 
URL:https://oakcitybrewingcompany.com/event/beer-run-2-2024-04-06/
CATEGORIES:Brewery Events,Weekly Events
ATTACH;FMTTYPE=image/png:https://oakcitybrewingcompany.com/wp-content/uploads/2023/06/Screen-Shot-2023-06-22-at-10.25.57-AM.png
END:VEVENT
BEGIN:VEVENT
DTSTART;TZID=America/Halifax:20240405T173000
DTEND;TZID=America/Halifax:20240405T203000
DTSTAMP:20260423T133202
CREATED:20240328T181056Z
LAST-MODIFIED:20240404T165511Z
UID:19519-1712338200-1712349000@oakcitybrewingcompany.com
SUMMARY:Mama Voula's\, Death by Taco & Funnel Queens
DESCRIPTION:
URL:https://oakcitybrewingcompany.com/event/stavis-the-funnel-queens-death-by-taco/
CATEGORIES:Food Trucks
END:VEVENT
END:VCALENDAR