BEGIN:VCALENDAR
VERSION:2.0
PRODID:-//Oak City Brewing Company - ECPv6.15.20//NONSGML v1.0//EN
CALSCALE:GREGORIAN
METHOD:PUBLISH
X-WR-CALNAME:Oak City Brewing Company
X-ORIGINAL-URL:https://oakcitybrewingcompany.com
X-WR-CALDESC:Events for Oak City Brewing Company
REFRESH-INTERVAL;VALUE=DURATION:PT1H
X-Robots-Tag:noindex
X-PUBLISHED-TTL:PT1H
BEGIN:VTIMEZONE
TZID:America/Halifax
BEGIN:DAYLIGHT
TZOFFSETFROM:-0400
TZOFFSETTO:-0300
TZNAME:ADT
DTSTART:20230312T060000
END:DAYLIGHT
BEGIN:STANDARD
TZOFFSETFROM:-0300
TZOFFSETTO:-0400
TZNAME:AST
DTSTART:20231105T050000
END:STANDARD
BEGIN:DAYLIGHT
TZOFFSETFROM:-0400
TZOFFSETTO:-0300
TZNAME:ADT
DTSTART:20240310T060000
END:DAYLIGHT
BEGIN:STANDARD
TZOFFSETFROM:-0300
TZOFFSETTO:-0400
TZNAME:AST
DTSTART:20241103T050000
END:STANDARD
BEGIN:DAYLIGHT
TZOFFSETFROM:-0400
TZOFFSETTO:-0300
TZNAME:ADT
DTSTART:20250309T060000
END:DAYLIGHT
BEGIN:STANDARD
TZOFFSETFROM:-0300
TZOFFSETTO:-0400
TZNAME:AST
DTSTART:20251102T050000
END:STANDARD
END:VTIMEZONE
BEGIN:VEVENT
DTSTART;TZID=America/Halifax:20240410T183000
DTEND;TZID=America/Halifax:20240410T193000
DTSTAMP:20260423T161704
CREATED:20230622T143255Z
LAST-MODIFIED:20230622T143255Z
UID:18688-1712773800-1712777400@oakcitybrewingcompany.com
SUMMARY:Beer Run
DESCRIPTION:Join us for a 1.5\, 3\, or 5 mile run or walk through downtown Knightdale\, Knightdale Station Park\, Mingo Creek Trail\, and other areas and landmarks that make our town special with our run club. \nLearn more here: https://oakcitybrewingcompany.com/run-club/ \nRun club meets up at 6:30 pm every Wednesday or 11:30 am every Saturday\, cheers!
URL:https://oakcitybrewingcompany.com/event/beer-run-2024-04-10/
CATEGORIES:Brewery Events,Weekly Events
ATTACH;FMTTYPE=image/png:https://oakcitybrewingcompany.com/wp-content/uploads/2023/06/Screen-Shot-2023-06-22-at-10.25.57-AM.png
END:VEVENT
BEGIN:VEVENT
DTSTART;TZID=America/Halifax:20240410T173000
DTEND;TZID=America/Halifax:20240410T203000
DTSTAMP:20260423T161704
CREATED:20210826T023650Z
LAST-MODIFIED:20210826T023650Z
UID:19210-1712770200-1712781000@oakcitybrewingcompany.com
SUMMARY:Empanadas RD
DESCRIPTION:
URL:https://oakcitybrewingcompany.com/event/empanadas-rd-3-2024-04-10/
CATEGORIES:Food Trucks
ATTACH;FMTTYPE=image/jpeg:https://oakcitybrewingcompany.com/wp-content/uploads/2021/08/8444bc32-02c8-4a30-8d01-9197dfd80106.jpeg
END:VEVENT
BEGIN:VEVENT
DTSTART;TZID=America/Halifax:20240409T173000
DTEND;TZID=America/Halifax:20240409T203000
DTSTAMP:20260423T161704
CREATED:20231226T154846Z
LAST-MODIFIED:20231226T154846Z
UID:18862-1712683800-1712694600@oakcitybrewingcompany.com
SUMMARY:Big B’s Southern Kitchen
DESCRIPTION:Southern gourmet on the go\, home of the meatloaf melt.
URL:https://oakcitybrewingcompany.com/event/big-bs-southern-kitchen-2024-04-09/
ATTACH;FMTTYPE=image/png:https://oakcitybrewingcompany.com/wp-content/uploads/2023/12/Screenshot-2023-12-26-at-10.42.21-AM.png
END:VEVENT
BEGIN:VEVENT
DTSTART;VALUE=DATE:20240409
DTEND;VALUE=DATE:20240410
DTSTAMP:20260423T161704
CREATED:20240116T203427Z
LAST-MODIFIED:20240116T203427Z
UID:19613-1712620800-1712707199@oakcitybrewingcompany.com
SUMMARY:NO FOOD TRUCK - BYOF
DESCRIPTION:Unfortunately there is no food truck today\, please feel free to come enjoy a brew and bring your own food 🙂
URL:https://oakcitybrewingcompany.com/event/no-food-truck-byof-24-2024-04-09/
CATEGORIES:Food Trucks
END:VEVENT
BEGIN:VEVENT
DTSTART;TZID=America/Halifax:20240408T173000
DTEND;TZID=America/Halifax:20240408T203000
DTSTAMP:20260423T161704
CREATED:20220824T113326Z
LAST-MODIFIED:20220824T113326Z
UID:18893-1712597400-1712608200@oakcitybrewingcompany.com
SUMMARY:Chick-N-Que
DESCRIPTION:The best Eastern style BBQ NC has to offer. We also serve 100% NC raised ostrich burgers along with mouth watering sides. Chick-N-Que is a multi mobile food truck & catering business serving Wake County and surrounding areas. With our guarded family recipe\, Chick-N-Que has a unique\, savory taste that stands out as some of the best barbecue around.
URL:https://oakcitybrewingcompany.com/event/chick-n-que-52-2023-01-27-2023-12-18-2024-04-08/
CATEGORIES:Food Trucks
ATTACH;FMTTYPE=image/jpeg:https://oakcitybrewingcompany.com/wp-content/uploads/2019/10/40683703_1781242268659131_3875899713362329600_n.jpg
END:VEVENT
BEGIN:VEVENT
DTSTART;TZID=America/Halifax:20240407T140000
DTEND;TZID=America/Halifax:20240407T180000
DTSTAMP:20260423T161704
CREATED:20230309T173542Z
LAST-MODIFIED:20230309T173542Z
UID:19232-1712498400-1712512800@oakcitybrewingcompany.com
SUMMARY:Parker's Hall of Fame Deli & Grill
DESCRIPTION:A local food truck selling burgers\, hotdogs\, sandwiches\, and paninis.
URL:https://oakcitybrewingcompany.com/event/parkers-hall-of-fame-deli-grill-2024-04-07/
CATEGORIES:Food Trucks
ATTACH;FMTTYPE=image/png:https://oakcitybrewingcompany.com/wp-content/uploads/2023/03/Screen-Shot-2023-03-09-at-12.33.28-PM.png
END:VEVENT
BEGIN:VEVENT
DTSTART;TZID=America/Halifax:20240406T160000
DTEND;TZID=America/Halifax:20240406T210000
DTSTAMP:20260423T161704
CREATED:20220830T214644Z
LAST-MODIFIED:20220830T214644Z
UID:19174-1712419200-1712437200@oakcitybrewingcompany.com
SUMMARY:Barone Meatball
DESCRIPTION:
URL:https://oakcitybrewingcompany.com/event/barone-meatball-33-2023-02-04-2024-04-06/
CATEGORIES:Food Trucks
ATTACH;FMTTYPE=image/png:https://oakcitybrewingcompany.com/wp-content/uploads/2022/08/Screen-Shot-2022-12-30-at-10.20.59-AM.png
END:VEVENT
BEGIN:VEVENT
DTSTART;TZID=America/Halifax:20240406T120000
DTEND;TZID=America/Halifax:20240406T150000
DTSTAMP:20260423T161704
CREATED:20240401T124518Z
LAST-MODIFIED:20240401T124518Z
UID:19521-1712404800-1712415600@oakcitybrewingcompany.com
SUMMARY:Coney Island NC
DESCRIPTION:They sell specialty hot dogs\, hamburgers\, chili\, nachos\, curly fries\, shoe string fries\, tenders\, popcorn chicken\, mozzarella sticks\, and have kids meals.
URL:https://oakcitybrewingcompany.com/event/coney-island-nc/
CATEGORIES:Food Trucks
END:VEVENT
BEGIN:VEVENT
DTSTART;TZID=America/Halifax:20240406T113000
DTEND;TZID=America/Halifax:20240406T123000
DTSTAMP:20260423T161704
CREATED:20230622T143640Z
LAST-MODIFIED:20230622T143640Z
UID:18609-1712403000-1712406600@oakcitybrewingcompany.com
SUMMARY:Beer Run
DESCRIPTION:Join us for a 1.5\, 3\, or 5 mile run or walk through downtown Knightdale\, Knightdale Station Park\, Mingo Creek Trail\, and other areas and landmarks that make our town special with our run club. \nLearn more here: https://oakcitybrewingcompany.com/run-club/ \nRun club meets up at 6:30 pm every Wednesday or 11:30 am every Saturday\, cheers! \n 
URL:https://oakcitybrewingcompany.com/event/beer-run-2-2024-04-06/
CATEGORIES:Brewery Events,Weekly Events
ATTACH;FMTTYPE=image/png:https://oakcitybrewingcompany.com/wp-content/uploads/2023/06/Screen-Shot-2023-06-22-at-10.25.57-AM.png
END:VEVENT
BEGIN:VEVENT
DTSTART;TZID=America/Halifax:20240405T173000
DTEND;TZID=America/Halifax:20240405T203000
DTSTAMP:20260423T161704
CREATED:20240328T181056Z
LAST-MODIFIED:20240404T165511Z
UID:19519-1712338200-1712349000@oakcitybrewingcompany.com
SUMMARY:Mama Voula's\, Death by Taco & Funnel Queens
DESCRIPTION:
URL:https://oakcitybrewingcompany.com/event/stavis-the-funnel-queens-death-by-taco/
CATEGORIES:Food Trucks
END:VEVENT
BEGIN:VEVENT
DTSTART;TZID=America/Halifax:20240405T173000
DTEND;TZID=America/Halifax:20240405T203000
DTSTAMP:20260423T161704
CREATED:20240309T171819Z
LAST-MODIFIED:20240404T165459Z
UID:19460-1712338200-1712349000@oakcitybrewingcompany.com
SUMMARY:First Friday
DESCRIPTION:First Fridays at Oak City Brewing are the best Fridays!\nJoin us Friday\, April 5th from 5:30-8:30 PM to shop local\, enjoy live music\, and indulge in delicious bites from food trucks.\nSupport small businesses while enjoying craft brews and good vibes! \n.\nMusic: Sam Trebing\n.\nFood Trucks:  Mama Voula’s\, Death by Taco & Funnel Queens\n.\nAdded fun: Face Painting by Fantasy Dream Facepaint & Fairy Hair by AH! Fairy Hair\n.\nVendors:\nKree’s Flowers\nKeeler Woodworks\nStafford Style\nOkeedoe\nWyman’s Chocolates and Smoked Cheese\nAlternative Wax\nOak City Hot Sauce Co\nWearables by b LLC\nAwaken NC LLC\nHill Hippie Goods&Farm\nRemedy Cocktail Company\nEgg Pug Studio\nCheers Bakehouse\nHemp Generation Wellness\nSweet Nothings bakery
URL:https://oakcitybrewingcompany.com/event/first-friday-11/
CATEGORIES:Brewery Events,Events,Food Trucks
ATTACH;FMTTYPE=image/png:https://oakcitybrewingcompany.com/wp-content/uploads/2024/03/First-Friday-2024.png
END:VEVENT
BEGIN:VEVENT
DTSTART;TZID=America/Halifax:20240404T173000
DTEND;TZID=America/Halifax:20240404T203000
DTSTAMP:20260423T161704
CREATED:20220824T120403Z
LAST-MODIFIED:20240328T180415Z
UID:19032-1712251800-1712262600@oakcitybrewingcompany.com
SUMMARY:The Flat Drum
DESCRIPTION:
URL:https://oakcitybrewingcompany.com/event/not-just-a-fry-guy-2024-04-04/
CATEGORIES:Food Trucks
END:VEVENT
BEGIN:VEVENT
DTSTART;TZID=America/Halifax:20240403T183000
DTEND;TZID=America/Halifax:20240403T193000
DTSTAMP:20260423T161704
CREATED:20230622T143255Z
LAST-MODIFIED:20230622T143255Z
UID:18687-1712169000-1712172600@oakcitybrewingcompany.com
SUMMARY:Beer Run
DESCRIPTION:Join us for a 1.5\, 3\, or 5 mile run or walk through downtown Knightdale\, Knightdale Station Park\, Mingo Creek Trail\, and other areas and landmarks that make our town special with our run club. \nLearn more here: https://oakcitybrewingcompany.com/run-club/ \nRun club meets up at 6:30 pm every Wednesday or 11:30 am every Saturday\, cheers!
URL:https://oakcitybrewingcompany.com/event/beer-run-2024-04-03/
CATEGORIES:Brewery Events,Weekly Events
ATTACH;FMTTYPE=image/png:https://oakcitybrewingcompany.com/wp-content/uploads/2023/06/Screen-Shot-2023-06-22-at-10.25.57-AM.png
END:VEVENT
BEGIN:VEVENT
DTSTART;TZID=America/Halifax:20240403T173000
DTEND;TZID=America/Halifax:20240403T203000
DTSTAMP:20260423T161704
CREATED:20220825T131329Z
LAST-MODIFIED:20220825T131329Z
UID:18877-1712165400-1712176200@oakcitybrewingcompany.com
SUMMARY:Chirba Chirba Dumpling
DESCRIPTION:Presents mouthwatering Chinese style dumplings. We are excited to bring you an Asian street fare food truck specializing in Chinese dumplings. After years of dumpling studies through extensive tasting\, pleating and learning secret family recipes\, we have developed a menu that we think you’ll love.
URL:https://oakcitybrewingcompany.com/event/chirba-chirba-dumpling-48-2024-04-03/
CATEGORIES:Food Trucks
ATTACH;FMTTYPE=image/jpeg:https://oakcitybrewingcompany.com/wp-content/uploads/2022/08/300415632_7906269056113354_1802728577223783342_n.jpg
END:VEVENT
BEGIN:VEVENT
DTSTART;TZID=America/Halifax:20240402T173000
DTEND;TZID=America/Halifax:20240402T203000
DTSTAMP:20260423T161704
CREATED:20240130T143409Z
LAST-MODIFIED:20240130T143409Z
UID:19437-1712079000-1712089800@oakcitybrewingcompany.com
SUMMARY:Umami
DESCRIPTION:Umami specializes in quality Teppan and sushi dishes along with specialty appetizers.
URL:https://oakcitybrewingcompany.com/event/umami-2-2024-04-02/
CATEGORIES:Food Trucks
ATTACH;FMTTYPE=image/png:https://oakcitybrewingcompany.com/wp-content/uploads/2024/01/Screenshot-2024-01-30-at-9.32.22-AM.png
END:VEVENT
BEGIN:VEVENT
DTSTART;VALUE=DATE:20240402
DTEND;VALUE=DATE:20240403
DTSTAMP:20260423T161704
CREATED:20240116T203427Z
LAST-MODIFIED:20240116T203427Z
UID:19612-1712016000-1712102399@oakcitybrewingcompany.com
SUMMARY:NO FOOD TRUCK - BYOF
DESCRIPTION:Unfortunately there is no food truck today\, please feel free to come enjoy a brew and bring your own food 🙂
URL:https://oakcitybrewingcompany.com/event/no-food-truck-byof-24-2024-04-02/
CATEGORIES:Food Trucks
END:VEVENT
BEGIN:VEVENT
DTSTART;VALUE=DATE:20240401
DTEND;VALUE=DATE:20240402
DTSTAMP:20260423T161704
CREATED:20240116T203427Z
LAST-MODIFIED:20240322T171526Z
UID:19506-1711929600-1712015999@oakcitybrewingcompany.com
SUMMARY:NO FOOD TRUCK - BYOF
DESCRIPTION:Unfortunately there is no food truck today\, please feel free to come enjoy a brew and bring your own food 🙂
URL:https://oakcitybrewingcompany.com/event/no-food-truck-byof-24-2024-04-01/
CATEGORIES:Food Trucks
END:VEVENT
BEGIN:VEVENT
DTSTART;TZID=America/Halifax:20240331T140000
DTEND;TZID=America/Halifax:20240331T180000
DTSTAMP:20260423T161704
CREATED:20221229T154907Z
LAST-MODIFIED:20221229T154907Z
UID:19510-1711893600-1711908000@oakcitybrewingcompany.com
SUMMARY:Cousins Maine Lobster
DESCRIPTION:Serving wild-caught\, sustainably harvested Maine lobster. As seen on Shark Tank!
URL:https://oakcitybrewingcompany.com/event/cousins-maine-lobster-52-2024-03-31/
CATEGORIES:Food Trucks
ATTACH;FMTTYPE=image/png:https://oakcitybrewingcompany.com/wp-content/uploads/2022/12/Screen-Shot-2022-12-29-at-10.44.01-AM.png
END:VEVENT
BEGIN:VEVENT
DTSTART;TZID=America/Halifax:20240330T160000
DTEND;TZID=America/Halifax:20240330T210000
DTSTAMP:20260423T161704
CREATED:20230322T124335Z
LAST-MODIFIED:20230322T124335Z
UID:19432-1711814400-1711832400@oakcitybrewingcompany.com
SUMMARY:GoldenKdog
DESCRIPTION:Raleigh’s first Korean corn dog food truck!
URL:https://oakcitybrewingcompany.com/event/goldenkdog-2024-03-30/
CATEGORIES:Food Trucks
ATTACH;FMTTYPE=image/png:https://oakcitybrewingcompany.com/wp-content/uploads/2023/03/Screen-Shot-2023-03-22-at-8.39.27-AM.png
END:VEVENT
BEGIN:VEVENT
DTSTART;TZID=America/Halifax:20240330T120000
DTEND;TZID=America/Halifax:20240330T150000
DTSTAMP:20260423T161704
CREATED:20230411T144336Z
LAST-MODIFIED:20230411T144336Z
UID:19499-1711800000-1711810800@oakcitybrewingcompany.com
SUMMARY:Off the Hog
DESCRIPTION:Off the hog serve good old-fashioned traditional smoked meats using a variety of hardwoods and coals.
URL:https://oakcitybrewingcompany.com/event/off-the-hog-2024-03-30/
CATEGORIES:Food Trucks
ATTACH;FMTTYPE=image/png:https://oakcitybrewingcompany.com/wp-content/uploads/2023/04/Screen-Shot-2023-04-11-at-10.38.53-AM.png
END:VEVENT
BEGIN:VEVENT
DTSTART;TZID=America/Halifax:20240330T113000
DTEND;TZID=America/Halifax:20240330T123000
DTSTAMP:20260423T161704
CREATED:20230622T143640Z
LAST-MODIFIED:20230622T143640Z
UID:18608-1711798200-1711801800@oakcitybrewingcompany.com
SUMMARY:Beer Run
DESCRIPTION:Join us for a 1.5\, 3\, or 5 mile run or walk through downtown Knightdale\, Knightdale Station Park\, Mingo Creek Trail\, and other areas and landmarks that make our town special with our run club. \nLearn more here: https://oakcitybrewingcompany.com/run-club/ \nRun club meets up at 6:30 pm every Wednesday or 11:30 am every Saturday\, cheers! \n 
URL:https://oakcitybrewingcompany.com/event/beer-run-2-2024-03-30/
CATEGORIES:Brewery Events,Weekly Events
ATTACH;FMTTYPE=image/png:https://oakcitybrewingcompany.com/wp-content/uploads/2023/06/Screen-Shot-2023-06-22-at-10.25.57-AM.png
END:VEVENT
BEGIN:VEVENT
DTSTART;TZID=America/Halifax:20240329T173000
DTEND;TZID=America/Halifax:20240329T203000
DTSTAMP:20260423T161704
CREATED:20220825T122036Z
LAST-MODIFIED:20220825T122036Z
UID:19446-1711733400-1711744200@oakcitybrewingcompany.com
SUMMARY:Poblanos Tacos
DESCRIPTION:Family-owned and operated Food Truck and Restaurant from Knightdale. Serving Mexican and Latin cuisine.
URL:https://oakcitybrewingcompany.com/event/beefy-buns-16-2024-03-29/
CATEGORIES:Food Trucks
ATTACH;FMTTYPE=image/jpeg:https://oakcitybrewingcompany.com/wp-content/uploads/2022/08/Poblanos.jpeg
END:VEVENT
BEGIN:VEVENT
DTSTART;TZID=America/Halifax:20240328T173000
DTEND;TZID=America/Halifax:20240328T203000
DTSTAMP:20260423T161704
CREATED:20220816T160505Z
LAST-MODIFIED:20220816T160505Z
UID:18984-1711647000-1711657800@oakcitybrewingcompany.com
SUMMARY:Tacos Neza
DESCRIPTION:
URL:https://oakcitybrewingcompany.com/event/tacos-neza-4-2024-03-28/
CATEGORIES:Food Trucks
ATTACH;FMTTYPE=image/jpeg:https://oakcitybrewingcompany.com/wp-content/uploads/2022/08/288475272_543179494124910_8462946235973782313_n.jpg
END:VEVENT
BEGIN:VEVENT
DTSTART;TZID=America/Halifax:20240327T183000
DTEND;TZID=America/Halifax:20240327T193000
DTSTAMP:20260423T161704
CREATED:20230622T143255Z
LAST-MODIFIED:20230622T143255Z
UID:18686-1711564200-1711567800@oakcitybrewingcompany.com
SUMMARY:Beer Run
DESCRIPTION:Join us for a 1.5\, 3\, or 5 mile run or walk through downtown Knightdale\, Knightdale Station Park\, Mingo Creek Trail\, and other areas and landmarks that make our town special with our run club. \nLearn more here: https://oakcitybrewingcompany.com/run-club/ \nRun club meets up at 6:30 pm every Wednesday or 11:30 am every Saturday\, cheers!
URL:https://oakcitybrewingcompany.com/event/beer-run-2024-03-27/
CATEGORIES:Brewery Events,Weekly Events
ATTACH;FMTTYPE=image/png:https://oakcitybrewingcompany.com/wp-content/uploads/2023/06/Screen-Shot-2023-06-22-at-10.25.57-AM.png
END:VEVENT
BEGIN:VEVENT
DTSTART;TZID=America/Halifax:20240327T173000
DTEND;TZID=America/Halifax:20240327T203000
DTSTAMP:20260423T161704
CREATED:20220830T215212Z
LAST-MODIFIED:20220830T215212Z
UID:19116-1711560600-1711571400@oakcitybrewingcompany.com
SUMMARY:Bulkogi
DESCRIPTION:Authentic Korean BBQ with a yummy twist! Food prepared with love & care that can be felt in each bite. Come hungry & leave with more than just full tummy!
URL:https://oakcitybrewingcompany.com/event/bulkogi-12-2024-03-27/
CATEGORIES:Food Trucks
ATTACH;FMTTYPE=image/jpeg:https://oakcitybrewingcompany.com/wp-content/uploads/2020/01/10336733_570882016365515_5501550790059477710_n.jpg
END:VEVENT
BEGIN:VEVENT
DTSTART;TZID=America/Halifax:20240326T173000
DTEND;TZID=America/Halifax:20240326T173000
DTSTAMP:20260423T161704
CREATED:20240125T163947Z
LAST-MODIFIED:20240125T163947Z
UID:19391-1711474200-1711474200@oakcitybrewingcompany.com
SUMMARY:D's Presto
DESCRIPTION:Committed to deliver my love of cooking that will satisfy your appetite.
URL:https://oakcitybrewingcompany.com/event/ds-presto-2-2024-03-26/
CATEGORIES:Food Trucks
ATTACH;FMTTYPE=image/png:https://oakcitybrewingcompany.com/wp-content/uploads/2024/01/Screenshot-2024-01-23-at-12.46.23-PM.png
END:VEVENT
BEGIN:VEVENT
DTSTART;VALUE=DATE:20240326
DTEND;VALUE=DATE:20240327
DTSTAMP:20260423T161704
CREATED:20240116T203427Z
LAST-MODIFIED:20240116T203427Z
UID:19611-1711411200-1711497599@oakcitybrewingcompany.com
SUMMARY:NO FOOD TRUCK - BYOF
DESCRIPTION:Unfortunately there is no food truck today\, please feel free to come enjoy a brew and bring your own food 🙂
URL:https://oakcitybrewingcompany.com/event/no-food-truck-byof-24-2024-03-26/
CATEGORIES:Food Trucks
END:VEVENT
BEGIN:VEVENT
DTSTART;VALUE=DATE:20240325
DTEND;VALUE=DATE:20240326
DTSTAMP:20260423T161704
CREATED:20240116T203427Z
LAST-MODIFIED:20240322T171526Z
UID:19505-1711324800-1711411199@oakcitybrewingcompany.com
SUMMARY:NO FOOD TRUCK - BYOF
DESCRIPTION:Unfortunately there is no food truck today\, please feel free to come enjoy a brew and bring your own food 🙂
URL:https://oakcitybrewingcompany.com/event/no-food-truck-byof-24-2024-03-25/
CATEGORIES:Food Trucks
END:VEVENT
BEGIN:VEVENT
DTSTART;TZID=America/Halifax:20240324T140000
DTEND;TZID=America/Halifax:20240324T180000
DTSTAMP:20260423T161704
CREATED:20230126T180317Z
LAST-MODIFIED:20230126T180317Z
UID:19068-1711288800-1711303200@oakcitybrewingcompany.com
SUMMARY:Wild Mojo
DESCRIPTION:A place to try out creative wild game dishes by internationally recognized. award-winning chef\, Jason Eastman\, all made from a menu with the finest and freshest selected seasonal items. These locally sourced ingredients are homegrown and sustainably raised by our NC farms.
URL:https://oakcitybrewingcompany.com/event/wild-mojo-2023-12-11-2024-03-24/
CATEGORIES:Food Trucks
ATTACH;FMTTYPE=image/png:https://oakcitybrewingcompany.com/wp-content/uploads/2023/01/Screen-Shot-2023-01-26-at-1.02.33-PM.png
END:VEVENT
BEGIN:VEVENT
DTSTART;TZID=America/Halifax:20240324T140000
DTEND;TZID=America/Halifax:20240324T160000
DTSTAMP:20260423T161704
CREATED:20240309T172209Z
LAST-MODIFIED:20240309T172210Z
UID:19463-1711288800-1711296000@oakcitybrewingcompany.com
SUMMARY:Oak City x Alternative Wax Can-dle Workshop
DESCRIPTION:Light up your creativity at our unique Can-dle Workshop with Alternative Wax at OCBC on March 24th from 2-4 PM.\n.\nNick and Drew from Alternative Wax will guide you through the science of candle-making so that you can craft your own upcycled can-dle.\n.\nDon’t miss out on this one-of-a-kind event! Limited spots are available\, so reserve yours now: https://square.link/u/VKjL1Pmv\n.\nHope you can join us\, cheers!
URL:https://oakcitybrewingcompany.com/event/oak-city-x-alternative-wax-can-dle-workshop/
CATEGORIES:Brewery Events,Events,Weekly Events
ATTACH;FMTTYPE=image/png:https://oakcitybrewingcompany.com/wp-content/uploads/2024/03/OCBC-x-Alternative-Wax-2.png
END:VEVENT
END:VCALENDAR