BEGIN:VCALENDAR
VERSION:2.0
PRODID:-//Oak City Brewing Company - ECPv6.15.20//NONSGML v1.0//EN
CALSCALE:GREGORIAN
METHOD:PUBLISH
X-WR-CALNAME:Oak City Brewing Company
X-ORIGINAL-URL:https://oakcitybrewingcompany.com
X-WR-CALDESC:Events for Oak City Brewing Company
REFRESH-INTERVAL;VALUE=DURATION:PT1H
X-Robots-Tag:noindex
X-PUBLISHED-TTL:PT1H
BEGIN:VTIMEZONE
TZID:America/Halifax
BEGIN:DAYLIGHT
TZOFFSETFROM:-0400
TZOFFSETTO:-0300
TZNAME:ADT
DTSTART:20230312T060000
END:DAYLIGHT
BEGIN:STANDARD
TZOFFSETFROM:-0300
TZOFFSETTO:-0400
TZNAME:AST
DTSTART:20231105T050000
END:STANDARD
BEGIN:DAYLIGHT
TZOFFSETFROM:-0400
TZOFFSETTO:-0300
TZNAME:ADT
DTSTART:20240310T060000
END:DAYLIGHT
BEGIN:STANDARD
TZOFFSETFROM:-0300
TZOFFSETTO:-0400
TZNAME:AST
DTSTART:20241103T050000
END:STANDARD
BEGIN:DAYLIGHT
TZOFFSETFROM:-0400
TZOFFSETTO:-0300
TZNAME:ADT
DTSTART:20250309T060000
END:DAYLIGHT
BEGIN:STANDARD
TZOFFSETFROM:-0300
TZOFFSETTO:-0400
TZNAME:AST
DTSTART:20251102T050000
END:STANDARD
BEGIN:DAYLIGHT
TZOFFSETFROM:-0400
TZOFFSETTO:-0300
TZNAME:ADT
DTSTART:20260308T060000
END:DAYLIGHT
BEGIN:STANDARD
TZOFFSETFROM:-0300
TZOFFSETTO:-0400
TZNAME:AST
DTSTART:20261101T050000
END:STANDARD
END:VTIMEZONE
BEGIN:VEVENT
DTSTART;VALUE=DATE:20250113
DTEND;VALUE=DATE:20250114
DTSTAMP:20260419T234054
CREATED:20241227T170652Z
LAST-MODIFIED:20241227T170652Z
UID:20608-1736726400-1736812799@oakcitybrewingcompany.com
SUMMARY:No Food Truck - BYOF
DESCRIPTION:
URL:https://oakcitybrewingcompany.com/event/no-food-truck-byof-30-2025-01-13/
CATEGORIES:Food Trucks
END:VEVENT
BEGIN:VEVENT
DTSTART;TZID=America/Halifax:20250112T120000
DTEND;TZID=America/Halifax:20250112T180000
DTSTAMP:20260419T234054
CREATED:20250107T182459Z
LAST-MODIFIED:20250107T182459Z
UID:20653-1736683200-1736704800@oakcitybrewingcompany.com
SUMMARY:St. Vicent Spanish Cuisine
DESCRIPTION:Spanish food with traditional dishes like croquetas and seafood paella.
URL:https://oakcitybrewingcompany.com/event/st-vicent-spanish-cuisine-2/
CATEGORIES:Food Trucks
ATTACH;FMTTYPE=image/png:https://oakcitybrewingcompany.com/wp-content/uploads/2025/01/Screenshot-2025-01-07-at-1.23.47-PM.png
END:VEVENT
BEGIN:VEVENT
DTSTART;TZID=America/Halifax:20250111T160000
DTEND;TZID=America/Halifax:20250111T210000
DTSTAMP:20260419T234054
CREATED:20241227T164931Z
LAST-MODIFIED:20241227T164931Z
UID:20342-1736611200-1736629200@oakcitybrewingcompany.com
SUMMARY:Fired Up Pizza & BBQ
DESCRIPTION:Serving wood fired pizza and bbq.
URL:https://oakcitybrewingcompany.com/event/fired-up-pizza-bbq-3/
CATEGORIES:Food Trucks
END:VEVENT
BEGIN:VEVENT
DTSTART;TZID=America/Halifax:20250111T140000
DTEND;TZID=America/Halifax:20250111T180000
DTSTAMP:20260419T234054
CREATED:20250107T143549Z
LAST-MODIFIED:20250107T143549Z
UID:20618-1736604000-1736618400@oakcitybrewingcompany.com
SUMMARY:Blood Drive
DESCRIPTION:It’s in your blood to save lives ????\n.\nEvery drop counts\, come donate blood with @thebloodconnection & receive $40 in rewards!\n.\nSign up here: https://donate.thebloodconnection.org/donor/schedules/drive_schedule/225261
URL:https://oakcitybrewingcompany.com/event/blood-drive-10/
CATEGORIES:Events
END:VEVENT
BEGIN:VEVENT
DTSTART;TZID=America/Halifax:20250111T113000
DTEND;TZID=America/Halifax:20250111T123000
DTSTAMP:20260419T234054
CREATED:20230622T143640Z
LAST-MODIFIED:20241227T170559Z
UID:20445-1736595000-1736598600@oakcitybrewingcompany.com
SUMMARY:Beer Run
DESCRIPTION:Join us for a 1.5\, 3\, or 5 mile run or walk through downtown Knightdale\, Knightdale Station Park\, Mingo Creek Trail\, and other areas and landmarks that make our town special with our run club. \nLearn more here: https://oakcitybrewingcompany.com/run-club/ \nRun club meets up at 6:30 pm every Wednesday or 11:30 am every Saturday\, cheers! \n 
URL:https://oakcitybrewingcompany.com/event/beer-run-2-2024-12-21-2025-01-11/
CATEGORIES:Brewery Events,Weekly Events
ATTACH;FMTTYPE=image/png:https://oakcitybrewingcompany.com/wp-content/uploads/2023/06/Screen-Shot-2023-06-22-at-10.25.57-AM.png
END:VEVENT
BEGIN:VEVENT
DTSTART;VALUE=DATE:20250110
DTEND;VALUE=DATE:20250111
DTSTAMP:20260419T234054
CREATED:20250110T170617Z
LAST-MODIFIED:20250110T170617Z
UID:20681-1736467200-1736553599@oakcitybrewingcompany.com
SUMMARY:Closed Today Due To The Winter Weather Advisory!
DESCRIPTION:ATTN: We are closed today due to the winter weather advisory!\n.\nStay warm and we’ll see you soon\, cheers!
URL:https://oakcitybrewingcompany.com/event/closed-today-due-to-the-winter-weather-advisory/
CATEGORIES:Brewery Events
END:VEVENT
BEGIN:VEVENT
DTSTART;TZID=America/Halifax:20250109T173000
DTEND;TZID=America/Halifax:20250109T203000
DTSTAMP:20260419T234054
CREATED:20241227T161236Z
LAST-MODIFIED:20241227T161541Z
UID:20170-1736443800-1736454600@oakcitybrewingcompany.com
SUMMARY:Not Just A Fry Guy
DESCRIPTION:Gourmet\, Loaded\, Fresh Cut Fries. Homemade sauces made w/ fresh ingredients! The whole truck is Gluten Free!
URL:https://oakcitybrewingcompany.com/event/not-just-a-fry-guy-2/
CATEGORIES:Food Trucks
ATTACH;FMTTYPE=image/png:https://oakcitybrewingcompany.com/wp-content/uploads/2024/12/Screenshot-2024-12-27-at-11.14.31-AM.png
END:VEVENT
BEGIN:VEVENT
DTSTART;TZID=America/Halifax:20250108T183000
DTEND;TZID=America/Halifax:20250108T193000
DTSTAMP:20260419T234054
CREATED:20230622T143255Z
LAST-MODIFIED:20241227T165807Z
UID:18723-1736361000-1736364600@oakcitybrewingcompany.com
SUMMARY:Beer Run
DESCRIPTION:Join us for a 1.5\, 3\, or 5 mile run or walk through downtown Knightdale\, Knightdale Station Park\, Mingo Creek Trail\, and other areas and landmarks that make our town special with our run club. \nLearn more here: https://oakcitybrewingcompany.com/run-club/ \nRun club meets up at 6:30 pm every Wednesday or 11:30 am every Saturday\, cheers!
URL:https://oakcitybrewingcompany.com/event/beer-run-2024-12-11/
CATEGORIES:Brewery Events,Weekly Events
ATTACH;FMTTYPE=image/png:https://oakcitybrewingcompany.com/wp-content/uploads/2023/06/Screen-Shot-2023-06-22-at-10.25.57-AM.png
END:VEVENT
BEGIN:VEVENT
DTSTART;TZID=America/Halifax:20250108T173000
DTEND;TZID=America/Halifax:20250108T203000
DTSTAMP:20260419T234054
CREATED:20241227T160638Z
LAST-MODIFIED:20241227T162328Z
UID:20112-1736357400-1736368200@oakcitybrewingcompany.com
SUMMARY:The Tasty Turkey Que
DESCRIPTION:The Tasty Turkey-Que is famous for its chopped and seasoned turkey barbecue.
URL:https://oakcitybrewingcompany.com/event/the-tasty-turkey-que-2/
CATEGORIES:Food Trucks
ATTACH;FMTTYPE=image/jpeg:https://oakcitybrewingcompany.com/wp-content/uploads/2022/09/216927439_236514948306576_2229485138571803795_n.jpg
END:VEVENT
BEGIN:VEVENT
DTSTART;TZID=America/Halifax:20250107T170000
DTEND;TZID=America/Halifax:20250107T200000
DTSTAMP:20260419T234054
CREATED:20241227T155905Z
LAST-MODIFIED:20241227T160921Z
UID:20109-1736269200-1736280000@oakcitybrewingcompany.com
SUMMARY:Copperhead's Craft Burgers
DESCRIPTION:Serving up uniquely crafted burgers!
URL:https://oakcitybrewingcompany.com/event/copperheads-craft-burgers-2/
CATEGORIES:Food Trucks
ATTACH;FMTTYPE=image/png:https://oakcitybrewingcompany.com/wp-content/uploads/2024/12/Screenshot-2024-12-27-at-10.57.34-AM.png
END:VEVENT
BEGIN:VEVENT
DTSTART;TZID=America/Halifax:20250107T150000
DTEND;TZID=America/Halifax:20250107T220000
DTSTAMP:20260419T234054
CREATED:20241227T170528Z
LAST-MODIFIED:20241227T170528Z
UID:20504-1736262000-1736287200@oakcitybrewingcompany.com
SUMMARY:Pint Night
DESCRIPTION:$1 off pints every Tuesday here at Oak City!
URL:https://oakcitybrewingcompany.com/event/pint-night-50/
CATEGORIES:Brewery Events,Events
END:VEVENT
BEGIN:VEVENT
DTSTART;VALUE=DATE:20250106
DTEND;VALUE=DATE:20250107
DTSTAMP:20260419T234054
CREATED:20241227T170652Z
LAST-MODIFIED:20241227T170652Z
UID:20596-1736121600-1736207999@oakcitybrewingcompany.com
SUMMARY:No Food Truck - BYOF
DESCRIPTION:
URL:https://oakcitybrewingcompany.com/event/no-food-truck-byof-30/
CATEGORIES:Food Trucks
END:VEVENT
BEGIN:VEVENT
DTSTART;TZID=America/Halifax:20250105T120000
DTEND;TZID=America/Halifax:20250105T180000
DTSTAMP:20260419T234054
CREATED:20241227T165616Z
LAST-MODIFIED:20241227T165616Z
UID:20390-1736078400-1736100000@oakcitybrewingcompany.com
SUMMARY:St. Vicent Spanish Cuisine
DESCRIPTION:
URL:https://oakcitybrewingcompany.com/event/st-vicent-spanish-cuisine/
CATEGORIES:Food Trucks
END:VEVENT
BEGIN:VEVENT
DTSTART;TZID=America/Halifax:20250104T120000
DTEND;TZID=America/Halifax:20250104T200000
DTSTAMP:20260419T234054
CREATED:20241227T162024Z
LAST-MODIFIED:20241227T162024Z
UID:20206-1735992000-1736020800@oakcitybrewingcompany.com
SUMMARY:Caribbean Kicker\, The Naked Empanada & Not Just Icing
DESCRIPTION:
URL:https://oakcitybrewingcompany.com/event/caribbean-kicker-the-naked-empanada-not-just-icing/
CATEGORIES:Food Trucks
END:VEVENT
BEGIN:VEVENT
DTSTART;TZID=America/Halifax:20250104T120000
DTEND;TZID=America/Halifax:20250104T200000
DTSTAMP:20260419T234054
CREATED:20241206T181254Z
LAST-MODIFIED:20241206T181254Z
UID:20065-1735992000-1736020800@oakcitybrewingcompany.com
SUMMARY:9th Anniversary Party & Bonfire
DESCRIPTION:Cheers to 9 Years of Oak City! \n\n\n\nMark your calendars and join us on Saturday\, January 4\, 2025\, to celebrate the 9th Anniversary of Oak City! Enjoy a full day packed with great beer + a new release\, live music from start to finish\, glassware giveaways\, and delicious food trucks.\n\n\n\nBe one of the first 250 people to purchase a beer and receive a ticket to redeem a FREE limited-edition anniversary glass (while supplies last).\nGlasses can be redeemed at the Oak City Beer Tent—one per person\, ticket required.\n\n\n\nThe Giant Bonfire Returns!\nGather around our massive bonfire to keep the winter vibes warm and cozy. Bring your fold-out chairs and blankets for the lawn!\n\n\n\nLive Music Lineup:\nProton Jones from 12–3 PM\nCoddle Creek from 3–6 PM\nSterling Scott Duo from 6–8 PM\n\n\n\nFood Trucks (12–8 PM):\nCaribbean Kicker\nNot Just Icing\nNaked Empanada\n\n\n\nCheers to nine awesome years and many more to come!
URL:https://oakcitybrewingcompany.com/event/9th-anniversary-party-bonfire/
CATEGORIES:Brewery Events,Events,Weekly Events
ATTACH;FMTTYPE=image/png:https://oakcitybrewingcompany.com/wp-content/uploads/2024/12/9-Year-Anniversary-Event.png
END:VEVENT
BEGIN:VEVENT
DTSTART;TZID=America/Halifax:20250103T173000
DTEND;TZID=America/Halifax:20250103T203000
DTSTAMP:20260419T234054
CREATED:20241227T155550Z
LAST-MODIFIED:20241227T160732Z
UID:20106-1735925400-1735936200@oakcitybrewingcompany.com
SUMMARY:The Flat Drum
DESCRIPTION:Unique wings and chicken sandwiches. ALL sauces are made from scratch.
URL:https://oakcitybrewingcompany.com/event/the-flat-drum-4/
CATEGORIES:Food Trucks
ATTACH;FMTTYPE=image/png:https://oakcitybrewingcompany.com/wp-content/uploads/2024/12/Screenshot-2024-12-27-at-10.53.03-AM.png
END:VEVENT
BEGIN:VEVENT
DTSTART;TZID=America/Halifax:20250102T173000
DTEND;TZID=America/Halifax:20250102T203000
DTSTAMP:20260419T234054
CREATED:20241227T155130Z
LAST-MODIFIED:20241227T155130Z
UID:20093-1735839000-1735849800@oakcitybrewingcompany.com
SUMMARY:La Katrina Tacos
DESCRIPTION:Mexican street food.
URL:https://oakcitybrewingcompany.com/event/la-katrina-tacos/
CATEGORIES:Food Trucks
ATTACH;FMTTYPE=image/png:https://oakcitybrewingcompany.com/wp-content/uploads/2024/12/Screenshot-2024-12-27-at-10.50.09-AM.png
END:VEVENT
BEGIN:VEVENT
DTSTART;TZID=America/Halifax:20250101T080000
DTEND;TZID=America/Halifax:20250101T170000
DTSTAMP:20260419T234054
CREATED:20241210T182311Z
LAST-MODIFIED:20241210T182330Z
UID:20083-1735718400-1735750800@oakcitybrewingcompany.com
SUMMARY:Closed For New Year's Day
DESCRIPTION:
URL:https://oakcitybrewingcompany.com/event/closed-for-new-years-day-2/
CATEGORIES:Weekly Events
ATTACH;FMTTYPE=image/png:https://oakcitybrewingcompany.com/wp-content/uploads/2024/12/17.png
END:VEVENT
BEGIN:VEVENT
DTSTART;TZID=America/Halifax:20241231T173000
DTEND;TZID=America/Halifax:20241231T203000
DTSTAMP:20260419T234054
CREATED:20241201T211436Z
LAST-MODIFIED:20241201T211505Z
UID:20062-1735666200-1735677000@oakcitybrewingcompany.com
SUMMARY:Time Warp NYE Party
DESCRIPTION:Our time warp NYE party is BACK with our annual keg drop and all! .The countdown and keg drop will take place at 8 PM with a FREE champagne toast and sparking cider for the kids. This is a kid-friendly event!.We’ll have live music\, food trucks\, and face painting for the kiddos..The taproom will be open from 2 PM until 10 PM.
URL:https://oakcitybrewingcompany.com/event/time-warp-nye-party-4/
CATEGORIES:Brewery Events,Events,Weekly Events
ATTACH;FMTTYPE=image/png:https://oakcitybrewingcompany.com/wp-content/uploads/2024/12/New-Years-Eve-.png
END:VEVENT
BEGIN:VEVENT
DTSTART;TZID=America/Halifax:20241231T173000
DTEND;TZID=America/Halifax:20241231T203000
DTSTAMP:20260419T234054
CREATED:20210127T193129Z
LAST-MODIFIED:20241227T170315Z
UID:19707-1735666200-1735677000@oakcitybrewingcompany.com
SUMMARY:La Katrina Tacos & Sprinkled With Love Cakery
DESCRIPTION:
URL:https://oakcitybrewingcompany.com/event/umami-2021-12-11-2024-12-31/
CATEGORIES:Food Trucks
END:VEVENT
BEGIN:VEVENT
DTSTART;VALUE=DATE:20241231
DTEND;VALUE=DATE:20250101
DTSTAMP:20260419T234054
CREATED:20241227T175335Z
LAST-MODIFIED:20241227T180637Z
UID:20616-1735603200-1735689599@oakcitybrewingcompany.com
SUMMARY:New Year's Eve Hours: 2-10 PM
DESCRIPTION:
URL:https://oakcitybrewingcompany.com/event/new-years-eve-hours-2-10-pm/
ATTACH;FMTTYPE=image/png:https://oakcitybrewingcompany.com/wp-content/uploads/2024/12/17.png
END:VEVENT
BEGIN:VEVENT
DTSTART;TZID=America/Halifax:20241230T170000
DTEND;TZID=America/Halifax:20241230T200000
DTSTAMP:20260419T234054
CREATED:20241227T170148Z
LAST-MODIFIED:20241227T170247Z
UID:20499-1735578000-1735588800@oakcitybrewingcompany.com
SUMMARY:Scale Boyz
DESCRIPTION:Fish & Chips
URL:https://oakcitybrewingcompany.com/event/scale-boyz/
CATEGORIES:Food Trucks
END:VEVENT
BEGIN:VEVENT
DTSTART;TZID=America/Halifax:20241229T140000
DTEND;TZID=America/Halifax:20241229T180000
DTSTAMP:20260419T234054
CREATED:20241022T163933Z
LAST-MODIFIED:20241022T163933Z
UID:20077-1735480800-1735495200@oakcitybrewingcompany.com
SUMMARY:Soul's Kitchen
DESCRIPTION:Their truck is actually a bus converted into a “food truck.” They bring traditional goodness with a vegan spin to all foodies.
URL:https://oakcitybrewingcompany.com/event/souls-kitchen-2-2024-11-23-2024-12-29/
CATEGORIES:Food Trucks
ATTACH;FMTTYPE=image/png:https://oakcitybrewingcompany.com/wp-content/uploads/2023/04/Screen-Shot-2023-04-24-at-8.10.35-AM.png
END:VEVENT
BEGIN:VEVENT
DTSTART;TZID=America/Halifax:20241228T160000
DTEND;TZID=America/Halifax:20241228T210000
DTSTAMP:20260419T234054
CREATED:20220816T114537Z
LAST-MODIFIED:20241111T140008Z
UID:19149-1735401600-1735419600@oakcitybrewingcompany.com
SUMMARY:Bertos Chimis
DESCRIPTION:What is a chimi? A Chimi is a sauce-dripping hamburger served throughout the streets of Dominican Republic. An iconic sandwich served from lunch till late night\, that will satisfy your tastebuds day in\, day out.
URL:https://oakcitybrewingcompany.com/event/bertos-chimis-2-2024-12-28/
CATEGORIES:Food Trucks
ATTACH;FMTTYPE=image/jpeg:https://oakcitybrewingcompany.com/wp-content/uploads/2022/08/131890676_207085377570891_5623458210479334688_n.jpg
END:VEVENT
BEGIN:VEVENT
DTSTART;TZID=America/Halifax:20241228T120000
DTEND;TZID=America/Halifax:20241228T150000
DTSTAMP:20260419T234054
CREATED:20230116T152102Z
LAST-MODIFIED:20230116T152102Z
UID:19320-1735387200-1735398000@oakcitybrewingcompany.com
SUMMARY:Atlas Nomads
DESCRIPTION:Atlas Nomads is a Mediterranean food truck. The name of Atlas Nomads is inspired by people traveling from place to place in Morocco’s Atlas Mountains\, searching for pasture and food. Our food is made with fresh produce and halal meat.
URL:https://oakcitybrewingcompany.com/event/atlas-nomads-2-2024-12-28/
CATEGORIES:Food Trucks
ATTACH;FMTTYPE=image/png:https://oakcitybrewingcompany.com/wp-content/uploads/2023/01/Screen-Shot-2023-01-14-at-9.58.18-AM.png
END:VEVENT
BEGIN:VEVENT
DTSTART;TZID=America/Halifax:20241228T113000
DTEND;TZID=America/Halifax:20241228T123000
DTSTAMP:20260419T234054
CREATED:20230622T143640Z
LAST-MODIFIED:20230622T143640Z
UID:18647-1735385400-1735389000@oakcitybrewingcompany.com
SUMMARY:Beer Run
DESCRIPTION:Join us for a 1.5\, 3\, or 5 mile run or walk through downtown Knightdale\, Knightdale Station Park\, Mingo Creek Trail\, and other areas and landmarks that make our town special with our run club. \nLearn more here: https://oakcitybrewingcompany.com/run-club/ \nRun club meets up at 6:30 pm every Wednesday or 11:30 am every Saturday\, cheers! \n 
URL:https://oakcitybrewingcompany.com/event/beer-run-2-2024-12-28/
CATEGORIES:Brewery Events,Weekly Events
ATTACH;FMTTYPE=image/png:https://oakcitybrewingcompany.com/wp-content/uploads/2023/06/Screen-Shot-2023-06-22-at-10.25.57-AM.png
END:VEVENT
BEGIN:VEVENT
DTSTART;TZID=America/Halifax:20241227T173000
DTEND;TZID=America/Halifax:20241227T203000
DTSTAMP:20260419T234054
CREATED:20220824T113326Z
LAST-MODIFIED:20240425T161254Z
UID:18910-1735320600-1735331400@oakcitybrewingcompany.com
SUMMARY:Chick-N-Que
DESCRIPTION:The best Eastern style BBQ NC has to offer. We also serve 100% NC raised ostrich burgers along with mouth watering sides. Chick-N-Que is a multi mobile food truck & catering business serving Wake County and surrounding areas. With our guarded family recipe\, Chick-N-Que has a unique\, savory taste that stands out as some of the best barbecue around.
URL:https://oakcitybrewingcompany.com/event/chick-n-que-52-2023-01-27-2023-12-18-2024-12-27/
CATEGORIES:Food Trucks
ATTACH;FMTTYPE=image/jpeg:https://oakcitybrewingcompany.com/wp-content/uploads/2019/10/40683703_1781242268659131_3875899713362329600_n.jpg
END:VEVENT
BEGIN:VEVENT
DTSTART;TZID=America/Halifax:20241226T173000
DTEND;TZID=America/Halifax:20241226T203000
DTSTAMP:20260419T234054
CREATED:20220816T160505Z
LAST-MODIFIED:20220816T160505Z
UID:18993-1735234200-1735245000@oakcitybrewingcompany.com
SUMMARY:Tacos Neza
DESCRIPTION:
URL:https://oakcitybrewingcompany.com/event/tacos-neza-4-2024-12-26/
CATEGORIES:Food Trucks
ATTACH;FMTTYPE=image/jpeg:https://oakcitybrewingcompany.com/wp-content/uploads/2022/08/288475272_543179494124910_8462946235973782313_n.jpg
END:VEVENT
BEGIN:VEVENT
DTSTART;VALUE=DATE:20241225
DTEND;VALUE=DATE:20241226
DTSTAMP:20260419T234054
CREATED:20241201T211245Z
LAST-MODIFIED:20241201T211245Z
UID:20056-1735084800-1735171199@oakcitybrewingcompany.com
SUMMARY:Closed for Christmas
DESCRIPTION:
URL:https://oakcitybrewingcompany.com/event/closed-for-christmas-4/
CATEGORIES:Weekly Events
ATTACH;FMTTYPE=image/png:https://oakcitybrewingcompany.com/wp-content/uploads/2024/12/17.png
END:VEVENT
BEGIN:VEVENT
DTSTART;TZID=America/Halifax:20241224T133000
DTEND;TZID=America/Halifax:20241224T170000
DTSTAMP:20260419T234054
CREATED:20241210T182054Z
LAST-MODIFIED:20241210T182215Z
UID:20079-1735047000-1735059600@oakcitybrewingcompany.com
SUMMARY:That's A Goood Burger!
DESCRIPTION:
URL:https://oakcitybrewingcompany.com/event/thats-a-goood-burger/
CATEGORIES:Food Trucks
END:VEVENT
END:VCALENDAR