BEGIN:VCALENDAR
VERSION:2.0
PRODID:-//Oak City Brewing Company - ECPv6.15.20//NONSGML v1.0//EN
CALSCALE:GREGORIAN
METHOD:PUBLISH
X-WR-CALNAME:Oak City Brewing Company
X-ORIGINAL-URL:https://oakcitybrewingcompany.com
X-WR-CALDESC:Events for Oak City Brewing Company
REFRESH-INTERVAL;VALUE=DURATION:PT1H
X-Robots-Tag:noindex
X-PUBLISHED-TTL:PT1H
BEGIN:VTIMEZONE
TZID:America/Halifax
BEGIN:DAYLIGHT
TZOFFSETFROM:-0400
TZOFFSETTO:-0300
TZNAME:ADT
DTSTART:20250309T060000
END:DAYLIGHT
BEGIN:STANDARD
TZOFFSETFROM:-0300
TZOFFSETTO:-0400
TZNAME:AST
DTSTART:20251102T050000
END:STANDARD
BEGIN:DAYLIGHT
TZOFFSETFROM:-0400
TZOFFSETTO:-0300
TZNAME:ADT
DTSTART:20260308T060000
END:DAYLIGHT
BEGIN:STANDARD
TZOFFSETFROM:-0300
TZOFFSETTO:-0400
TZNAME:AST
DTSTART:20261101T050000
END:STANDARD
BEGIN:DAYLIGHT
TZOFFSETFROM:-0400
TZOFFSETTO:-0300
TZNAME:ADT
DTSTART:20270314T060000
END:DAYLIGHT
BEGIN:STANDARD
TZOFFSETFROM:-0300
TZOFFSETTO:-0400
TZNAME:AST
DTSTART:20271107T050000
END:STANDARD
END:VTIMEZONE
BEGIN:VEVENT
DTSTART;TZID=America/Halifax:20260421T170000
DTEND;TZID=America/Halifax:20260421T200000
DTSTAMP:20260421T073838
CREATED:20260417T162252Z
LAST-MODIFIED:20260417T162252Z
UID:21914-1776790800-1776801600@oakcitybrewingcompany.com
SUMMARY:All On Top Dogs
DESCRIPTION:
URL:https://oakcitybrewingcompany.com/event/all-on-top-dogs/
END:VEVENT
BEGIN:VEVENT
DTSTART;TZID=America/Halifax:20260422T173000
DTEND;TZID=America/Halifax:20260422T203000
DTSTAMP:20260421T073838
CREATED:20260318T153810Z
LAST-MODIFIED:20260318T153810Z
UID:21850-1776879000-1776889800@oakcitybrewingcompany.com
SUMMARY:Bulkogi
DESCRIPTION:
URL:https://oakcitybrewingcompany.com/event/bulkogi-18/
CATEGORIES:Food Trucks
END:VEVENT
BEGIN:VEVENT
DTSTART;TZID=America/Halifax:20260423T173000
DTEND;TZID=America/Halifax:20260423T203000
DTSTAMP:20260421T073838
CREATED:20260318T153831Z
LAST-MODIFIED:20260318T153831Z
UID:21851-1776965400-1776976200@oakcitybrewingcompany.com
SUMMARY:De pana Flavor's
DESCRIPTION:
URL:https://oakcitybrewingcompany.com/event/de-pana-flavors-5/
CATEGORIES:Food Trucks
END:VEVENT
BEGIN:VEVENT
DTSTART;TZID=America/Halifax:20260423T180000
DTEND;TZID=America/Halifax:20260423T200000
DTSTAMP:20260421T073838
CREATED:20260420T155614Z
LAST-MODIFIED:20260420T155615Z
UID:21999-1776967200-1776974400@oakcitybrewingcompany.com
SUMMARY:Soap Making Workshop w/ Hand the Light
DESCRIPTION:Unwind\, sip\, and get creative at our Refreshing Sip\, Socialize & Create Goat Milk Soap-Making Workshop hosted at Oak City Brewing Company! Whether you’re planning a fun night out with friends\, a casual date night\, or simply looking for a relaxing hands-on experience\, this laid-back workshop is the perfect way to spend your evening.\n Workshop Date:• Thursday\, April 23 – 6:00 PM – 8:00 PM\n\n What You’ll CreateEach ticket includes the opportunity to craft luxurious goat milk soap bars using nourishing\, skin-loving ingredients.During the workshop\, you’ll:• Choose from a curated fragrance bar• Add botanicals and decorative elements• Learn the basics of melt-and-pour soap making• Pour and customize your own batch of handcrafted soapsYou’ll leave with multiple handmade goat milk soap bars perfect for personal use or gifting.\n\n Tickets: https://www.eventbrite.com/e/sip-create-goat-milk-soap-making-workshop-at-oak-city-brewing-company-tickets-1984581954048?aff=oddtdtcreator&fbclid=IwY2xjawRTK4tleHRuA2FlbQIxMABicmlkETFSREpzeW1KNFR6YUZwUGVyc3J0YwZhcHBfaWQQMjIyMDM5MTc4ODIwMDg5MgABHk7JBbUey4-NsGrNyJ2QOSAc_grEYQloXRvnfhtKc5imDiSkRfvSTJjdXgCB_aem_bHGNJucG6AO37O1HzFAoxw• $35 – single soap bars• $42 – two soap bars• Tons of molds available!(All tickets subject to Eventbrite fees)\n\n What’s Included• Goat milk soap base and all soap-making materials• Fragrance oils and botanical add-ins• Step-by-step guidance throughout the workshop• A refreshing\, social atmosphere• Handmade soap bars to take home\n\n About the Location: Oak City Brewing CompanyOak City Brewing Company is a beloved local brewery known for its welcoming atmosphere\, craft beer selection\, and strong community vibe. With a comfortable taproom and relaxed setting\, it’s a favorite gathering spot for locals and visitors alike.The lively brewery environment creates the perfect backdrop for an evening of refreshing sipping\, socializing\, and creative soap-making.\n Sip While You CreateEnjoy craft beer and beverages available for purchase directly from Oak City Brewing Company while you create. Great drinks\, good company\, and hands-on creativity make this a perfect evening out.\n Hosted by Hand.The.LightHand.The.Light brings communities together through immersive workshops designed to inspire creativity\, mindfulness\, and connection.\n Family-FriendlyChildren are welcome when accompanied by an adult.\n\n Please Note• Guests are welcome to purchase beverages directly from Oak City Brewing Company• Workshop runs approximately 2 hours• Refunds available up to 7 days before the event• Maximum 20-minute late arrival window• Each attendee must purchase their own ticket (no ticket sharing)\n\n Grab a drink\, gather your friends\, and join us for a refreshing night of creativity at Oak City Brewing Company.Spots are limited—reserve yours today and come Sip\, Socialize & Create! 
URL:https://oakcitybrewingcompany.com/event/soap-making-workshop-w-hand-the-light/
ATTACH;FMTTYPE=image/png:https://oakcitybrewingcompany.com/wp-content/uploads/2026/04/Screenshot-2026-04-20-at-11.55.39-AM.png
END:VEVENT
BEGIN:VEVENT
DTSTART;TZID=America/Halifax:20260424T173000
DTEND;TZID=America/Halifax:20260424T203000
DTSTAMP:20260421T073838
CREATED:20260318T153903Z
LAST-MODIFIED:20260318T153903Z
UID:21856-1777051800-1777062600@oakcitybrewingcompany.com
SUMMARY:Chick-N-Que
DESCRIPTION:
URL:https://oakcitybrewingcompany.com/event/chick-n-que-58/
CATEGORIES:Food Trucks
END:VEVENT
BEGIN:VEVENT
DTSTART;TZID=America/Halifax:20260425T150000
DTEND;TZID=America/Halifax:20260425T200000
DTSTAMP:20260421T073838
CREATED:20260417T162321Z
LAST-MODIFIED:20260417T162321Z
UID:21916-1777129200-1777147200@oakcitybrewingcompany.com
SUMMARY:Death by Taco
DESCRIPTION:
URL:https://oakcitybrewingcompany.com/event/death-by-taco-2/
END:VEVENT
BEGIN:VEVENT
DTSTART;TZID=America/Halifax:20260425T170000
DTEND;TZID=America/Halifax:20260425T200000
DTSTAMP:20260421T073838
CREATED:20260319T153728Z
LAST-MODIFIED:20260319T153729Z
UID:21881-1777136400-1777147200@oakcitybrewingcompany.com
SUMMARY:Live Music on the Patio
DESCRIPTION:Kick back on a warm spring night under the patio lights and enjoy live music with us. \nSaturday\, April 25th Music: Zach Burrus from 5-8 PM \nCome kick back with friends for a laid-back night of good tunes and great company.
URL:https://oakcitybrewingcompany.com/event/live-music-on-the-patio-3/
ATTACH;FMTTYPE=image/png:https://oakcitybrewingcompany.com/wp-content/uploads/2026/03/Live-Music-on-the-Patio.png
END:VEVENT
BEGIN:VEVENT
DTSTART;TZID=America/Halifax:20260426T140000
DTEND;TZID=America/Halifax:20260426T180000
DTSTAMP:20260421T073838
CREATED:20260318T153921Z
LAST-MODIFIED:20260318T153921Z
UID:21857-1777212000-1777226400@oakcitybrewingcompany.com
SUMMARY:Warehouse BBQ
DESCRIPTION:
URL:https://oakcitybrewingcompany.com/event/warehouse-bbq-11/
CATEGORIES:Food Trucks
END:VEVENT
BEGIN:VEVENT
DTSTART;TZID=America/Halifax:20260428T170000
DTEND;TZID=America/Halifax:20260428T200000
DTSTAMP:20260421T073838
CREATED:20260318T155847Z
LAST-MODIFIED:20260318T155847Z
UID:21872-1777395600-1777406400@oakcitybrewingcompany.com
SUMMARY:Moonrunners
DESCRIPTION:
URL:https://oakcitybrewingcompany.com/event/moonrunners-8/
CATEGORIES:Food Trucks
END:VEVENT
BEGIN:VEVENT
DTSTART;TZID=America/Halifax:20260429T173000
DTEND;TZID=America/Halifax:20260429T203000
DTSTAMP:20260421T073838
CREATED:20260318T153946Z
LAST-MODIFIED:20260318T153946Z
UID:21862-1777483800-1777494600@oakcitybrewingcompany.com
SUMMARY:Jolly Sandwich Company
DESCRIPTION:
URL:https://oakcitybrewingcompany.com/event/jolly-sandwich-company-4/
CATEGORIES:Food Trucks
END:VEVENT
BEGIN:VEVENT
DTSTART;TZID=America/Halifax:20260430T173000
DTEND;TZID=America/Halifax:20260430T203000
DTSTAMP:20260421T073838
CREATED:20260318T154008Z
LAST-MODIFIED:20260318T154008Z
UID:21859-1777570200-1777581000@oakcitybrewingcompany.com
SUMMARY:The Blue Window
DESCRIPTION:
URL:https://oakcitybrewingcompany.com/event/the-blue-window-3/
CATEGORIES:Food Trucks
END:VEVENT
BEGIN:VEVENT
DTSTART;TZID=America/Halifax:20260430T180000
DTEND;TZID=America/Halifax:20260430T193000
DTSTAMP:20260421T073838
CREATED:20260420T155827Z
LAST-MODIFIED:20260420T155827Z
UID:22002-1777572000-1777577400@oakcitybrewingcompany.com
SUMMARY:Pottery Painting Workshop w/ Cozy Panda Event Co
DESCRIPTION:Get ready to unleash your creativity at our self-guided pottery painting workshop\, perfect for all ages and skill levels. Whether you’re coming solo\, with friends\, or bringing the whole family\, you’re guaranteed a cozy experience! \n\nAt the start of the workshop\, you’ll choose from a variety of ceramic pieces. Think animals\, photo holders\, trinket dishes\, and more. We provide everything you need\, including paint and brushes – just bring your imagination! \n\nTickets: https://www.eventbrite.com/e/pottery-painting-workshop-tickets-1987571269170?aff=oddtdtcreator&keep_tld=true&fbclid=IwY2xjawRTLCFleHRuA2FlbQIxMABicmlkETFkT3hBeHJKSDBvbEFrUG9xc3J0YwZhcHBfaWQQMjIyMDM5MTc4ODIwMDg5MgABHs6AJDdeKm8wrVrWcPGtmwIvb-NBsqbg3uxlte-XtSzs34LILeW99JaYYQ8p_aem_JRNIzMEF-V2R_E829ZWUvwYour CeramicAll Painting MaterialsEndless Creativity & Fun\n\nThis 90-minute\, self-paced session lets you create at your own speed\, with our team on hand to ofter guidance\, tips\, and a little artistic inspiration whenever you need it. You’ll leave with a one-of-a-kind\, hand-painted masterpiece to take home and enjoy! \n\n-The Cozy Panda Team Co 
URL:https://oakcitybrewingcompany.com/event/pottery-painting-workshop-w-cozy-panda-event-co/
ATTACH;FMTTYPE=image/jpeg:https://oakcitybrewingcompany.com/wp-content/uploads/2026/04/Potterty-Painting.jpg
END:VEVENT
END:VCALENDAR